BEGIN:VCALENDAR
VERSION:2.0
PRODID:-//MENZA - ECPv6.15.20//NONSGML v1.0//EN
CALSCALE:GREGORIAN
METHOD:PUBLISH
X-WR-CALNAME:MENZA
X-ORIGINAL-URL:https://menza.co.nz
X-WR-CALDESC:Events for MENZA
REFRESH-INTERVAL;VALUE=DURATION:PT1H
X-Robots-Tag:noindex
X-PUBLISHED-TTL:PT1H
BEGIN:VTIMEZONE
TZID:UTC
BEGIN:STANDARD
TZOFFSETFROM:+0000
TZOFFSETTO:+0000
TZNAME:UTC
DTSTART:20200101T000000
END:STANDARD
END:VTIMEZONE
BEGIN:VEVENT
DTSTART;VALUE=DATE:20210705
DTEND;VALUE=DATE:20210710
DTSTAMP:20260422T075244
CREATED:20210520T125229Z
LAST-MODIFIED:20210520T125638Z
UID:168502-1625443200-1625875199@menza.co.nz
SUMMARY:Vivaldi's The Four Seasons
DESCRIPTION:Fusing the classical and contemporary\, actors will perform an original physical theatre piece set against Vivaldi’s renowned The Four Seasons performed by a live string quartet. In collaboration with the Auckland Philharmonia Orchestra and UNITEC\, we’re proud to be showcasing the up-and-coming talent of Tāmaki Makaurau by featuring APO Aspiring Musicians and UNITEC third year acting students. \nYour children will be mesmerised by the sights and sounds of a live quartet\nalong with the clever\, dynamic storytelling driven by the beauty of this much-loved classical music piece. \nOur shows are created with children’s literature at heart and are complimented by a comprehensive two-part Teachers’ Resource Guide (sample) packed with pre and post show cross-curricular activities and learning outcomes. \nTo book\, or for more information\, click here. \nVivaldi’s The Four Seasons in collaboration with APO and UNITEC \nEducation Season: 5- 9 July 2021 \nAdapted for the stage by Tim Bray \nMusic by Antonio Vivaldi \nCreated for Ages: 3-10 \nShow Run Time: 45 mins
URL:https://menza.co.nz/event/vivaldis-the-four-seasons/
LOCATION:Pumphouse Theatre\, 2a Manurere Avenue\, Takapuna\, Auckland\, 0622\, New Zealand
CATEGORIES:Auckland and Northland
ATTACH;FMTTYPE=image/jpeg:https://menza.co.nz/wp-content/uploads/2021/05/4Seasons-A6_Flyer-99x148mm.jpg
ORGANIZER;CN="Tim Bray Theatre Company":MAILTO:info@timbray.org.nz
END:VEVENT
END:VCALENDAR