BEGIN:VCALENDAR
VERSION:2.0
PRODID:-//MENZA - ECPv6.15.20//NONSGML v1.0//EN
CALSCALE:GREGORIAN
METHOD:PUBLISH
X-WR-CALNAME:MENZA
X-ORIGINAL-URL:https://menza.co.nz
X-WR-CALDESC:Events for MENZA
REFRESH-INTERVAL;VALUE=DURATION:PT1H
X-Robots-Tag:noindex
X-PUBLISHED-TTL:PT1H
BEGIN:VTIMEZONE
TZID:UTC
BEGIN:STANDARD
TZOFFSETFROM:+0000
TZOFFSETTO:+0000
TZNAME:UTC
DTSTART:20200101T000000
END:STANDARD
END:VTIMEZONE
BEGIN:VEVENT
DTSTART;TZID=UTC:20211010T190000
DTEND;TZID=UTC:20211010T200000
DTSTAMP:20260422T135147
CREATED:20211005T122807Z
LAST-MODIFIED:20211010T095502Z
UID:168659-1633892400-1633896000@menza.co.nz
SUMMARY:MENZA Conference Online: Secondary Music Educator's Hui
DESCRIPTION:A General Hui for Secondary School Music Teachers hosted by Ben Lau\, Chair of MENZA\, and Kat Daniela\, Deputy Chair of MENZA. \nAn opportunity to share resources\, network and discuss issues and strategic direction in your teaching. \nThe hui is free and you don’t have to be a MENZA member. It will be held online via ZOOM link. Please register here to receive the ZOOM link. ‘See’ you there!
URL:https://menza.co.nz/event/menza-conference-online-secondary-music-educators-hui/
CATEGORIES:National
ATTACH;FMTTYPE=image/jpeg:https://menza.co.nz/wp-content/uploads/2021/10/Copy-of-MENZA-conference-ad.jpg
END:VEVENT
END:VCALENDAR