BEGIN:VCALENDAR
VERSION:2.0
PRODID:-//MENZA - ECPv6.15.20//NONSGML v1.0//EN
CALSCALE:GREGORIAN
METHOD:PUBLISH
X-WR-CALNAME:MENZA
X-ORIGINAL-URL:https://menza.co.nz
X-WR-CALDESC:Events for MENZA
REFRESH-INTERVAL;VALUE=DURATION:PT1H
X-Robots-Tag:noindex
X-PUBLISHED-TTL:PT1H
BEGIN:VTIMEZONE
TZID:UTC
BEGIN:STANDARD
TZOFFSETFROM:+0000
TZOFFSETTO:+0000
TZNAME:UTC
DTSTART:20200101T000000
END:STANDARD
END:VTIMEZONE
BEGIN:VEVENT
DTSTART;TZID=UTC:20211011T100000
DTEND;TZID=UTC:20211011T110000
DTSTAMP:20260422T135140
CREATED:20211007T120215Z
LAST-MODIFIED:20211010T095653Z
UID:168704-1633946400-1633950000@menza.co.nz
SUMMARY:MENZA Conference Online: NCEA Changes with Matt Stenbo
DESCRIPTION:Discussion around the changes to NCEA Music facilitated by Matt Stenbo. \nThis one-hour session is free and you don’t have to be a MENZA member. Register here to get the ZOOM link to the workshop.
URL:https://menza.co.nz/event/menza-conference-online-ncea-changes-with-matt-stenbo/
CATEGORIES:National
END:VEVENT
BEGIN:VEVENT
DTSTART;TZID=UTC:20211011T130000
DTEND;TZID=UTC:20211011T143000
DTSTAMP:20260422T135140
CREATED:20211006T075923Z
LAST-MODIFIED:20211010T095727Z
UID:168680-1633957200-1633962600@menza.co.nz
SUMMARY:MENZA Conference Online: Approaches in composition and utilising sound with Dr Jeremy Mayall
DESCRIPTION:Dr Jeremy Mayall is a composer who works in multimedia formats and draws from multiple genres in creating new musical forms. In this open discussion Jeremy will talk about his approach to composition\, how different sound worlds can be utilised and how this could be used in a classroom context. \nThis workshop is free and you don’t have to be a MENZA member to join in. Please register here to get the ZOOM link for the session. \n 
URL:https://menza.co.nz/event/menza-conference-online-approaches-in-composition-and-utilising-sound-with-dr-jeremy-mayall/
CATEGORIES:National
ATTACH;FMTTYPE=image/jpeg:https://menza.co.nz/wp-content/uploads/2020/01/Turntable.jpg
END:VEVENT
BEGIN:VEVENT
DTSTART;TZID=UTC:20211011T150000
DTEND;TZID=UTC:20211011T163000
DTSTAMP:20260422T135140
CREATED:20211005T124700Z
LAST-MODIFIED:20211010T095753Z
UID:168662-1633964400-1633969800@menza.co.nz
SUMMARY:MENZA Conference Online: Piano Pedagogy in High School
DESCRIPTION:The focus of this workshop is teaching NCEA Piano Performance and teaching students who have little or no prior piano learning. \nFacilitated by Stephanie and Susan (Sue)\, this workshop is for itinerant piano teachers\, most particularly those from lower decile schools where students with this background are particularly prevalent. We will examine best practice and achievable outcomes for students coming into NCEA performance standards often without even the requisite 2-3 years of ITM piano education. We will look specifically at student-focussed repertoire that assists accelerated rather than sequential learning in piano (Anime and Game music\, youtube offerings – creating your own channel\, Fur Elise and “other top of the pops’). Then we will investigate successful methods to assist improved technique in older beginners\, non-music-readers and those with no keyboards at home\, or when on ZOOM… modelling\, using chord recognition and hand shapes. The aim of the workshop is also to build a support group for participants and a common repertoire database. \nSue and Stephanie both have many years of working in schools and particularly with Pasifika and Māori students. Keyboard & Piano are among the most presented of the instrumental standards and yet there are few exemplars (3) given by NZQA currently so we have been in touch with the moderator\, Delysse\, for advice which we would like to share. \nThis workshop is free to attend and you don’t need to be a MENZA member. Please register here to receive the ZOOM link for the session.
URL:https://menza.co.nz/event/menza-conference-online-piano-pedagogy-in-high-school/
CATEGORIES:National
ATTACH;FMTTYPE=image/jpeg:https://menza.co.nz/wp-content/uploads/2021/10/Copy-of-MENZA-event-photo.jpg
END:VEVENT
BEGIN:VEVENT
DTSTART;TZID=UTC:20211011T170000
DTEND;TZID=UTC:20211011T183000
DTSTAMP:20260422T135140
CREATED:20211009T185258Z
LAST-MODIFIED:20211010T095816Z
UID:168719-1633971600-1633977000@menza.co.nz
SUMMARY:MENZA Conference Online: Online Ear Training & Theory instruction with Tim Solly
DESCRIPTION:Powered by Auralia and Musition\, this session will explore approaches to engaging students in theory and ear training instruction within jazz\, popular and world music contexts. Presenter Tim Solly will also offer strategies for incorporating creative and composition-focused exercises within a contemporary context. \nTopics:\n– Jazz and popular music topics\n– Transcribing and analysing simple chord progressions\n– Contemporary library questions with real audio\n– Customise your own content \nThis workshop is FREE and you don’t have to be a MENZA member to participate. To obtain the ZOOM link\, please register here.
URL:https://menza.co.nz/event/menza-conference-online-online-ear-training-theory-instruction-with-tim-solly/
CATEGORIES:National
ATTACH;FMTTYPE=image/jpeg:https://menza.co.nz/wp-content/uploads/2021/02/1130_Chisnallwood_Intermediate-9942.jpg
END:VEVENT
BEGIN:VEVENT
DTSTART;TZID=UTC:20211011T190000
DTEND;TZID=UTC:20211011T203000
DTSTAMP:20260422T135140
CREATED:20211005T130858Z
LAST-MODIFIED:20211010T095832Z
UID:168665-1633978800-1633984200@menza.co.nz
SUMMARY:MENZA Conference Online: Primary Music Educator's Hui
DESCRIPTION:A General Hui for Primary School Teachers of music\, facilitated by MENZA board member Megan Flint. \nAn opportunity to share resources\, network and discuss issues and strategic direction in your teaching. \nThe hui is free and you don’t have to be a MENZA member. It will be held online via ZOOM link. Please register here to receive the ZOOM link. ‘See’ you there!
URL:https://menza.co.nz/event/menza-conference-online-primary-music-educators-hui/
CATEGORIES:National
ATTACH;FMTTYPE=image/jpeg:https://menza.co.nz/wp-content/uploads/2021/10/Primary-Music.jpg
END:VEVENT
BEGIN:VEVENT
DTSTART;TZID=UTC:20211011T190000
DTEND;TZID=UTC:20211011T203000
DTSTAMP:20260422T135140
CREATED:20211007T135815Z
LAST-MODIFIED:20211010T095857Z
UID:168682-1633978800-1633984200@menza.co.nz
SUMMARY:MENZA Conference Online: Taonga Puoro NCEA Standards with Christian McDonald
DESCRIPTION:Taonga Puoro NCEA standards with links to Raranga\, Whakairo. \nFacilitated by MENZA Board member Christian McDonald\, this workshop will look at effective teaching practice in Te Ao Maori\, using Wananga as a means of assessment. \nThis is a free workshop\, and non-MENZA members are also welcome to attend. Please register to get the ZOOM link to the session. \n  \n 
URL:https://menza.co.nz/event/menza-conference-online-taonga-puoro-ncea-standards-with-links-to/
CATEGORIES:National
ATTACH;FMTTYPE=image/jpeg:https://menza.co.nz/wp-content/uploads/2020/12/MENZA-event-Taonga-Pouro.jpg
END:VEVENT
END:VCALENDAR