BEGIN:VCALENDAR
VERSION:2.0
PRODID:-//MENZA - ECPv6.15.20//NONSGML v1.0//EN
CALSCALE:GREGORIAN
METHOD:PUBLISH
X-WR-CALNAME:MENZA
X-ORIGINAL-URL:https://menza.co.nz
X-WR-CALDESC:Events for MENZA
REFRESH-INTERVAL;VALUE=DURATION:PT1H
X-Robots-Tag:noindex
X-PUBLISHED-TTL:PT1H
BEGIN:VTIMEZONE
TZID:UTC
BEGIN:STANDARD
TZOFFSETFROM:+0000
TZOFFSETTO:+0000
TZNAME:UTC
DTSTART:20200101T000000
END:STANDARD
END:VTIMEZONE
BEGIN:VEVENT
DTSTART;TZID=UTC:20211013T100000
DTEND;TZID=UTC:20211013T113000
DTSTAMP:20260422T135149
CREATED:20211006T093821Z
LAST-MODIFIED:20211010T100048Z
UID:168694-1634119200-1634124600@menza.co.nz
SUMMARY:MENZA Conference Online: Bigger\, Better\, Brains - Music education and brain development with Dr Anita Collins
DESCRIPTION:Dr Anita Collins is an award-winning educator\, researcher and writer in the field of brain development and music learning. Anita is best known for her role as on-screen expert and campaign lead for the ‘Don’t Stop the Music’ documentary that aired on the ABC in late 2018 and author of ‘The Music Advantage’. She is internationally recognized for her unique work in translating the scientific research of neuroscientists and psychologists to the everyday parent\, teacher and student. Anita brings a wealth of experience as an active educator to every presentation. She is an experienced classroom teachers and conductor (Canberra Grammar School)\, has been musical director for three award winning productions and she has over a decade of experience as a teacher educator across all areas of tertiary education (University of Canberra and the Australian National University). \nNeuroscience and psychology researchers have done extensive studies over the last 20 years to understand how the brain processes music and why music learning seems to be such a cognitively unique activity. Musically trained children have better language and communication skills\, can focus for longer and are more likely to stick with difficult problems until they solve them\, they are able to control their own emotional responses and understand emotional responses of others and they have significantly better working and long-term memory systems. These enhancements then support higher levels of overall academic achievement\, motivation\, stress management\, self-regulation and awareness. Most notably\, music learning has been found to improve neural communication issues associated with autism\, ADHD\, dyslexia and reading and language learning delays. The research is now starting to reveal why music learning is so effective at enhancing brain function. Come along and hear Dr Collins speak about this exciting and impactful research. Web: www.anitacollinsmusic.comFacebook: @dranitacollinsFounderBigger Better BrainsWeb: www.biggerbetterbrains.comFacebook: @BiggerBetterBrainsTwitter: @bb_brains \nThis free workshop is open to non-MENZA members too. Please register here to obtain the ZOOM link for the meeting.
URL:https://menza.co.nz/event/menza-conference-online-bigger-better-brains-with-dr-anita-collins/
CATEGORIES:National
END:VEVENT
BEGIN:VEVENT
DTSTART;TZID=UTC:20211013T130000
DTEND;TZID=UTC:20211013T143000
DTSTAMP:20260422T135149
CREATED:20211005T134344Z
LAST-MODIFIED:20211010T100103Z
UID:168668-1634130000-1634135400@menza.co.nz
SUMMARY:MENZA Conference Online: An introduction to mātauranga Māori
DESCRIPTION:Presented by Catherine Graham and Hāni Totorewa\, this workshop is an introduction to mātauranga Māori; relating this to our secondary music teaching practice as we seek to unpack “mana ōrite mō te mātauranga Māori”. \nThis is a free online workshop – you don’t need to be a MENZA member to join in\, just register here to get the ZOOM link for the session. ‘See’ you there!
URL:https://menza.co.nz/event/menza-conference-online-an-introduction-to-matauranga-maori/
CATEGORIES:National
ATTACH;FMTTYPE=image/jpeg:https://menza.co.nz/wp-content/uploads/2021/10/Matauranga-Maori.jpg
END:VEVENT
BEGIN:VEVENT
DTSTART;TZID=UTC:20211013T150000
DTEND;TZID=UTC:20211013T163000
DTSTAMP:20260422T135149
CREATED:20211005T135807Z
LAST-MODIFIED:20211010T100132Z
UID:168671-1634137200-1634142600@menza.co.nz
SUMMARY:MENZA Conference Online: From Paper to Portal - moving to a paperless\, fully online system for ITM administration
DESCRIPTION:Facilitated by MENZA Deputy Chair Kat Daniela\, this workshop will provide participants with a google folder of exemplars that can be modified to fit the individual needs of the school for gathering data\, expressions of interest\, permission slips\, instrument hire\, etc. Participants will step through the process from start to finish of a student applying for an ITM lesson. \nThis online session is free and you don’t have to be a MENZA member. To get the ZOOM link\, please register here. ‘See’ you soon!
URL:https://menza.co.nz/event/menza-conference-online-from-paper-to-portal-moving-to-a-paperless-fully-online-system-for-itm-administration/
CATEGORIES:National
ATTACH;FMTTYPE=image/jpeg:https://menza.co.nz/wp-content/uploads/2021/10/Digital-ITM.jpg
END:VEVENT
BEGIN:VEVENT
DTSTART;TZID=UTC:20211013T170000
DTEND;TZID=UTC:20211013T183000
DTSTAMP:20260422T135149
CREATED:20211008T101354Z
LAST-MODIFIED:20211010T100143Z
UID:168713-1634144400-1634149800@menza.co.nz
SUMMARY:MENZA Conference Online: Itinerant Music Teachers' Hui with Chris Williamson
DESCRIPTION:There are many ITMs in NZ\, most of whom lack a central point of contact for professional support and discussion. This hui\, facilitated by Chris Williamson\, is an opportunity for ITMs to get together to talk things through and offer each other support. \nThis FREE online hui is open to all (itinerant) music teachers – click here to register for the ZOOM link to the session.
URL:https://menza.co.nz/event/menza-conference-online-itinerant-music-teachers-hui-with-chris-williamson/
CATEGORIES:National
ATTACH;FMTTYPE=image/jpeg:https://menza.co.nz/wp-content/uploads/2018/04/kids-in-band-playing-trumpets-and-violin.jpg
END:VEVENT
BEGIN:VEVENT
DTSTART;TZID=UTC:20211013T190000
DTEND;TZID=UTC:20211013T203000
DTSTAMP:20260422T135149
CREATED:20211009T093002Z
LAST-MODIFIED:20211010T100151Z
UID:168716-1634151600-1634157000@menza.co.nz
SUMMARY:MENZA Conference Online: MusicEcademy online learning resource with Jaroslav Novak
DESCRIPTION:Presented by Jaroslav Novak\, this workshop is all about MusicEcademy\, your online learning resource for music theory and aural skills. This programme supports music education both in the classroom and at home – ideal for itinerant and classroom music teachers. \nThis workshop is suitable for all music educators and is FREE. You don’t have to be a MENZA member to attend. Please register here to obtain the ZOOM link for the session. ‘See’ you then!
URL:https://menza.co.nz/event/menza-conference-online-musicecademy-online-learning-resource-with-jaroslav-novak/
CATEGORIES:National
ATTACH;FMTTYPE=image/png:https://menza.co.nz/wp-content/uploads/2021/10/Screen-Shot-2021-10-10-at-11.28.30-AM.png
END:VEVENT
END:VCALENDAR