BEGIN:VCALENDAR
VERSION:2.0
PRODID:-//MENZA - ECPv6.15.20//NONSGML v1.0//EN
CALSCALE:GREGORIAN
METHOD:PUBLISH
X-ORIGINAL-URL:https://menza.co.nz
X-WR-CALDESC:Events for MENZA
REFRESH-INTERVAL;VALUE=DURATION:PT1H
X-Robots-Tag:noindex
X-PUBLISHED-TTL:PT1H
BEGIN:VTIMEZONE
TZID:UTC
BEGIN:STANDARD
TZOFFSETFROM:+0000
TZOFFSETTO:+0000
TZNAME:UTC
DTSTART:20200101T000000
END:STANDARD
END:VTIMEZONE
BEGIN:VEVENT
DTSTART;TZID=UTC:20211014T183000
DTEND;TZID=UTC:20211014T183000
DTSTAMP:20260422T135417
CREATED:20211011T143304Z
LAST-MODIFIED:20211011T144114Z
UID:168730-1634236200-1634236200@menza.co.nz
SUMMARY:MENZA Conference Online: Pasifika Talanoa with Opeloge Ah Sam
DESCRIPTION:Please feel free to join Pasifika teachers and Music teachers with Pasifika heritage looking to connect and find ways to support their teaching journey and practice. Feel free to bring any challenges or issues you may be facing or questions you have. We want to share and discuss ideas and strategies that may provide a different angle of reflection\, and to support other music teachers of Pasifika heritage. Challenges\, ideas and questions can cover anything from personal teaching practice\, questions or ideas about NCEA\, anything to do with professional development\, repertoire and more. \nTo get the ZOOM link for this session\, please register here.
URL:https://menza.co.nz/event/menza-conference-online-pasifika-talanoa-with-opeloge-ah-sam/
CATEGORIES:National
ATTACH;FMTTYPE=image/png:https://menza.co.nz/wp-content/uploads/2021/10/Pasifika.png
END:VEVENT
END:VCALENDAR