BEGIN:VCALENDAR
VERSION:2.0
PRODID:-//MENZA - ECPv6.15.20//NONSGML v1.0//EN
CALSCALE:GREGORIAN
METHOD:PUBLISH
X-ORIGINAL-URL:https://menza.co.nz
X-WR-CALDESC:Events for MENZA
REFRESH-INTERVAL;VALUE=DURATION:PT1H
X-Robots-Tag:noindex
X-PUBLISHED-TTL:PT1H
BEGIN:VTIMEZONE
TZID:UTC
BEGIN:STANDARD
TZOFFSETFROM:+0000
TZOFFSETTO:+0000
TZNAME:UTC
DTSTART:20200101T000000
END:STANDARD
END:VTIMEZONE
BEGIN:VEVENT
DTSTART;TZID=UTC:20211017T190000
DTEND;TZID=UTC:20211017T203000
DTSTAMP:20260422T135427
CREATED:20211010T072227Z
LAST-MODIFIED:20211010T100201Z
UID:168723-1634497200-1634502600@menza.co.nz
SUMMARY:MENZA Conference Online: ECE Music Educator's Hui with Greta Bull
DESCRIPTION:General hui for all things ECE in Music. \nAll are welcome to attend this hui – please register here to get the ZOOM link to the session.
URL:https://menza.co.nz/event/menza-conference-online-ece-music-educators-hui-with-greta-bull/
CATEGORIES:National
ATTACH;FMTTYPE=image/png:https://menza.co.nz/wp-content/uploads/2020/02/Screen-Shot-2020-02-19-at-11.51.10-AM.png
END:VEVENT
END:VCALENDAR