BEGIN:VCALENDAR
VERSION:2.0
PRODID:-//MENZA - ECPv6.15.20//NONSGML v1.0//EN
CALSCALE:GREGORIAN
METHOD:PUBLISH
X-ORIGINAL-URL:https://menza.co.nz
X-WR-CALDESC:Events for MENZA
REFRESH-INTERVAL;VALUE=DURATION:PT1H
X-Robots-Tag:noindex
X-PUBLISHED-TTL:PT1H
BEGIN:VTIMEZONE
TZID:UTC
BEGIN:STANDARD
TZOFFSETFROM:+0000
TZOFFSETTO:+0000
TZNAME:UTC
DTSTART:20200101T000000
END:STANDARD
END:VTIMEZONE
BEGIN:VEVENT
DTSTART;TZID=UTC:20211019T190000
DTEND;TZID=UTC:20211019T203000
DTSTAMP:20260422T135421
CREATED:20211005T142908Z
LAST-MODIFIED:20211010T100210Z
UID:168674-1634670000-1634675400@menza.co.nz
SUMMARY:MENZA Conference Online: A PattyCake Games Sequence\, Years 0-8
DESCRIPTION:This workshop is accessible to generalist teachers as well as Musos. The content is fun. Activities are bite sized. Builds classroom\, cross year-group communities\, develops motor skills\, vocal skills and supports the Kodály rhythm-learning sequence. \nThis free online workshop is also for non-MENZA members. Please register here to get the ZOOM link for the session.
URL:https://menza.co.nz/event/menza-conference-online-a-pattycake-games-sequence-years-0-8/
CATEGORIES:National
ATTACH;FMTTYPE=image/jpeg:https://menza.co.nz/wp-content/uploads/2021/10/Copy-of-MENZA-event-photo-3.jpg
END:VEVENT
END:VCALENDAR