BEGIN:VCALENDAR
VERSION:2.0
PRODID:-//MENZA - ECPv6.15.20//NONSGML v1.0//EN
CALSCALE:GREGORIAN
METHOD:PUBLISH
X-ORIGINAL-URL:https://menza.co.nz
X-WR-CALDESC:Events for MENZA
REFRESH-INTERVAL;VALUE=DURATION:PT1H
X-Robots-Tag:noindex
X-PUBLISHED-TTL:PT1H
BEGIN:VTIMEZONE
TZID:UTC
BEGIN:STANDARD
TZOFFSETFROM:+0000
TZOFFSETTO:+0000
TZNAME:UTC
DTSTART:20200101T000000
END:STANDARD
END:VTIMEZONE
BEGIN:VEVENT
DTSTART;VALUE=DATE:20211021
DTEND;VALUE=DATE:20211026
DTSTAMP:20260422T135414
CREATED:20210125T072003Z
LAST-MODIFIED:20210125T072003Z
UID:167975-1634774400-1635206399@menza.co.nz
SUMMARY:Christchurch Big Band Festival and Junior Jazz Jam
DESCRIPTION:The annual Christchurch Big Band Festival runs over Labour Weekend. \nHighlights include: \n\nAll age bands from around NZ performing in a range of wonderful locations in central Christchurch\n“Junior Jazz Jam”\, an event for primary school Big Bands (up to year 8)\nEarly Childhood interactive educational show\nBig Band Ball\nGala concert\nworkshops\nand lots more!\n\nRegistration for bands and volunteers is at chchbigbandfest.com
URL:https://menza.co.nz/event/christchurch-big-band-festival-and-junior-jazz-jam/
CATEGORIES:Canterbury,National
ATTACH;FMTTYPE=image/png:https://menza.co.nz/wp-content/uploads/2019/02/CBBF-blast.png
ORGANIZER;CN="Big Band Festival":MAILTO:katie@bigbandfest.org.nz
END:VEVENT
BEGIN:VEVENT
DTSTART;TZID=UTC:20211021T140000
DTEND;TZID=UTC:20211021T160000
DTSTAMP:20260422T135414
CREATED:20210424T175929Z
LAST-MODIFIED:20210424T175929Z
UID:168416-1634824800-1634832000@menza.co.nz
SUMMARY:Junior Jazz Jam 2021
DESCRIPTION:An event for Primary School Jazz Bands! (Up to year 8) \nBands get the valuable opportunity to play to each other\, get feedback from jazz graduates and to play together! \nThis event also kicks off the Christchurch Big Band Festival that runs over 5 days. \nPlease fill in this registration form if you would like your band to take part! \n 
URL:https://menza.co.nz/event/junior-jazz-jam-2021/
LOCATION:Christchurch\, Canterbury\, New Zealand
CATEGORIES:Canterbury
ATTACH;FMTTYPE=image/png:https://menza.co.nz/wp-content/uploads/2018/07/JJJ-Logo.png
ORGANIZER;CN="Big Band Festival":MAILTO:katie@bigbandfest.org.nz
END:VEVENT
END:VCALENDAR