BEGIN:VCALENDAR
VERSION:2.0
PRODID:-//MENZA - ECPv6.15.20//NONSGML v1.0//EN
CALSCALE:GREGORIAN
METHOD:PUBLISH
X-ORIGINAL-URL:https://menza.co.nz
X-WR-CALDESC:Events for MENZA
REFRESH-INTERVAL;VALUE=DURATION:PT1H
X-Robots-Tag:noindex
X-PUBLISHED-TTL:PT1H
BEGIN:VTIMEZONE
TZID:UTC
BEGIN:STANDARD
TZOFFSETFROM:+0000
TZOFFSETTO:+0000
TZNAME:UTC
DTSTART:20200101T000000
END:STANDARD
END:VTIMEZONE
BEGIN:VEVENT
DTSTART;TZID=UTC:20211130T235900
DTEND;TZID=UTC:20211130T235900
DTSTAMP:20260422T153203
CREATED:20210805T113349Z
LAST-MODIFIED:20210805T113349Z
UID:168555-1638316740-1638316740@menza.co.nz
SUMMARY:IRMTNZ - CALL FOR SCORES:  Easy Tunes for Tamariki
DESCRIPTION:Wellington Branch IRMTNZ invites submissions of scores for beginner violin and cello students. \nWellington Branch IRMTNZ  is planning to publish Easy Tunes for Tamariki\,  a collection of original piecesfor violin and for cello submitted by composers from Aotearoa New Zealand. The music is to be appropriate for pupils from preliminary up to grade 2 level\, and each is to include a simple piano accompaniment. \nThere is a shortage of published solo music for beginners up to grade 2 level by New Zealand composers for instruments other than piano. This project aims to help to rectify that situation. \nA payment is available for the composers of the selected pieces\, thanks to the generosity of a private benefactor. \nDeadline for receipt of scores: 11.59 pm (NZT)\, 30 November 2021. \nFull details: eligibility\, guidelines\, conditions available HERE. \nAbout Us  \nThe Institute of Registered Music Teachers of New Zealand (IRMTNZ) is New Zealand’s professional organisation for all music teachers \nWellington Branch IRMTNZ runs professional development events for teachers and performance opportunities for students. The annual Piano Plus Festival is for students of all ages and instruments\, and each performer’s programme must include a piece by a New Zealand composer.
URL:https://menza.co.nz/event/irmtnz-call-for-scores-easy-tunes-for-tamariki/
CATEGORIES:National,Wellington
ATTACH;FMTTYPE=image/png:https://menza.co.nz/wp-content/uploads/2021/08/IRMTNZ.png
END:VEVENT
END:VCALENDAR