BEGIN:VCALENDAR
VERSION:2.0
PRODID:-//MENZA - ECPv6.15.20//NONSGML v1.0//EN
CALSCALE:GREGORIAN
METHOD:PUBLISH
X-WR-CALNAME:MENZA
X-ORIGINAL-URL:https://menza.co.nz
X-WR-CALDESC:Events for MENZA
REFRESH-INTERVAL;VALUE=DURATION:PT1H
X-Robots-Tag:noindex
X-PUBLISHED-TTL:PT1H
BEGIN:VTIMEZONE
TZID:UTC
BEGIN:STANDARD
TZOFFSETFROM:+0000
TZOFFSETTO:+0000
TZNAME:UTC
DTSTART:20210101T000000
END:STANDARD
END:VTIMEZONE
BEGIN:VEVENT
DTSTART;VALUE=DATE:20220717
DTEND;VALUE=DATE:20220723
DTSTAMP:20260423T051456
CREATED:20220623T152635Z
LAST-MODIFIED:20220623T152635Z
UID:169025-1658016000-1658534399@menza.co.nz
SUMMARY:35th World Conference of the International Society for Music Education "A Visible Voice"
DESCRIPTION:ISME is the International Society which MENZA belongs to  as the New Zealand region. \nThis bi-annual conference is online this year. \nCheck out the speakers programme and registration here: https://ismeworldconference.org/
URL:https://menza.co.nz/event/35th-world-conference-of-the-international-society-for-music-education-a-visible-voice/
CATEGORIES:International,National
ATTACH;FMTTYPE=image/png:https://menza.co.nz/wp-content/uploads/2022/06/ISME2022.png
END:VEVENT
END:VCALENDAR