BEGIN:VCALENDAR
VERSION:2.0
PRODID:-//MENZA - ECPv6.15.20//NONSGML v1.0//EN
CALSCALE:GREGORIAN
METHOD:PUBLISH
X-WR-CALNAME:MENZA
X-ORIGINAL-URL:https://menza.co.nz
X-WR-CALDESC:Events for MENZA
REFRESH-INTERVAL;VALUE=DURATION:PT1H
X-Robots-Tag:noindex
X-PUBLISHED-TTL:PT1H
BEGIN:VTIMEZONE
TZID:UTC
BEGIN:STANDARD
TZOFFSETFROM:+0000
TZOFFSETTO:+0000
TZNAME:UTC
DTSTART:20210101T000000
END:STANDARD
END:VTIMEZONE
BEGIN:VEVENT
DTSTART;TZID=UTC:20220824T160000
DTEND;TZID=UTC:20220901T193000
DTSTAMP:20260423T064311
CREATED:20220820T200153Z
LAST-MODIFIED:20220822T213654Z
UID:169323-1661356800-1662060600@menza.co.nz
SUMMARY:FREE MENZA hui for ECE\, Primary\, Secondary\, ITM and Pasifika
DESCRIPTION:After successful hui at our MENZA conference online last year\, we are bringing back these free ZOOM sessions for all music educators to be able to connect with one another again. Just click on the links below at the specified times to be let in. \nLooking forward to seeing you all again soon! \n\nSecondary Hui with Ben Lau: Wednesday 24th August 4pm https://us02web.zoom.us/j/87353213386\nITM Hui with Chris Williamson: Wednesday 24th 7pm https://us02web.zoom.us/j/89483196131\nPrimary Hui with Megan Flint: Thursday 25th August 7pm https://us02web.zoom.us/j/82948115766\nPasifika Fono with Opeloge Ah Sam and Anne-Marie Lalakai: Wednesday 31st August 7pm https://us02web.zoom.us/j/82232567363\nECE Hui with Greta Bull Crossan: Thursday 1st September 7.30pm https://us02web.zoom.us/j/87175827375
URL:https://menza.co.nz/event/free-menza-hui-for-ece-primary-secondary-itm-and-pasifika/
LOCATION:ZOOM
CATEGORIES:National
END:VEVENT
BEGIN:VEVENT
DTSTART;TZID=UTC:20220825T000000
DTEND;TZID=UTC:20220827T000000
DTSTAMP:20260423T064311
CREATED:20220823T162508Z
LAST-MODIFIED:20220823T162508Z
UID:169350-1661385600-1661558400@menza.co.nz
SUMMARY:Big Sing Finale 2022
DESCRIPTION:We invite local audiences\, whānau\, and friends to join us as we celebrate the choral achievements of our most talented young singers at The Big Sing Cadenza (Rotorua\, Whanganui\, and Timaru) and National Finale (Christchurch) in August. Choirs will present their recital programmes during the competitive sessions\, and each festival will culminate in a gala concert featuring every choir. \nPlease note: information regarding the specific choirs singing in each competitive session can be found under each relevant event below\, and you can download a PDF listing all sessions for Cadenza and Finale. \nClick here for a full list of choirs selected for Cadenza and Finale 2022 \nFollow us on Facebook and Instagram to stay up to date with The Big Sing\, tag us in your photos and videos\, and subscribe to our free monthly eBreve e-newsletter to keep in the choral loop. \n  \nFinale (Christchurch)\nChristchurch Town Hall \nCompetitive sessions:\nClick here to download a full list of choirs performing in each session\n25 August\, 2-3.15pm; 5-6.15pm; 8-9.15pm\n26 August\, 11:00am-12.00pm; 1.30-2.45pm; 3.45-5.00pm; 6.30-8.00pm\n27 August\, 11am-12.15pm\n$5 per session or $10 per day\, door sales only \nGala concert: 27 August\, 6.30pm\n$25 adults\, $20 unwaged/NZCF member\, $15 students (primary/secondary/tertiary)\nBook via Ticketek\nBook online now
URL:https://menza.co.nz/event/big-sing-finale-2022/
LOCATION:Christchurch Town Hall\, 86 Kilmore St\, Christchurch\, Canterbury\, 8013
CATEGORIES:Canterbury,National
ATTACH;FMTTYPE=image/png:https://menza.co.nz/wp-content/uploads/2022/08/Big-Sing-Finale-2022.png
ORGANIZER;CN="NZCF":MAILTO:cathryn.wyllie@nzcf.org.nz
END:VEVENT
BEGIN:VEVENT
DTSTART;TZID=UTC:20220825T093000
DTEND;TZID=UTC:20220825T153000
DTSTAMP:20260423T064311
CREATED:20220609T140555Z
LAST-MODIFIED:20220814T124022Z
UID:168951-1661419800-1661441400@menza.co.nz
SUMMARY:Wellington Orchestra Festival
DESCRIPTION:A day of orchestral rehearsal and performance led by arranger and conductor\, Richard Oswin\, for primary and intermediate students who can read music and play an instrument. \nThis is an ideal opportunity for students who practice mostly on their own to join other students and make music in one big ensemble. The technical difficulty of the music is suitable for students in their second or third year of practice and while it is an orchestra\, there are kit\, hand percussion\, guitar\, bass\, keyboard\, xylophone and recorder parts. Students can work on their parts with instrumental tutors leading up to the day\, nearly prepared to play up to 6 pieces. Schools might use the repertoire to play in their own ensemble\, but this is not essential. \nThe day begins with a massed rehearsal\, followed by sectionals and finishes with a concert of the 6 pieces. Repertoire ranges from the Baroque to songs from musicals and pop/rock music. \nContact calvertj@scotscollege.school.nz if you have any questions. We’d love to encourage new schools and students to participate in this event. It’s a fine-tuned machine now\, so come and join the fun. \nClick here to register
URL:https://menza.co.nz/event/wellington-orchestra-festival-2/
LOCATION:Scots’ College\, 1 Monorgan Road\, Strathmore Park\, Wellington\, 6022\, New Zealand
CATEGORIES:Wellington
ATTACH;FMTTYPE=image/png:https://menza.co.nz/wp-content/uploads/2022/06/unnamed.png
END:VEVENT
END:VCALENDAR