BEGIN:VCALENDAR
VERSION:2.0
PRODID:-//MENZA - ECPv6.15.20//NONSGML v1.0//EN
CALSCALE:GREGORIAN
METHOD:PUBLISH
X-ORIGINAL-URL:https://menza.co.nz
X-WR-CALDESC:Events for MENZA
REFRESH-INTERVAL;VALUE=DURATION:PT1H
X-Robots-Tag:noindex
X-PUBLISHED-TTL:PT1H
BEGIN:VTIMEZONE
TZID:UTC
BEGIN:STANDARD
TZOFFSETFROM:+0000
TZOFFSETTO:+0000
TZNAME:UTC
DTSTART:20210101T000000
END:STANDARD
END:VTIMEZONE
BEGIN:VEVENT
DTSTART;TZID=UTC:20220824T160000
DTEND;TZID=UTC:20220901T193000
DTSTAMP:20260423T055716
CREATED:20220820T200153Z
LAST-MODIFIED:20220822T213654Z
UID:169323-1661356800-1662060600@menza.co.nz
SUMMARY:FREE MENZA hui for ECE\, Primary\, Secondary\, ITM and Pasifika
DESCRIPTION:After successful hui at our MENZA conference online last year\, we are bringing back these free ZOOM sessions for all music educators to be able to connect with one another again. Just click on the links below at the specified times to be let in. \nLooking forward to seeing you all again soon! \n\nSecondary Hui with Ben Lau: Wednesday 24th August 4pm https://us02web.zoom.us/j/87353213386\nITM Hui with Chris Williamson: Wednesday 24th 7pm https://us02web.zoom.us/j/89483196131\nPrimary Hui with Megan Flint: Thursday 25th August 7pm https://us02web.zoom.us/j/82948115766\nPasifika Fono with Opeloge Ah Sam and Anne-Marie Lalakai: Wednesday 31st August 7pm https://us02web.zoom.us/j/82232567363\nECE Hui with Greta Bull Crossan: Thursday 1st September 7.30pm https://us02web.zoom.us/j/87175827375
URL:https://menza.co.nz/event/free-menza-hui-for-ece-primary-secondary-itm-and-pasifika/
LOCATION:ZOOM
CATEGORIES:National
END:VEVENT
END:VCALENDAR