BEGIN:VCALENDAR
VERSION:2.0
PRODID:-//MENZA - ECPv6.15.20//NONSGML v1.0//EN
CALSCALE:GREGORIAN
METHOD:PUBLISH
X-WR-CALNAME:MENZA
X-ORIGINAL-URL:https://menza.co.nz
X-WR-CALDESC:Events for MENZA
REFRESH-INTERVAL;VALUE=DURATION:PT1H
X-Robots-Tag:noindex
X-PUBLISHED-TTL:PT1H
BEGIN:VTIMEZONE
TZID:UTC
BEGIN:STANDARD
TZOFFSETFROM:+0000
TZOFFSETTO:+0000
TZNAME:UTC
DTSTART:20210101T000000
END:STANDARD
END:VTIMEZONE
BEGIN:VEVENT
DTSTART;VALUE=DATE:20220927
DTEND;VALUE=DATE:20220930
DTSTAMP:20260423T043355
CREATED:20220110T102547Z
LAST-MODIFIED:20220110T102547Z
UID:168827-1664236800-1664495999@menza.co.nz
SUMMARY:WeBO 2022
DESCRIPTION:New Zealand’s fastest growing National Festival that caters for all ensembles from Jazz Band\, Concert Band\, Stage bands\, Orchestras and a mix of small ensembles.\nThis year WeBO is bigger\, brighter\, and better than ever with activities\, performances\, concerts and workshops. Including performances and mentoring from the members from leading National bands and ensembles. \nWeBO offers both schools and community ensembles a truly encompassing festival. \nFor schools\, WeBO offers an all-in-one experience for all ensembles with the ability for the different ensembles to perform on different days\, giving all students an opportunity to perform and learn. \nHear professional ensembles perform at one of the evening Gala Concerts and attend mentoring with great educators as well as Band Director professional development sessions. \nWith the addition this year of a full line up of workshops\, teacher professional development days and a new awards system\, WeBO makes it the perfect opportunity in term three for any school to participate. \n*Check out the WeBO 2022 Event Schedule \n*All performances and concerts at WeBO 2022 are accessible and free of charge to the public.   \nHow it All Works\nDaily Outline\nEach day features a key ensemble style split into morning and afternoon sessions\, with ensembles scheduled for their part of the day to perform on the main stage\, then moving to a private ensemble workshop directly after the performance with one of the clinicians. \nWhen not perfoming\, members of the ensemble are encouraged to attend the sessions remainng performances in the audience to support the other ensembles. \nBoth the morning and afternoon sessions have complimentory workshops and mentoring sessions running all day so ensembles can perform for example in the morning session then attend workshops in the afternoon and the opposite for those performing in the afternoon. \n*Each day ends with an awards ceremony. \n  \nYour Ensemble Concert Performance\nEach ensemble has a performance time of 20 mins on the main stage and 5 mins either side for entering and leaving the main stage. \nPerformances will be evaluated by some of of New Zealand and Australia’s top educators and clinicians who will provide valuable written and spoken feedback on the  performances\, as well as taking a support clinic immediately afterwards. \nAfter your ensembles main performance the group will be taken to the workshop hall nearby for a short personal workshop with one of the clinicians who has watched and evaluated your performance. \n*The second hall is set to allow a quick transition for attendees and a more relaxed atmosphere for the workshop. \n  \nDaily Workshops\nDuring the course of the day a series of workshops and mentoring sessions are run in the morning then again in the afternoon. This allows WeBO participants the options of attending and supporting their performance session\, and also receive valuable tuition and support from our great mentors in workshops at the opposite part of the day. \n  \nAwards\nEvery ensemble performing receives a Platinum\, Gold or Silver participation certificate along with a director’s video containing the adjudicators voice over. WeBO is primarily a participation event\, so no matter your ensembles skill set\, or repertoire\, awards are given on key criteria that encompass all aspects of an ensemble. \n  \nEvening Concert Performances\n\nOn the evenings of the festival we have one WeBO Gala concerts with a combination of professional players\, ensembles and invited WeBO participants. \n  \n*Send questions and registrations to: education@musicworks.co.nz
URL:https://menza.co.nz/event/webo-2022/
LOCATION:Wellington College\, 15 Dufferin St\, Mount Victoria\, Wellington\, 6021\, New Zealand
ATTACH;FMTTYPE=image/jpeg:https://menza.co.nz/wp-content/uploads/2016/04/webo-logo-1.jpg
ORGANIZER;CN="Musicworks":MAILTO:education@musicworks.co.nz
END:VEVENT
BEGIN:VEVENT
DTSTART;TZID=UTC:20220927T190000
DTEND;TZID=UTC:20220927T200000
DTSTAMP:20260423T043355
CREATED:20220910T121720Z
LAST-MODIFIED:20220910T121949Z
UID:169419-1664305200-1664308800@menza.co.nz
SUMMARY:Clarinet ZOOM Masterclass with Yvette Audain
DESCRIPTION:Following the success (and fun!) of my clarinet workshop at the recent New Zealand Concert Bands Association (NZCBA) Festival\, and some exceptionally humbling encouragement from participants and band directors\, I’ve decided to host my first ever online workshop.\n\nDuring the first part I will introduce and discuss the many benefits and insights gained through my recent practice in long tones – this isn’t only a musical and technical practice as I’ve been discovering it to be way more holistic than that as a tool for mental and physical wellness.\n\nThis will be followed by an open forum to which I invite you to bring any questions you may have about your playing. Participants are also encouraged to contribute their own answers.\n\nSuitable for all ages and levels\, whether clarinet is your first\, second or umpteenth instrument! If you’ve found yourself teaching it when you haven’t been playing long yourself\, please don’t be shy to bring any questions relevant to that.\n\nThis workshop is also open internationally and while I may not be the number one clarinet expert in all the world\, I bring my own life experience and perspective as a musician\, composer\, teacher and human who has largely lived\, learned and loved life through the clarinet.\n\nPlease email me at audainmusic@gmail.com with your email address to register – I will send the Zoom link in a confirmation email upon receipt of payment.\n\nLooking forward to seeing you there with your clarinet\,\n\nYvette Audain (M.Mus\, GradDipTchg) 🙂\nhttp://www.yvetteaudain.com
URL:https://menza.co.nz/event/clarinet-zoom-masterclass-with-yvette-audain/
CATEGORIES:National
ATTACH;FMTTYPE=image/jpeg:https://menza.co.nz/wp-content/uploads/2022/09/Yvette-52.jpg
END:VEVENT
END:VCALENDAR