BEGIN:VCALENDAR
VERSION:2.0
PRODID:-//MENZA - ECPv6.15.20//NONSGML v1.0//EN
CALSCALE:GREGORIAN
METHOD:PUBLISH
X-WR-CALNAME:MENZA
X-ORIGINAL-URL:https://menza.co.nz
X-WR-CALDESC:Events for MENZA
REFRESH-INTERVAL;VALUE=DURATION:PT1H
X-Robots-Tag:noindex
X-PUBLISHED-TTL:PT1H
BEGIN:VTIMEZONE
TZID:UTC
BEGIN:STANDARD
TZOFFSETFROM:+0000
TZOFFSETTO:+0000
TZNAME:UTC
DTSTART:20220101T000000
END:STANDARD
END:VTIMEZONE
BEGIN:VEVENT
DTSTART;TZID=UTC:20230515T190000
DTEND;TZID=UTC:20230515T203000
DTSTAMP:20260422T123941
CREATED:20230504T115640Z
LAST-MODIFIED:20230516T193832Z
UID:169952-1684177200-1684182600@menza.co.nz
SUMMARY:Mina and Hei hei Resource Launch with Maria Kapa
DESCRIPTION:FREE ZOOM launch of Maria Kapa’s wonderful new bicultural resource about Mina and Hei Hei (pictured above) for ECE and early Primary. See below to view the recorded ZOOM session from the 15th May 2023. The resources are also available on the MENZA website. \n\nClick on the links to download the resources\, which include an e-book with the story and illustrations\, a dance track for the Hei hei song and an activity book with ideas for all sorts of musical and non-musical learning activities with the children: \n\n\n\nHei hei’s eggs E-book Hei hei Dance track Hei hei Activity book \n\n\n\nHere are some additional resources to access for the presentation: \n\n\n\nFlipbook \n\n\n\nVideo clip of Maria reading/singing the story \n  \n \n  \n 
URL:https://menza.co.nz/event/mina-and-hei-hei-resource-launch-with-maria-kapa/
CATEGORIES:National
ATTACH;FMTTYPE=image/png:https://menza.co.nz/wp-content/uploads/2023/05/Hei-heis-eggs-cover-image-1.png
END:VEVENT
END:VCALENDAR