BEGIN:VCALENDAR
VERSION:2.0
PRODID:-//MENZA - ECPv6.15.20//NONSGML v1.0//EN
CALSCALE:GREGORIAN
METHOD:PUBLISH
X-WR-CALNAME:MENZA
X-ORIGINAL-URL:https://menza.co.nz
X-WR-CALDESC:Events for MENZA
REFRESH-INTERVAL;VALUE=DURATION:PT1H
X-Robots-Tag:noindex
X-PUBLISHED-TTL:PT1H
BEGIN:VTIMEZONE
TZID:UTC
BEGIN:STANDARD
TZOFFSETFROM:+0000
TZOFFSETTO:+0000
TZNAME:UTC
DTSTART:20220101T000000
END:STANDARD
END:VTIMEZONE
BEGIN:VEVENT
DTSTART;TZID=UTC:20230610T133000
DTEND;TZID=UTC:20230610T160000
DTSTAMP:20260422T111702
CREATED:20230601T153737Z
LAST-MODIFIED:20230606T160358Z
UID:170069-1686403800-1686412800@menza.co.nz
SUMMARY:MENZA AGM 2023 & Taonga Puoro workshop (Auckland)
DESCRIPTION:Please join us for our AGM on Saturday 10 June\, which will also include a Taonga Puoro workshop with Ben Lau from 1.30-2.30pm\, at Kristin School\, 360 Albany Highway\, Albany. \nTaonga Puoro allows our akonga to focus on their hauora and mauri and allows them to make musical instruments in our classrooms. This workshop is for Primary and Secondary school teachers and we will focus on making Taonga Puoro\, Koauau and Purerehuia. \nZOOM link to AGM meeting\, 3-4pm\, Saturday 10 June 2023. \nSee you then – please RSVP to admin@menza.co.nz for catering purposes if you would like to attend the workshop and/or AGM. \nIf you are coming\, please meet outside the front of the Kristin School Junior School Admin building – Manawa Manaaki. You need to drive into Gate 1 (corner of Albany Highway & Rosedale Rd)\, follow the road around past the bus bay & the chapel. You’ll see Manawa Manaaki by the circular car drop off area. Parking is available in the middle of the drop-off zone right next to Manawa Manaaki. \n 
URL:https://menza.co.nz/event/menza-agm-2023/
LOCATION:Kristin School\, 360 Albany Highway\, Albanu\, Auckland\, 0632
CATEGORIES:Auckland and Northland,National
ATTACH;FMTTYPE=image/png:https://menza.co.nz/wp-content/uploads/2023/06/Kristin-Campus-Map_Junior-School-Admin.png
END:VEVENT
END:VCALENDAR