BEGIN:VCALENDAR
VERSION:2.0
PRODID:-//MENZA - ECPv6.15.20//NONSGML v1.0//EN
CALSCALE:GREGORIAN
METHOD:PUBLISH
X-WR-CALNAME:MENZA
X-ORIGINAL-URL:https://menza.co.nz
X-WR-CALDESC:Events for MENZA
REFRESH-INTERVAL;VALUE=DURATION:PT1H
X-Robots-Tag:noindex
X-PUBLISHED-TTL:PT1H
BEGIN:VTIMEZONE
TZID:UTC
BEGIN:STANDARD
TZOFFSETFROM:+0000
TZOFFSETTO:+0000
TZNAME:UTC
DTSTART:20220101T000000
END:STANDARD
END:VTIMEZONE
BEGIN:VEVENT
DTSTART;TZID=UTC:20230815T190000
DTEND;TZID=UTC:20230815T203000
DTSTAMP:20260422T070307
CREATED:20230807T171725Z
LAST-MODIFIED:20230807T171953Z
UID:170337-1692126000-1692131400@menza.co.nz
SUMMARY:Singing in the Classroom and Beyond with Suzzie Vango
DESCRIPTION:A FREE ZOOM webinar brought to you by Kodály Aotearoa and MENZA\n\n\n\n\nJoin vocal coach and conductor of the National Children’s Choir of Great Britain\, Suzzie Vango as she leads you through fun\, engaging & healthy vocal warm ups & songs for young singers. \nCome prepared to act your shoe size\, not your age! \n\n\n\n\nInformation Flyer \nClick here to register and have the ZOOM link sent to you.
URL:https://menza.co.nz/event/singing-in-the-classroom-and-beyond-with-suzzie-vango/
CATEGORIES:National
ATTACH;FMTTYPE=image/png:https://menza.co.nz/wp-content/uploads/2023/08/Screenshot-2023-08-08-at-5.16.53-PM.png
END:VEVENT
END:VCALENDAR