BEGIN:VCALENDAR
VERSION:2.0
PRODID:-//MENZA - ECPv6.15.20//NONSGML v1.0//EN
CALSCALE:GREGORIAN
METHOD:PUBLISH
X-WR-CALNAME:MENZA
X-ORIGINAL-URL:https://menza.co.nz
X-WR-CALDESC:Events for MENZA
REFRESH-INTERVAL;VALUE=DURATION:PT1H
X-Robots-Tag:noindex
X-PUBLISHED-TTL:PT1H
BEGIN:VTIMEZONE
TZID:UTC
BEGIN:STANDARD
TZOFFSETFROM:+0000
TZOFFSETTO:+0000
TZNAME:UTC
DTSTART:20220101T000000
END:STANDARD
END:VTIMEZONE
BEGIN:VEVENT
DTSTART;TZID=UTC:20230904T103000
DTEND;TZID=UTC:20230922T153000
DTSTAMP:20260422T054642
CREATED:20230816T133809Z
LAST-MODIFIED:20230816T140940Z
UID:170350-1693823400-1695396600@menza.co.nz
SUMMARY:FREE Mātauranga Pūoro Māori Wananga PLD with Horomona Horo
DESCRIPTION:MENZA is thrilled to be partnering with Horomona Horo and Tāmihana Kātene to provide wānanga across Aotearoa\, supporting kaiāko with their confidence and understanding of mātauranga Māori as it pertains to music. This is made possible by funding from the Networks of Expertise to support preparation for the new NCEA\, and the workshops are free for all teachers. You don’t need to be a MENZA member\, but of course we appreciate all new members too.\n\n\nHoro is an esteemed practitioner of Taonga Pūoro\, core member of the haumanu collective and a gifted teacher. This hui aims to help build your knowledge in mātauranga Māori and mātauranga pūoro. Horomona Horo will be leading ngā hui and potentially inviting mana whenua and other Māori specialists. \n\nPlease register below for your chosen location\, so that we can make the necessary arrangements for morning tea and venue\, and so that we can keep you up-to-date with information about the workshop and the follow-up session and resources. For lunch\, we would appreciate it if participants could bring or make something for shared kai. \n\nMonday 4 September\, 10.30am-4.30pm – Christchurch\, Shirley Boys’ High School. Register here\nTuesday 5 September\, 9am-3pm – Invercargill\, James Hargest Senior Campus. Register here\nWednesday 6 September\, 8am-1pm – Dunedin. Register here\nThursday 7 September\, 8am-2pm – Napier. Register here\nFriday 15 September\, 9am-3pm – Northland\, Kenana Marae (Doubtless Bay – Mangonui). Register here\nMonday 18 September\, 9.30am-3.30pm – Auckland\, Western Springs College. Register here\nWednesday 20 September\, 11am-5pm – Gisborne\, Lytton High School. Register here\nThursday 21 September\, 10am-4pm – New Plymouth\, Waitara High School. Register here\nFriday 22 September\, 9am-3pm – Nelson Centre of Musical Arts. Register here\nFriday 22 September (with Tāmihana)\, 9.30am-3.30pm – Wellington. Register here
URL:https://menza.co.nz/event/matauranga-puoro-maori-wananga-pld-with-horomona-horo/
CATEGORIES:Auckland and Northland,Bay of Plenty,Canterbury,Hawkes Bay and Gisborne,Manawatu and Taranaki,National,Nelson/Tasman,Otago,Southland,Waikato and Bay of Plenty,Wellington
ATTACH;FMTTYPE=image/jpeg:https://menza.co.nz/wp-content/uploads/2023/08/MENZA-event-Taonga-Pouro.jpg
END:VEVENT
BEGIN:VEVENT
DTSTART;VALUE=DATE:20230918
DTEND;VALUE=DATE:20230921
DTSTAMP:20260422T054642
CREATED:20221127T183538Z
LAST-MODIFIED:20221128T133927Z
UID:169674-1694995200-1695254399@menza.co.nz
SUMMARY:MEFA Musicworks Ensemble Festival 2023
DESCRIPTION:New Zealand’s fastest growing National Festival that caters for all ensembles from Jazz Band\, Concert Band\, Stage bands\, Orchestras and a mix of small ensembles. \nThis year the festival is bigger\, brighter\, and better than ever with a new name MEFA (Music Ensemble Festival Aotearoa)\, more activities\, performances\, concerts and workshops. Including performances and mentoring from the members from leading National bands and ensembles. \nMEFA offers both schools and community ensembles a truly encompassing festival. \nFor schools\, MEFA offers an all-in-one experience for all ensembles with the ability for the different ensembles to perform on different days\, giving all students an opportunity to perform and learn. \nHear professional ensembles perform at one of the evening Gala Concerts and attend mentoring with great educators as well as Band Director professional development sessions. \nWith the addition this year of a full line up of workshops\, teacher professional development days and a new awards system\, MEFA makes it the perfect opportunity in term three for any school to participate. \n*Check out the WeBO 2022 Event Schedule \n*All performances and concerts at WeBO 2022 are accessible and free of charge to the public.   \nHow it All Works \nDaily Outline \nEach day features a key ensemble style split into morning and afternoon sessions\, with ensembles scheduled for their part of the day to perform on the main stage\, then moving to a private ensemble workshop directly after the performance with one of the clinicians. \nWhen not perfuming\, members of the ensemble are encouraged to attend the sessions remaining performances in the audience to support the other ensembles. \nBoth the morning and afternoon sessions have complimentary workshops and mentoring sessions running all day so ensembles can perform for example in the morning session then attend workshops in the afternoon and the opposite for those performing in the afternoon. \n*Each day ends with an awards ceremony. \n\nYour Ensemble Concert Performance \nEach ensemble has a performance time of 20 mins on the main stage and 5 mins either side for entering and leaving the main stage. \nPerformances will be evaluated by some of of New Zealand and Australia’s top educators and clinicians who will provide valuable written and spoken feedback on the  performances\, as well as taking a support clinic immediately afterwards. \nAfter your ensembles main performance the group will be taken to the workshop hall nearby for a short personal workshop with one of the clinicians who has watched and evaluated your performance. \n*The second hall is set to allow a quick transition for attendees and a more relaxed atmosphere for the workshop. \n\nDaily Workshops \nDuring the course of the day a series of workshops and mentoring sessions are run in the morning then again in the afternoon. This allows MEFA participants the options of attending and supporting their performance session\, and also receive valuable tuition and support from our great mentors in workshops at the opposite part of the day. \n\nAwards \nEvery ensemble performing receives a Platinum\, Gold or Silver participation certificate along with a director’s video containing the adjudicators voice over. MEFA is primarily a participation event\, so no matter your ensembles skill set\, or repertoire\, awards are given on key criteria that encompass all aspects of an ensemble. \n\nEvening Concert Performances \nOn the evenings of the festival we have fantastic gala concerts with a combination of professional players\, ensembles and invited MEFA participants. \n\n*Send questions and registrations to: education@musicworks.co.nz \n*Register here
URL:https://menza.co.nz/event/mefa-musicworks-ensemble-festival-2023/
LOCATION:Wellington College\, 15 Dufferin St\, Mount Victoria\, Wellington\, 6021\, New Zealand
CATEGORIES:National,Wellington
ATTACH;FMTTYPE=image/jpeg:https://menza.co.nz/wp-content/uploads/2022/11/MEFA-2023.jpeg
ORGANIZER;CN="Musicworks":MAILTO:education@musicworks.co.nz
END:VEVENT
END:VCALENDAR