BEGIN:VCALENDAR
VERSION:2.0
PRODID:-//MENZA - ECPv6.15.20//NONSGML v1.0//EN
CALSCALE:GREGORIAN
METHOD:PUBLISH
X-WR-CALNAME:MENZA
X-ORIGINAL-URL:https://menza.co.nz
X-WR-CALDESC:Events for MENZA
REFRESH-INTERVAL;VALUE=DURATION:PT1H
X-Robots-Tag:noindex
X-PUBLISHED-TTL:PT1H
BEGIN:VTIMEZONE
TZID:UTC
BEGIN:STANDARD
TZOFFSETFROM:+0000
TZOFFSETTO:+0000
TZNAME:UTC
DTSTART:20220101T000000
END:STANDARD
END:VTIMEZONE
BEGIN:VEVENT
DTSTART;TZID=UTC:20231120T083000
DTEND;TZID=UTC:20231120T170000
DTSTAMP:20260422T030431
CREATED:20231009T143632Z
LAST-MODIFIED:20231016T112901Z
UID:170384-1700469000-1700499600@menza.co.nz
SUMMARY:Safer Spaces in Music Education Workshop - Tāmaki Makaurau
DESCRIPTION:MENZA is thrilled to be partnering with Safer Spaces in Music Education (SSME) to present this very important workshop. It is made possible by funding from the Networks of Expertise\, and the workshops are free for all music educators. There is a limit of 28 participants in this workshop\, so be quick! \nThe ‘Professional Respect’ Workshop is a bespoke training designed to support Worksafe’s Health&Safety guidelines to prevent sexual harassment in the workplace. The Professional Respect training day has been developed in conjunction with SoundCheck Aotearoa and are based on a similar training that has been rolled out across the screen sector. \nThe full-day training is friendly and interactive and the content includes: \n\nDefinitions of sexual harassment and sexual harm within New Zealand legislation\nWorkSafe obligations and legal requirements for workplaces\nGuidance for receiving disclosures of sexual harm and supporting survivors\nOptions and pathways for reporting sexual harm and support services available\nStrategies for preventing sexual harm and fostering a respectful work environment\nPractical tips for bystander intervention.\n\nThe day starts at 8.30 for tea and coffee\, with an opening karakia at 9am sharp\, and runs through until 5pm. Breaks and refreshments/lunch will be provided. The training days are facilitated by sexual harm prevention and response specialists Rachel Harrison and Mel Calvesbert\, who are experienced practitioners in sexual harm prevention and response and they will ensure that the discussion is safe\, constructive and respectful. There will be no requirement to share personal information in the workshop. If you have any concerns and would like to discuss how to attend or contribute in a safe way\, please contact please contact Jeni.\n \nJeni Little\, HOD Music at Hobsonville Point Secondary School (jeni.little@hobsonvillepoint.school.nz) will be the liaison and host for this workshop. \nMonday 20 November\, 8.30am-5.00pm \nVenue: The Tuning Fork \nPlease register here so that we can make the necessary arrangements for catering and resources and so we can keep in touch about the day and provide information. \nThank you for supporting this initiative!
URL:https://menza.co.nz/event/safer-spaces-in-music-education-workshop-tamaki-makaurau/
CATEGORIES:Auckland and Northland
ATTACH;FMTTYPE=image/png:https://menza.co.nz/wp-content/uploads/2023/10/Safer-Spaces-logo.png
END:VEVENT
END:VCALENDAR