BEGIN:VCALENDAR
VERSION:2.0
PRODID:-//MENZA - ECPv6.15.20//NONSGML v1.0//EN
CALSCALE:GREGORIAN
METHOD:PUBLISH
X-WR-CALNAME:MENZA
X-ORIGINAL-URL:https://menza.co.nz
X-WR-CALDESC:Events for MENZA
REFRESH-INTERVAL;VALUE=DURATION:PT1H
X-Robots-Tag:noindex
X-PUBLISHED-TTL:PT1H
BEGIN:VTIMEZONE
TZID:UTC
BEGIN:STANDARD
TZOFFSETFROM:+0000
TZOFFSETTO:+0000
TZNAME:UTC
DTSTART:20230101T000000
END:STANDARD
END:VTIMEZONE
BEGIN:VEVENT
DTSTART;TZID=UTC:20240219T190000
DTEND;TZID=UTC:20240219T210000
DTSTAMP:20260422T013252
CREATED:20240215T211748Z
LAST-MODIFIED:20240215T211748Z
UID:170715-1708369200-1708376400@menza.co.nz
SUMMARY:Singing\, Saying\, Moving\, Playing
DESCRIPTION:Come and join The Canterbury Musical Parenting Association for a hands on workshop at Te Ara Atea in Rolleston. No prior musical knowledge or signing ability is required! You will take away inspiration and knowledge about how to use music and movement in the everyday lives of tamariki. You will also learn how music enhances social and emotional learning and regulation. \nThe workshop is targeted at anyone who has contact with children under the age of 8. Parents\, whanau\, ECE and Primary School teachers\, as well as other child focussed professionals are welcome! \nWhen: Monday the 19th of February from 7.00-9.00 \nWhere: Te Ara Atea\, Rolleston \nCost: $10\, tickets through www.humanitix.com/nz\, just search for \nSinging\, Saying\, Moving\, Playing
URL:https://menza.co.nz/event/singing-saying-moving-playing/
LOCATION:Te Ara Ātea\, 56 Tennyson Street\, Rolleston\, Christchurch\, Canterbury\, 7614\, New Zealand
CATEGORIES:Canterbury
ATTACH;FMTTYPE=image/jpeg:https://menza.co.nz/wp-content/uploads/2024/02/Julie-Wylie-Musical-Play.jpeg
ORGANIZER;CN="Canterbury Musical Parenting Association":MAILTO:j.keehan@xtra.co.nz
END:VEVENT
END:VCALENDAR