BEGIN:VCALENDAR
VERSION:2.0
PRODID:-//MENZA - ECPv6.15.20//NONSGML v1.0//EN
CALSCALE:GREGORIAN
METHOD:PUBLISH
X-ORIGINAL-URL:https://menza.co.nz
X-WR-CALDESC:Events for MENZA
REFRESH-INTERVAL;VALUE=DURATION:PT1H
X-Robots-Tag:noindex
X-PUBLISHED-TTL:PT1H
BEGIN:VTIMEZONE
TZID:Pacific/Auckland
BEGIN:STANDARD
TZOFFSETFROM:+1300
TZOFFSETTO:+1200
TZNAME:NZST
DTSTART:20230401T140000
END:STANDARD
BEGIN:DAYLIGHT
TZOFFSETFROM:+1200
TZOFFSETTO:+1300
TZNAME:NZDT
DTSTART:20230923T140000
END:DAYLIGHT
BEGIN:STANDARD
TZOFFSETFROM:+1300
TZOFFSETTO:+1200
TZNAME:NZST
DTSTART:20240406T140000
END:STANDARD
BEGIN:DAYLIGHT
TZOFFSETFROM:+1200
TZOFFSETTO:+1300
TZNAME:NZDT
DTSTART:20240928T140000
END:DAYLIGHT
BEGIN:STANDARD
TZOFFSETFROM:+1300
TZOFFSETTO:+1200
TZNAME:NZST
DTSTART:20250405T140000
END:STANDARD
BEGIN:DAYLIGHT
TZOFFSETFROM:+1200
TZOFFSETTO:+1300
TZNAME:NZDT
DTSTART:20250927T140000
END:DAYLIGHT
END:VTIMEZONE
BEGIN:VEVENT
DTSTART;VALUE=DATE:20240905
DTEND;VALUE=DATE:20240908
DTSTAMP:20260422T095153
CREATED:20240717T214839Z
LAST-MODIFIED:20240717T214839Z
UID:171251-1725494400-1725753599@menza.co.nz
SUMMARY:Aurora Festival
DESCRIPTION:Orchestras and Concert bands Sept 5\, 6 \nBig Bands Sept 7 \nAududicators \nDr Rob McWilliaims \nDr Patrick Shepherd \nVincent Hardaker \nPablo Ruiz Henao \n 
URL:https://menza.co.nz/event/aurora-festival/
LOCATION:The Aurora Centre\, Greers Rd\, Christchurch\, Canterbury\, 8053\, New Zealand
CATEGORIES:Canterbury
ATTACH;FMTTYPE=image/webp:https://menza.co.nz/wp-content/uploads/2024/07/The-Aurora-Festival.webp
ORGANIZER;CN="CWSMTA":MAILTO:Nanako.Sato@staff.hagley.school.nz
END:VEVENT
END:VCALENDAR