BEGIN:VCALENDAR
VERSION:2.0
PRODID:-//MENZA - ECPv6.15.20//NONSGML v1.0//EN
CALSCALE:GREGORIAN
METHOD:PUBLISH
X-ORIGINAL-URL:https://menza.co.nz
X-WR-CALDESC:Events for MENZA
REFRESH-INTERVAL;VALUE=DURATION:PT1H
X-Robots-Tag:noindex
X-PUBLISHED-TTL:PT1H
BEGIN:VTIMEZONE
TZID:Pacific/Auckland
BEGIN:STANDARD
TZOFFSETFROM:+1300
TZOFFSETTO:+1200
TZNAME:NZST
DTSTART:20230401T140000
END:STANDARD
BEGIN:DAYLIGHT
TZOFFSETFROM:+1200
TZOFFSETTO:+1300
TZNAME:NZDT
DTSTART:20230923T140000
END:DAYLIGHT
BEGIN:STANDARD
TZOFFSETFROM:+1300
TZOFFSETTO:+1200
TZNAME:NZST
DTSTART:20240406T140000
END:STANDARD
BEGIN:DAYLIGHT
TZOFFSETFROM:+1200
TZOFFSETTO:+1300
TZNAME:NZDT
DTSTART:20240928T140000
END:DAYLIGHT
BEGIN:STANDARD
TZOFFSETFROM:+1300
TZOFFSETTO:+1200
TZNAME:NZST
DTSTART:20250405T140000
END:STANDARD
BEGIN:DAYLIGHT
TZOFFSETFROM:+1200
TZOFFSETTO:+1300
TZNAME:NZDT
DTSTART:20250927T140000
END:DAYLIGHT
END:VTIMEZONE
BEGIN:VEVENT
DTSTART;TZID=Pacific/Auckland:20240930T171500
DTEND;TZID=Pacific/Auckland:20240930T200000
DTSTAMP:20260422T082752
CREATED:20240818T223714Z
LAST-MODIFIED:20240904T103333Z
UID:171292-1727716500-1727726400@menza.co.nz
SUMMARY:SECRET SONG  - MEC celebrates 50 years
DESCRIPTION:You are invited to a movie night\nMonday September 30th (the start of the school break!) \n  \nas Music Education Canterbury (MEC) celebrates 50 years 1974-2024 \n5:15pm mix and mingle \n6pm “The Secret Song” (brought back to show in NZ by popular request) \nTickets available from lumierecinemas.co.nz/movie/the-secret-song \n$10 tickets (MEC/MENZA price) \n$20 full price \n  \nAbout the movie \nFor over four decades\, Doug Goodkin nurtured the innate musicality in children as a pre-k through 8th grade music teacher in San Francisco. Dropping in on what would turn out to be a tumultuous final year of teaching\, “The Secret Song” gives an intimate view into Goodkin’s teaching approach\, the vibrant impact it has on students and alumni\, and the value of musical improvisation in navigating real-world challenges. \nA lifelong musician\, Goodkin “loved learning\, but hated school.” He seeks to teach children differently than the traditional lessons he was raised with. After a chance exposure with an alternative approach to music education in college\, Goodkin would devote his life to teaching music in an accessible and enjoyable way. Goodkin’s time-tested methods are thrown into disarray as the COVID-19 pandemic forces the school into remote learning three months before Goodkin’s planned retirement. A program which once prioritized group-learning\, movement\, dance\, and instilling music “through the ear\, not through the eye” has to adapt to an online format. Goodkin’s close colleagues and friends\, James Harding and Sofia Lopez-Ibor\, who will take over the music program in his wake\, share his heartbreak at the possibility he will not get a proper send off.
URL:https://menza.co.nz/event/secret-song-mec-celebrates-50-years/
LOCATION:Lumiere Cinemas\, 26 Rolleston Avenue\, Christchurch\, Canterbury\, 8013\, New Zealand
CATEGORIES:Canterbury
ATTACH;FMTTYPE=image/png:https://menza.co.nz/wp-content/uploads/2024/08/Secret-Song.png
END:VEVENT
END:VCALENDAR