BEGIN:VCALENDAR
VERSION:2.0
PRODID:-//MENZA - ECPv6.15.20//NONSGML v1.0//EN
CALSCALE:GREGORIAN
METHOD:PUBLISH
X-WR-CALNAME:MENZA
X-ORIGINAL-URL:https://menza.co.nz
X-WR-CALDESC:Events for MENZA
REFRESH-INTERVAL;VALUE=DURATION:PT1H
X-Robots-Tag:noindex
X-PUBLISHED-TTL:PT1H
BEGIN:VTIMEZONE
TZID:Pacific/Auckland
BEGIN:STANDARD
TZOFFSETFROM:+1300
TZOFFSETTO:+1200
TZNAME:NZST
DTSTART:20240406T140000
END:STANDARD
BEGIN:DAYLIGHT
TZOFFSETFROM:+1200
TZOFFSETTO:+1300
TZNAME:NZDT
DTSTART:20240928T140000
END:DAYLIGHT
BEGIN:STANDARD
TZOFFSETFROM:+1300
TZOFFSETTO:+1200
TZNAME:NZST
DTSTART:20250405T140000
END:STANDARD
BEGIN:DAYLIGHT
TZOFFSETFROM:+1200
TZOFFSETTO:+1300
TZNAME:NZDT
DTSTART:20250927T140000
END:DAYLIGHT
BEGIN:STANDARD
TZOFFSETFROM:+1300
TZOFFSETTO:+1200
TZNAME:NZST
DTSTART:20260404T140000
END:STANDARD
BEGIN:DAYLIGHT
TZOFFSETFROM:+1200
TZOFFSETTO:+1300
TZNAME:NZDT
DTSTART:20260926T140000
END:DAYLIGHT
END:VTIMEZONE
BEGIN:VEVENT
DTSTART;TZID=Pacific/Auckland:20250323T143000
DTEND;TZID=Pacific/Auckland:20250323T143000
DTSTAMP:20260422T013235
CREATED:20250319T035328Z
LAST-MODIFIED:20250319T035328Z
UID:171770-1742740200-1742740200@menza.co.nz
SUMMARY:Whakawhanaungatanga Hui in Wellington
DESCRIPTION:Whakawhanaungatanga Hui in Wellington at Southern Cross Garden Bar Restaurant\, 39 Abel Smith Street\, Te Aro\, Wellington. All teachers welcome\, food provided. A good chance to catch up with your local network of music teachers. Please register here.
URL:https://menza.co.nz/event/whakawhanaungatanga-hui-in-wellington/
LOCATION:Southern Cross Garden Bar Restaurant\, 39 Abel Smith Street\, Te Aro\, Wellington\, Southern Cross Garden Bar Restaurant\, 39 Abel Smith Street\, Te Aro\, Wellington\, New Zealand
CATEGORIES:Wellington
ATTACH;FMTTYPE=image/jpeg:https://menza.co.nz/wp-content/uploads/2023/05/IMG_37501-2.jpg
END:VEVENT
BEGIN:VEVENT
DTSTART;TZID=Pacific/Auckland:20250323T143000
DTEND;TZID=Pacific/Auckland:20250323T170000
DTSTAMP:20260422T013235
CREATED:20250319T234218Z
LAST-MODIFIED:20250319T234306Z
UID:171780-1742740200-1742749200@menza.co.nz
SUMMARY:Working with Neurodiverse Students
DESCRIPTION:Yiyi Ku and Julie Wylie Sunday 23rd March\, 2.30pm – 5.00pm\nThe Village\, 362a Ilam Road\, Bryndwr \n$20 IRMTNZ members \n$30 Non members \nPlease register using the link below. \n Working with Neurodiverse Students \nThe neurodiversity paradigm is a framework for understanding human brain function that considers the diversity within sensory processing\, motor abilities\, social comfort\, cognition\, and focus as neurobiological differences. This diversity falls on a spectrum of neurocognitive differences. The neurodiversity paradigm argues that diversity in neurocognition is part of humanity and that some neurodivergences generally classified as disorders\, such as autism\, are differences with strengths and weaknesses as well as disabilities that are not necessarily pathological. Neurotypical individuals are those who fall within the average range of functioning and thinking. 2.30 – 3.00 Yiyi Ku – My Journey with Kodi Lee – How I became his piano teacher\, how I taught him\, and what teaching him has taught me.\n3pm Afternoon tea break\n3.30 – 5.00 Julie Wylie – Working with Neurodiverse students\nJulie will talk briefly about the neuroscience of musical play\, key aspects of understanding the sensory needs of a person with neuro-diversity and how teachers can adapt their music to suit their students’ needs.\nJulie will then present three case studies of children on the spectrum. Each one is very different but provides a clear understanding of how music can be used to help these children to make sense of their world and to restore order from what is often a very unpredictable and chaotic world.\nShe will then give short interactive improvised examples with other players on the keyboard showing ways that teachers can play alongside their students\, giving rhythmic and melodic support to whatever the student creates.\nJulie will then show us some simple improvisational techniques of how she has supported students she has worked with over the years at the Champion Centre. \nYiyi Ku is a pianist and teacher. She grew up in Christchurch\, studied with Maurice Till and Deidre Irons\, and received a Master of Music with Distinction from University of Canterbury. After graduating\, she taught piano at Rangi Ruru and St Margaret’s College\, before moving to the US in 2005. Yiyi also holds LRSM\, Permanent Certification from Music Teachers National Association (USA)\, and Advanced Certification from Royal Conservatory of Music (Canada). While living in the US\, Yiyi pursued extensive professional development\, attending numerous state and national conventions on piano pedagogy\, teacher training courses\, including Dalcroze Institute at The Juilliard School\, as well as private lessons with master teachers. She was also an active collaborative pianist\, and was Principal Pianist at Temecula Valley Symphony Orchestra for many years. One of Yiyi’s former students is NZ composer Salina Fisher. Most recently\, Yiyi has taught another world famous student – Kodi Lee\, a blind and autistic musical savant who won America’s Got Talent. Yiyi moved back to Christchurch with her husband and daughter in 2022. She continues to teach many US students online and has a thriving local studio. \nREGISTER HERE
URL:https://menza.co.nz/event/working-with-neurodiverse-students/
LOCATION:The Village Community Centre https://villagechurch.nz/bryndwr/
CATEGORIES:Canterbury
ATTACH;FMTTYPE=image/png:https://menza.co.nz/wp-content/uploads/2023/07/Screenshot-2023-07-19-at-3.26.52-PM.png
ORGANIZER;CN="IRMT Christchurch":MAILTO:christchurchirmt@gmail.com
END:VEVENT
END:VCALENDAR