BEGIN:VCALENDAR
VERSION:2.0
PRODID:-//MENZA - ECPv6.15.20//NONSGML v1.0//EN
CALSCALE:GREGORIAN
METHOD:PUBLISH
X-ORIGINAL-URL:https://menza.co.nz
X-WR-CALDESC:Events for MENZA
REFRESH-INTERVAL;VALUE=DURATION:PT1H
X-Robots-Tag:noindex
X-PUBLISHED-TTL:PT1H
BEGIN:VTIMEZONE
TZID:Pacific/Auckland
BEGIN:STANDARD
TZOFFSETFROM:+1300
TZOFFSETTO:+1200
TZNAME:NZST
DTSTART:20240406T140000
END:STANDARD
BEGIN:DAYLIGHT
TZOFFSETFROM:+1200
TZOFFSETTO:+1300
TZNAME:NZDT
DTSTART:20240928T140000
END:DAYLIGHT
BEGIN:STANDARD
TZOFFSETFROM:+1300
TZOFFSETTO:+1200
TZNAME:NZST
DTSTART:20250405T140000
END:STANDARD
BEGIN:DAYLIGHT
TZOFFSETFROM:+1200
TZOFFSETTO:+1300
TZNAME:NZDT
DTSTART:20250927T140000
END:DAYLIGHT
BEGIN:STANDARD
TZOFFSETFROM:+1300
TZOFFSETTO:+1200
TZNAME:NZST
DTSTART:20260404T140000
END:STANDARD
BEGIN:DAYLIGHT
TZOFFSETFROM:+1200
TZOFFSETTO:+1300
TZNAME:NZDT
DTSTART:20260926T140000
END:DAYLIGHT
END:VTIMEZONE
BEGIN:VEVENT
DTSTART;TZID=Pacific/Auckland:20250328T160000
DTEND;TZID=Pacific/Auckland:20250328T170000
DTSTAMP:20260422T013405
CREATED:20250319T035945Z
LAST-MODIFIED:20250319T040152Z
UID:171773-1743177600-1743181200@menza.co.nz
SUMMARY:Whakawhanaungatanga Hui in Ōtepoti Dunedin - launch of the Educators Choir
DESCRIPTION:Ōtepoti Educators Choir 2025\n\n\nJoin us for the inaugural Ōtepoti Educators Choir (official name to be decided) \nLed by Ben Madden and supported by Natasha Manowitz \nOur aim is to sing together for wellbeing and the joy of creating music. We will learn new waiata\, sing old favourites\, practise vocal warm ups and much more. All educators\, support staff\, and people associated with education welcome. \nNo singing/choir experience needed! \nDate: Friday 28th March at 4:00pm (arrive when you can) \nCollege of Education Staffroom  – 145 Union Street East\, Dunedin 9016
URL:https://menza.co.nz/event/whakawhanaungatanga-hui-in-otepoti-dunedin/
LOCATION:College of Education Staffroom\, 145 Union Street East\, Dunedin 9016\, 145 Union Street East\, Dunedin 9016\, New Zealand
CATEGORIES:Otago
ATTACH;FMTTYPE=image/png:https://menza.co.nz/wp-content/uploads/2025/03/Otepoti-Educators-Choir.png
ORGANIZER;CN="MEO":MAILTO:acaldwell@stclair.school.nz
END:VEVENT
END:VCALENDAR