BEGIN:VCALENDAR
VERSION:2.0
PRODID:-//MENZA - ECPv6.15.20//NONSGML v1.0//EN
CALSCALE:GREGORIAN
METHOD:PUBLISH
X-WR-CALNAME:MENZA
X-ORIGINAL-URL:https://menza.co.nz
X-WR-CALDESC:Events for MENZA
REFRESH-INTERVAL;VALUE=DURATION:PT1H
X-Robots-Tag:noindex
X-PUBLISHED-TTL:PT1H
BEGIN:VTIMEZONE
TZID:Pacific/Auckland
BEGIN:STANDARD
TZOFFSETFROM:+1300
TZOFFSETTO:+1200
TZNAME:NZST
DTSTART:20240406T140000
END:STANDARD
BEGIN:DAYLIGHT
TZOFFSETFROM:+1200
TZOFFSETTO:+1300
TZNAME:NZDT
DTSTART:20240928T140000
END:DAYLIGHT
BEGIN:STANDARD
TZOFFSETFROM:+1300
TZOFFSETTO:+1200
TZNAME:NZST
DTSTART:20250405T140000
END:STANDARD
BEGIN:DAYLIGHT
TZOFFSETFROM:+1200
TZOFFSETTO:+1300
TZNAME:NZDT
DTSTART:20250927T140000
END:DAYLIGHT
BEGIN:STANDARD
TZOFFSETFROM:+1300
TZOFFSETTO:+1200
TZNAME:NZST
DTSTART:20260404T140000
END:STANDARD
BEGIN:DAYLIGHT
TZOFFSETFROM:+1200
TZOFFSETTO:+1300
TZNAME:NZDT
DTSTART:20260926T140000
END:DAYLIGHT
END:VTIMEZONE
BEGIN:VEVENT
DTSTART;TZID=Pacific/Auckland:20250702T080000
DTEND;TZID=Pacific/Auckland:20250704T170000
DTSTAMP:20260422T030945
CREATED:20250427T080745Z
LAST-MODIFIED:20250427T080745Z
UID:171828-1751443200-1751648400@menza.co.nz
SUMMARY:He Wai Kōmako - NEWZATS Conference 2025
DESCRIPTION:He Wai Kōmako – NEWZATs warmly invites you to Conference 2025 “Ngā Ringa Kōmiri” in Tāmaki Makaurau from July 2-4 at the University of Auckland\, School of Music! This exciting event will offer a fantastic professional development opportunity for singing teachers\, choir directors\, and voice professionals across Aotearoa. Expect engaging workshops on Musical Theatre\, Classical\, Jazz\, and Vocal Cross-Training\, alongside expert-led presentations on Vocal Health Science. We’re thrilled to welcome keynote speaker Mary Saunders-Barton from the USA\, and there will be plenty of opportunities for networking and connecting with fellow singing enthusiasts\, including a celebratory Gala Dinner at the Copthorne! This is an event you won’t want to miss! Register through the link below.\n\nhttps://www.newzats.org.nz/conference-2025.html
URL:https://menza.co.nz/event/he-wai-komako-newzats-conference-2025/
LOCATION:Auckland University\, 6 Symonds Street\, Auckland\, 1010\, New Zealand
CATEGORIES:Auckland and Northland
ATTACH;FMTTYPE=image/png:https://menza.co.nz/wp-content/uploads/2025/04/NEWZATS-conference-2025-header.png
END:VEVENT
END:VCALENDAR