BEGIN:VCALENDAR
VERSION:2.0
PRODID:-//MENZA - ECPv6.15.20//NONSGML v1.0//EN
CALSCALE:GREGORIAN
METHOD:PUBLISH
X-WR-CALNAME:MENZA
X-ORIGINAL-URL:https://menza.co.nz
X-WR-CALDESC:Events for MENZA
REFRESH-INTERVAL;VALUE=DURATION:PT1H
X-Robots-Tag:noindex
X-PUBLISHED-TTL:PT1H
BEGIN:VTIMEZONE
TZID:Pacific/Auckland
BEGIN:STANDARD
TZOFFSETFROM:+1300
TZOFFSETTO:+1200
TZNAME:NZST
DTSTART:20240406T140000
END:STANDARD
BEGIN:DAYLIGHT
TZOFFSETFROM:+1200
TZOFFSETTO:+1300
TZNAME:NZDT
DTSTART:20240928T140000
END:DAYLIGHT
BEGIN:STANDARD
TZOFFSETFROM:+1300
TZOFFSETTO:+1200
TZNAME:NZST
DTSTART:20250405T140000
END:STANDARD
BEGIN:DAYLIGHT
TZOFFSETFROM:+1200
TZOFFSETTO:+1300
TZNAME:NZDT
DTSTART:20250927T140000
END:DAYLIGHT
BEGIN:STANDARD
TZOFFSETFROM:+1300
TZOFFSETTO:+1200
TZNAME:NZST
DTSTART:20260404T140000
END:STANDARD
BEGIN:DAYLIGHT
TZOFFSETFROM:+1200
TZOFFSETTO:+1300
TZNAME:NZDT
DTSTART:20260926T140000
END:DAYLIGHT
BEGIN:STANDARD
TZOFFSETFROM:+1300
TZOFFSETTO:+1200
TZNAME:NZST
DTSTART:20270403T140000
END:STANDARD
BEGIN:DAYLIGHT
TZOFFSETFROM:+1200
TZOFFSETTO:+1300
TZNAME:NZDT
DTSTART:20270925T140000
END:DAYLIGHT
END:VTIMEZONE
BEGIN:VEVENT
DTSTART;TZID=Pacific/Auckland:20251010T180000
DTEND;TZID=Pacific/Auckland:20251010T210000
DTSTAMP:20260426T083637
CREATED:20250924T003131Z
LAST-MODIFIED:20250924T021344Z
UID:172209-1760119200-1760130000@menza.co.nz
SUMMARY:MENZA Podcast Launch
DESCRIPTION:Join us in celebrating the launch of our brand new podcast! We will share kai\, listen to the first episode\, and thank all the behind-the-scenes heroes who made this podcast possible. \nVenue: the Tuning Fork in Auckland. \nPlease RSVP here for catering purposes. \nSee you there!
URL:https://menza.co.nz/event/menza-podcast-launch/
LOCATION:The Tuning Fork\, 42/80 Mahuhu Crescent\, Parnell\, Auckland\, 1010
CATEGORIES:Auckland and Northland
ATTACH;FMTTYPE=image/jpeg:https://menza.co.nz/wp-content/uploads/2025/09/Podcast-launch-image.jpg
END:VEVENT
BEGIN:VEVENT
DTSTART;TZID=Pacific/Auckland:20260912T000000
DTEND;TZID=Pacific/Auckland:20260913T235959
DTSTAMP:20260426T083637
CREATED:20260325T020343Z
LAST-MODIFIED:20260325T020343Z
UID:172445-1789171200-1789343999@menza.co.nz
SUMMARY:Music Therapy New Zealand Conference 2026
DESCRIPTION:The Music Therapy New Zealand Conference 2026\, with the theme Te Poutama Hononga: Weaving Connections\, celebrates the art of weaving together people\, stories\, and music\, creating patterns of understanding\, and community. The te reo name\, gifted by Matua Sonny Niha (University of Auckland Centre for Brain Research) means “the connected journey of achievement and progress”. Each thread represents a unique experience or voice\, and through the process of weaving diverse strands\, new relationships and meanings emerge. \nGuest speakers include:\nKatie Pureti (NZRMTh\, MMusTher\, BMus\, ATL) and Jan McConnell (MAAT\, DTAA (Prof)\, ANZACATA\, PNZ)\nTopic: Mauri Tui Tuia Creative Therapies New Zealand \nDr Waireti Roestenburg (Ngāti Kahungunu ki Wairoa\, Ngāti Pāhauwera\, Rongomaiwahine\, Ngāpuhi nui- tonu\, Dutch\, Irish\, English) \, PhD Psychology\nTopic: Taonga Ihi Orooro – Māori Sacred Sound Healing. \nFor further information\, see our website (www.musictherapy.org)\nEarly bird registrations open on 1 May.
URL:https://menza.co.nz/event/music-therapy-new-zealand-conference-2026/
LOCATION:Grafton Campus\, University of Auckland\, 85 Park Road\, Auckland\, New Zealand
CATEGORIES:Auckland and Northland,National
ATTACH;FMTTYPE=image/jpeg:https://menza.co.nz/wp-content/uploads/2026/03/MThNZ-Conference-2026-scaled.jpg
ORGANIZER;CN="Music Therapy New Zealand":MAILTO:info@musictherapy.org.nz
END:VEVENT
END:VCALENDAR