BEGIN:VCALENDAR
VERSION:2.0
PRODID:-//MENZA - ECPv6.15.20//NONSGML v1.0//EN
CALSCALE:GREGORIAN
METHOD:PUBLISH
X-WR-CALNAME:MENZA
X-ORIGINAL-URL:https://menza.co.nz
X-WR-CALDESC:Events for MENZA
REFRESH-INTERVAL;VALUE=DURATION:PT1H
X-Robots-Tag:noindex
X-PUBLISHED-TTL:PT1H
BEGIN:VTIMEZONE
TZID:Pacific/Auckland
BEGIN:STANDARD
TZOFFSETFROM:+1300
TZOFFSETTO:+1200
TZNAME:NZST
DTSTART:20150404T140000
END:STANDARD
BEGIN:DAYLIGHT
TZOFFSETFROM:+1200
TZOFFSETTO:+1300
TZNAME:NZDT
DTSTART:20150926T140000
END:DAYLIGHT
BEGIN:STANDARD
TZOFFSETFROM:+1300
TZOFFSETTO:+1200
TZNAME:NZST
DTSTART:20160402T140000
END:STANDARD
BEGIN:DAYLIGHT
TZOFFSETFROM:+1200
TZOFFSETTO:+1300
TZNAME:NZDT
DTSTART:20160924T140000
END:DAYLIGHT
BEGIN:STANDARD
TZOFFSETFROM:+1300
TZOFFSETTO:+1200
TZNAME:NZST
DTSTART:20170401T140000
END:STANDARD
BEGIN:DAYLIGHT
TZOFFSETFROM:+1200
TZOFFSETTO:+1300
TZNAME:NZDT
DTSTART:20170923T140000
END:DAYLIGHT
END:VTIMEZONE
BEGIN:VTIMEZONE
TZID:UTC
BEGIN:STANDARD
TZOFFSETFROM:+0000
TZOFFSETTO:+0000
TZNAME:UTC
DTSTART:20140101T000000
END:STANDARD
END:VTIMEZONE
BEGIN:VEVENT
DTSTART;TZID=Pacific/Auckland:20160806T090000
DTEND;TZID=Pacific/Auckland:20160806T123000
DTSTAMP:20260421T165816
CREATED:20160210T093414Z
LAST-MODIFIED:20160210T093414Z
UID:162790-1470474000-1470486600@menza.co.nz
SUMMARY:Auckland Orff Workshop
DESCRIPTION:Presenter: Rozy Winstone – for teachers of children 0-6 yrs \n\n9:00- 10.30 Vocal and ukulele skills for teachers\n11:00 -12.30 Playing with Stories
URL:https://menza.co.nz/event/auckland-orff-workshop-2/
LOCATION:Auckland
CATEGORIES:Auckland and Northland
ATTACH;FMTTYPE=image/png:https://menza.co.nz/wp-content/uploads/2016/01/Screen-Shot-2016-01-24-at-8.27.13-pm1-1.png
END:VEVENT
BEGIN:VEVENT
DTSTART;VALUE=DATE:20160713
DTEND;VALUE=DATE:20160715
DTSTAMP:20260421T165816
CREATED:20151113T221959Z
LAST-MODIFIED:20151113T221959Z
UID:161114-1468368000-1468540799@menza.co.nz
SUMMARY:Pan Pacific Youth Harmony Festival
DESCRIPTION:A cappella festival brings Pitch Perfect music-maker to Auckland!\nHave you ever wished you could sing in a group like Pentatonix or the Barden Bellas from Pitch Perfect? Now’s your chance to discover how that feels!\nThe Pan Pacific Youth Harmony Festival is a brand new festival celebrating all things a cappella! From 13-14 July\, the festival will take over Auckland’s Aotea Centre with workshops and shows for music-lovers of all ages\, and competitions for youth barbershop quartets and a cappella groups.\nAttendees will have a once-in-a-lifetime opportunity to learn directly from Deke Sharon – the “father of contemporary a cappella.” Producer of The Sing Off\, arranger\, musical director\, and vocal producer of Pitch Perfect and Pitch Perfect 2\, Deke has worked with everyone in a cappella from Pentatonix to Anna Kendrick.\nNew to a cappella? Learn the basics in Deke’s Introduction to A Cappella workshop. Or\, watch how techniques are applied to a live group\, in Deke’s A Cappella Masterclass. Got your own arrangement? Take it to the next level and spend one-on-one time with Deke in his Arranger’s Masterclass.\nMusic-lovers can watch quartets and groups perform in the competitions\, or see the best of the best at the Showcase of Champions.\nTickets available at Ticketmaster\, or visit www.panpacificharmony.com.
URL:https://menza.co.nz/event/pan-pacific-youth-harmony-festival-2/
LOCATION:Aotea Centre\, 50 Mayoral Drive\, Auckland\, 1010
CATEGORIES:Auckland and Northland
ATTACH;FMTTYPE=image/jpeg:https://menza.co.nz/wp-content/uploads/2015/11/Deke-Sharon-image-1.jpg
END:VEVENT
BEGIN:VEVENT
DTSTART;TZID=Pacific/Auckland:20160625T093000
DTEND;TZID=Pacific/Auckland:20160625T123000
DTSTAMP:20260421T165816
CREATED:20160210T101521Z
LAST-MODIFIED:20160210T101521Z
UID:162794-1466847000-1466857800@menza.co.nz
SUMMARY:Auckland Orff Workshop
DESCRIPTION:Presenters: Clare McCormack and Hayley Hunter – Workshop for Primary Teachers \n9.30am – 12.30pm Workshop 2: Focus on Vocal Music Making with an Orff Approach \n 
URL:https://menza.co.nz/event/auckland-orff-workshop-6/
LOCATION:Auckland
CATEGORIES:Auckland and Northland
ATTACH;FMTTYPE=image/png:https://menza.co.nz/wp-content/uploads/2016/01/Screen-Shot-2016-01-24-at-8.27.13-pm1-1.png
END:VEVENT
BEGIN:VEVENT
DTSTART;VALUE=DATE:20160617
DTEND;VALUE=DATE:20160618
DTSTAMP:20260421T165816
CREATED:20160107T191846Z
LAST-MODIFIED:20160107T191846Z
UID:162713-1466121600-1466207999@menza.co.nz
SUMMARY:DAYTiME 2016 in Auckland
DESCRIPTION:A Day of Technology in Music Education for educators in New Zealand. \nPresented by Music EDnet\, DAYTiME is an annual series of conferences across Australia and New Zealand and is a unique opportunity to hear from some of the most knowledgeable and experienced exponents of the use of music technology in education in our region. It also offers a chance to spend some time networking with your peers and sharing ideas and experiences. \n We are delighted to have Dr Edward Primrose\, Director of the Composers Centre\, Sydney and an outstanding conductor\, composer and educator\, presenting the Auckland Keynote From pen to cloud: composing change. Delegates will then have the opportunity to choose from 16 various sessions covering a wide range of topics related to integrating technology into your music program. \nWhat’s on in 2016\n\nInspiring\, challenging and thought-provoking keynotes\nA stream focused on Primary Music\nSessions for new and pre-service teachers\nGuidance for those who think they are technology challenged\nInnovative and practical ideas in evolving pedagogies\, such as blended and flipped learning\nStrategies with portable devices and BYOD and BYOT policies\nAdvanced sessions on selected application such as Sibelius\, Pro Tools and Ableton Live (varies by location)\n… and much more!
URL:https://menza.co.nz/event/daytime-2016-in-auckland/
LOCATION:Ellerslie Event Centre\, 80 Ascot Ave\, Remuera\, Auckland\, 1050\, New Zealand
CATEGORIES:Auckland and Northland,National
ATTACH;FMTTYPE=image/jpeg:https://menza.co.nz/wp-content/uploads/2016/01/Auckland-2016-926-1.jpg
ORGANIZER;CN="Music EDnet":MAILTO:info@musicednet.co.nz
END:VEVENT
BEGIN:VEVENT
DTSTART;TZID=Pacific/Auckland:20160405T090000
DTEND;TZID=Pacific/Auckland:20160405T163000
DTSTAMP:20260421T165816
CREATED:20160222T203717Z
LAST-MODIFIED:20160222T203717Z
UID:162821-1459846800-1459873800@menza.co.nz
SUMMARY:Secondary Years 7-13 Workshops with Dr James Cuskelly
DESCRIPTION:Catering for music specialists\, and classroom teachers wanting to develop music literacy using a fun but structured approach.  This aural-vocal approach to music education is based on the philosophies and teachings of Zoltan Kodaly\, a Hungarian composer and ethnomusicologist.  Focusing on the voice as the primary instrument for learning and teaching and incorporating games\, movement\, instruments\, reading and writing music\, the teaching sequence follows students’ natural learning development: listen – sing – understand – play – read and write – create.   \nSecondary Workshops\, Tuesday 5 April\, 9.00am-4:30pm \nSenior Years 7-10  9:00am-12:30pm \n\n$35 MENZA members\n$50 Non-MENZA members\nFee includes morning tea\n\nSenior Years 11-13 1:30pm-4:30pm \n\n$30 MENZA members\n$45 Non-MENZA members\n\nWhole Day Senior Years Tuesday 5 April\, 9.00am-4:30pm \n\n$70 MENZA members\n$100 Non-MENZA members\nFee includes morning tea and lunch\n\nHeld at Dilworth Junior Campus\, 27 Omahu Road\, Remuera \nNon-MENZA members rate includes FREE MENZA membership – to sign up for membership after completing the form\, please go to menza.co.nz to register \n\nFacilitator\, Dr James Cuskelly is Head of Faculty: Creative Arts and Design Studies at St Aidan’s Anglican Girl’s School\, Brisbane\, President of the International Kodály Society\, Director of the Summer School Music Program\, and Director of the Cuskelly College of Music. \nWatch this trailer for the documentary about James and the Kodály Method here. \nDr Cuskelly has a very broad base in education\, having taught in Kindergarten\, pre-school\, primary and secondary classrooms as well as in tertiary institutions. His passion for music\, and his ability to enthuse and bring about effective learning in students across all ages or abilities\, is internationally recognised. He is committed to teacher training\, and is considered a global leader in music education. James runs a variety of accredited teacher training programs including the Summer School Music Program (Brisbane) and Australia Kodály Certificate programs in Malaysia\, Perth\, New Zealand and Indonesia. \n“Dr Cuskelly is infinitely knowledgeable and passionate about the Kodály method and is able to draw from years of tertiary and current multi – level school teaching experience. He is everything an inspiring teacher should be – encouraging\, engaging\, empowering and perceptive – with the added bonus of being hugely entertaining.” \nMore information: contact Megan Flint meganjude@xtra.co.nz \nDownload and print the registration form here
URL:https://menza.co.nz/event/secondary-years-7-13-workshops-with-dr-james-cuskelly/
LOCATION:Dilworth Junior School\, 27 Omahu Road\, Remuera\, Auckland\, 1050\, New Zealand
CATEGORIES:Auckland and Northland
ATTACH;FMTTYPE=image/jpeg:https://menza.co.nz/wp-content/uploads/2013/01/Dr-James-Cuskelly-1.jpeg
END:VEVENT
BEGIN:VEVENT
DTSTART;TZID=Pacific/Auckland:20160404T090000
DTEND;TZID=Pacific/Auckland:20160404T150000
DTSTAMP:20260421T165816
CREATED:20160222T203009Z
LAST-MODIFIED:20160222T203009Z
UID:162815-1459760400-1459782000@menza.co.nz
SUMMARY:Primary Years 1-6 Workshop with Dr James Cuskelly
DESCRIPTION:Catering for music specialists\, and classroom teachers wanting to develop music literacy using a fun but structured approach.  This aural-vocal approach to music education is based on the philosophies and teachings of Zoltan Kodaly\, a Hungarian composer and ethnomusicologist.  Focusing on the voice as the primary instrument for learning and teaching and incorporating games\, movement\, instruments\, reading and writing music\, the teaching sequence follows students’ natural learning development: listen – sing – understand – play – read and write – create.   \nPrimary Years 1-6 Workshop Monday 4 April\, 9:00-3:00pm \n\n$60 MENZA members\n$90 Non-MENZA Members\nFee includes morning tea and lunch\n\nHeld at Dilworth Junior Campus\, 27 Omahu Road\, Remuera \n(Individual Workshop rates available – please check registration form below) \nNon-MENZA members rate includes FREE MENZA membership – to sign up for membership after completing the form\, please go to menza.co.nz to register \n Facilitator\, Dr James Cuskelly is Head of Faculty: Creative Arts and Design Studies at St Aidan’s Anglican Girl’s School\, Brisbane\, President of the International Kodály Society\, Director of the Summer School Music Program\, and Director of the Cuskelly College of Music.\nWatch this trailer for the documentary about James and the Kodály Method here. \nDr Cuskelly has a very broad base in education\, having taught in Kindergarten\, pre-school\, primary and secondary classrooms as well as in tertiary institutions. His passion for music\, and his ability to enthuse and bring about effective learning in students across all ages or abilities\, is internationally recognised. He is committed to teacher training\, and is considered a global leader in music education. James runs a variety of accredited teacher training programs including the Summer School Music Program (Brisbane) and Australia Kodály Certificate programs in Malaysia\, Perth\, New Zealand and Indonesia. \n“Dr Cuskelly is infinitely knowledgeable and passionate about the Kodály method and is able to draw from years of tertiary and current multi – level school teaching experience. He is everything an inspiring teacher should be – encouraging\, engaging\, empowering and perceptive – with the added bonus of being hugely entertaining.” \nMore information: contact Megan Flint meganjude@xtra.co.nz \nDownload and print the registration form here
URL:https://menza.co.nz/event/primary-years-1-6-workshop-with-dr-james-cuskelly/
LOCATION:Dilworth Junior School\, 27 Omahu Road\, Remuera\, Auckland\, 1050\, New Zealand
CATEGORIES:Auckland and Northland
ATTACH;FMTTYPE=image/jpeg:https://menza.co.nz/wp-content/uploads/2013/01/Dr-James-Cuskelly-1.jpeg
END:VEVENT
BEGIN:VEVENT
DTSTART;TZID=Pacific/Auckland:20160402T093000
DTEND;TZID=Pacific/Auckland:20160402T123000
DTSTAMP:20260421T165816
CREATED:20160210T101343Z
LAST-MODIFIED:20160210T101343Z
UID:162793-1459589400-1459600200@menza.co.nz
SUMMARY:Auckland Orff Workshop
DESCRIPTION:Presenters: Robyn McQueen and Jeremy Hantler – Workshop for Primary Teachers \n9.30am – 12.30pm : Focus on Instrumental Music Making with an Orff Approach \n 
URL:https://menza.co.nz/event/auckland-orff-workshop-5/
LOCATION:Auckland
CATEGORIES:Auckland and Northland
ATTACH;FMTTYPE=image/png:https://menza.co.nz/wp-content/uploads/2016/01/Screen-Shot-2016-01-24-at-8.27.13-pm1-1.png
END:VEVENT
BEGIN:VEVENT
DTSTART;TZID=Pacific/Auckland:20160319T090000
DTEND;TZID=Pacific/Auckland:20160319T123000
DTSTAMP:20260421T165816
CREATED:20160210T101044Z
LAST-MODIFIED:20160210T101044Z
UID:162788-1458378000-1458390600@menza.co.nz
SUMMARY:Auckland Orff Workshop
DESCRIPTION:Presenter Shirley Harvey – for teachers of children 0-6 yrs. \n\n9:00-10.30am Vocal and Ukulele skills for teachers\n11:00am – 12.30pm Helping young children find their singing voice
URL:https://menza.co.nz/event/auckland-orff-workshop-4/
LOCATION:Auckland
CATEGORIES:Auckland and Northland
ATTACH;FMTTYPE=image/png:https://menza.co.nz/wp-content/uploads/2016/01/Screen-Shot-2016-01-24-at-8.27.13-pm1-1.png
END:VEVENT
BEGIN:VEVENT
DTSTART;TZID=Pacific/Auckland:20160305T090000
DTEND;TZID=Pacific/Auckland:20160305T123000
DTSTAMP:20260421T165816
CREATED:20160209T190912Z
LAST-MODIFIED:20160209T190912Z
UID:162787-1457168400-1457181000@menza.co.nz
SUMMARY:Auckland Orff Workshop
DESCRIPTION:For teachers of children 0-6 yrs. \nPresenter: Caroline Zeeman \n\n9:00 – 10.30am Vocal and ukulele skills for teachers\n11 am – 12.30pm Language and music workshop – rhymes\, poems and stories.\n\n(see www.orffnz.org for more details and registration)
URL:https://menza.co.nz/event/auckland-orff-workshop/
LOCATION:Auckland
CATEGORIES:Auckland and Northland
ATTACH;FMTTYPE=image/png:https://menza.co.nz/wp-content/uploads/2016/01/Screen-Shot-2016-01-24-at-8.27.13-pm1-1.png
END:VEVENT
BEGIN:VEVENT
DTSTART;TZID=UTC:20160122T100000
DTEND;TZID=UTC:20160122T143000
DTSTAMP:20260421T165816
CREATED:20151207T061109Z
LAST-MODIFIED:20151207T061109Z
UID:162677-1453456800-1453473000@menza.co.nz
SUMMARY:PD for instrumental teachers
DESCRIPTION:Hosted by Dr Julie Garner\nOutline:\n10:00-11:30am  Applying Kodaly techniques to instrumental teaching (Ruth Godfrey)\n11:45-12:45 Group instrumental teaching (Trevor Thwaites)\n1:00-1:30 Student engagement – discussion\n1:30-2:30 Lunch and chat \nCost: $25.00 per person\, includes lunch\, tea/coffee\nVenue: ACG Parnell College\, Music Dept. \nAll participants will be provided with proof of attendance for your portfolios in case you should need it for LAT/registration purposes. \nIf you are interested in attending\, please RSVP to Julie.Garner@acgedu.com by Tuesday January 9th so lunch can be arranged.
URL:https://menza.co.nz/event/pd-for-instrumental-teachers/
LOCATION:ACG Parnell College\, Music Dept.
CATEGORIES:Auckland and Northland
ATTACH;FMTTYPE=image/jpeg:https://menza.co.nz/wp-content/uploads/2015/12/facebook_event_1645283699068987-1.jpg
END:VEVENT
BEGIN:VEVENT
DTSTART;VALUE=DATE:20160118
DTEND;VALUE=DATE:20160119
DTSTAMP:20260421T165816
CREATED:20151104T100829Z
LAST-MODIFIED:20151104T100829Z
UID:161008-1453075200-1453161599@menza.co.nz
SUMMARY:Estill Voice Training
DESCRIPTION:5 day level 1&2
URL:https://menza.co.nz/event/estill-voice-training/
LOCATION:Dilworth Junior School\, 27 Omahu Road\, Remuera\, Auckland\, 1050\, New Zealand
CATEGORIES:Auckland and Northland
ATTACH;FMTTYPE=image/jpeg:https://menza.co.nz/wp-content/uploads/2015/11/facebook_event_950531931696817-1.jpg
END:VEVENT
BEGIN:VEVENT
DTSTART;TZID=UTC:20151128T110000
DTEND;TZID=UTC:20151128T110000
DTSTAMP:20260421T165816
CREATED:20151109T041919Z
LAST-MODIFIED:20151109T041919Z
UID:161078-1448708400-1448708400@menza.co.nz
SUMMARY:The New Zealand Ukulele Festival
DESCRIPTION:It’s time for our children and communities to make music together with the world’s friendliest instrument. Come and see why this is the happiest day on Auckland’ s event calendar. There is something for everyone!
URL:https://menza.co.nz/event/the-new-zealand-ukulele-festival/
LOCATION:The Trusts Arena\, 65-67 Central Park Drive\, Auckland\, 6000\, New Zealand
CATEGORIES:Auckland and Northland
ATTACH;FMTTYPE=image/jpeg:https://menza.co.nz/wp-content/uploads/2015/11/facebook_event_1042768129106803-1.jpg
END:VEVENT
BEGIN:VEVENT
DTSTART;TZID=UTC:20151127T130000
DTEND;TZID=UTC:20151127T160000
DTSTAMP:20260421T165816
CREATED:20151104T041340Z
LAST-MODIFIED:20151104T041340Z
UID:160993-1448629200-1448640000@menza.co.nz
SUMMARY:Working Smarter - Designing effective teaching and learning courses in NCEA Music for secondary school students
DESCRIPTION:A  half  day  workshop  suitable  for  middle  leaders  and  teachers  in  charge  of  Music    in  secondary  schools.  This  workshop  will  model  course  design\, digital  moderation  and  the  collection  of  evidence that  will  enable  students  of  Music  to  use  a  body  of  work  for  multiple  assessment  opportunities.\nUsing  an  integrated  model\,  teachers  will  investigate  ways  to  select  relevant\,        meaningful  and  engaging  contexts  to  inform  the  design\,  development  and  moderation  of        their  NCEA  L1  -3  courses.\nParticipants  will  have  an  opportunity  to  discuss  specific  concerns  and  share  student  exemplars.
URL:https://menza.co.nz/event/working-smarter-designing-effective-teaching-and-learning-courses-in-ncea-music-for-secondary-school-students/
LOCATION:Kohia  Education  Centre  –  Gate  1\,  78  Epsom  Avenue\,  Epsom\,  Auckland
CATEGORIES:Auckland and Northland
ATTACH;FMTTYPE=image/jpeg:https://menza.co.nz/wp-content/uploads/2015/11/facebook_event_1517482135230019-1.jpg
END:VEVENT
BEGIN:VEVENT
DTSTART;TZID=UTC:20151127T090000
DTEND;TZID=UTC:20151129T170000
DTSTAMP:20260421T165816
CREATED:20151109T033144Z
LAST-MODIFIED:20151109T033144Z
UID:161066-1448614800-1448816400@menza.co.nz
SUMMARY:Ukulele Leadership Training Aotearoa / New Zealand (Fri & Sun)
DESCRIPTION:Two days of professional development for ukulele teachers (of adults or children) separated by the legendary NZ Ukulele Festival. Places are limited (maximum of 40) – book now at http://www.ukuleleleadership.com Suitable for those who want to share ukulele (and music-making) in a sustainable\, professional and community fashion\, whether you are just starting out\, or have been doing it for years.
URL:https://menza.co.nz/event/ukulele-leadership-training-aotearoa-new-zealand-fri-sun/
LOCATION:Bayfield School\, Bayfield Primary School - Clifton Road Herne Bay\, Auckland\, 1011\, New Zealand
CATEGORIES:Auckland and Northland
ATTACH;FMTTYPE=image/jpeg:https://menza.co.nz/wp-content/uploads/2015/11/facebook_event_1623696164562703-1.jpg
END:VEVENT
BEGIN:VEVENT
DTSTART;TZID=UTC:20151126T143000
DTEND;TZID=UTC:20151126T143000
DTSTAMP:20260421T165816
CREATED:20151121T035228Z
LAST-MODIFIED:20151121T035228Z
UID:162638-1448548200-1448548200@menza.co.nz
SUMMARY:Playing with Music
DESCRIPTION:Playing with music: How play and music\, including children’s improvised singing\, can be incorporated into early childhood settings – RSVP to t.thwaites@auckland.ac.nz
URL:https://menza.co.nz/event/playing-with-music/
LOCATION:Epsom Campus\, University of Auckland
CATEGORIES:Auckland and Northland
ATTACH;FMTTYPE=image/jpeg:https://menza.co.nz/wp-content/uploads/2015/11/facebook_event_454982687960190-1.jpg
END:VEVENT
BEGIN:VEVENT
DTSTART;TZID=UTC:20151031T093000
DTEND;TZID=UTC:20151031T093000
DTSTAMP:20260421T165816
CREATED:20151103T102724Z
LAST-MODIFIED:20151103T102724Z
UID:160976-1446283800-1446283800@menza.co.nz
SUMMARY:Salzburg Highlights - Orff Workshop with Clare
DESCRIPTION:Sharing highlights of my recent Salzburg visit to the Orff Institute\nRegister with Clare McCormack
URL:https://menza.co.nz/event/salzburg-highlights-orff-workshop-with-clare/
LOCATION:Mairangi Bay School\, 13 Agathis Ave\, Auckland\, New Zealand
CATEGORIES:Auckland and Northland
ATTACH;FMTTYPE=image/jpeg:https://menza.co.nz/wp-content/uploads/2015/11/facebook_event_404185693113026-1.jpg
END:VEVENT
END:VCALENDAR