BEGIN:VCALENDAR
VERSION:2.0
PRODID:-//MENZA - ECPv6.15.20//NONSGML v1.0//EN
CALSCALE:GREGORIAN
METHOD:PUBLISH
X-WR-CALNAME:MENZA
X-ORIGINAL-URL:https://menza.co.nz
X-WR-CALDESC:Events for MENZA
REFRESH-INTERVAL;VALUE=DURATION:PT1H
X-Robots-Tag:noindex
X-PUBLISHED-TTL:PT1H
BEGIN:VTIMEZONE
TZID:UTC
BEGIN:STANDARD
TZOFFSETFROM:+0000
TZOFFSETTO:+0000
TZNAME:UTC
DTSTART:20140101T000000
END:STANDARD
END:VTIMEZONE
BEGIN:VEVENT
DTSTART;TZID=UTC:20151106T193000
DTEND;TZID=UTC:20151106T193000
DTSTAMP:20260421T214055
CREATED:20151103T102946Z
LAST-MODIFIED:20151103T102946Z
UID:160980-1446838200-1446838200@menza.co.nz
SUMMARY:The Mozart Requiem performed by The Atlas Voices Ensemble  at Knox Church
DESCRIPTION:Friday November 6th at 7:30 pm at Knox Church.  Tickets through the Court Theatre:\nhttps://www.patronbase.com/_CourtTheatre/Sections/Choose?prod_id=6844&perf_id=1
URL:https://menza.co.nz/event/the-mozart-requiem-performed-by-the-atlas-voices-ensemble-at-knox-church/
LOCATION:Knox Presbyterian Church Christchurch\, Cnr Bealey Avenue and Victoria Stret\, Christchurch\, New Zealand
CATEGORIES:Canterbury
ATTACH;FMTTYPE=image/jpeg:https://menza.co.nz/wp-content/uploads/2015/11/facebook_event_186223045048839-1.jpg
END:VEVENT
END:VCALENDAR