BEGIN:VCALENDAR
VERSION:2.0
PRODID:-//MENZA - ECPv6.15.20//NONSGML v1.0//EN
CALSCALE:GREGORIAN
METHOD:PUBLISH
X-ORIGINAL-URL:https://menza.co.nz
X-WR-CALDESC:Events for MENZA
REFRESH-INTERVAL;VALUE=DURATION:PT1H
X-Robots-Tag:noindex
X-PUBLISHED-TTL:PT1H
BEGIN:VTIMEZONE
TZID:Pacific/Auckland
BEGIN:STANDARD
TZOFFSETFROM:+1300
TZOFFSETTO:+1200
TZNAME:NZST
DTSTART:20240406T140000
END:STANDARD
BEGIN:DAYLIGHT
TZOFFSETFROM:+1200
TZOFFSETTO:+1300
TZNAME:NZDT
DTSTART:20240928T140000
END:DAYLIGHT
BEGIN:STANDARD
TZOFFSETFROM:+1300
TZOFFSETTO:+1200
TZNAME:NZST
DTSTART:20250405T140000
END:STANDARD
BEGIN:DAYLIGHT
TZOFFSETFROM:+1200
TZOFFSETTO:+1300
TZNAME:NZDT
DTSTART:20250927T140000
END:DAYLIGHT
BEGIN:STANDARD
TZOFFSETFROM:+1300
TZOFFSETTO:+1200
TZNAME:NZST
DTSTART:20260404T140000
END:STANDARD
BEGIN:DAYLIGHT
TZOFFSETFROM:+1200
TZOFFSETTO:+1300
TZNAME:NZDT
DTSTART:20260926T140000
END:DAYLIGHT
BEGIN:STANDARD
TZOFFSETFROM:+1300
TZOFFSETTO:+1200
TZNAME:NZST
DTSTART:20270403T140000
END:STANDARD
BEGIN:DAYLIGHT
TZOFFSETFROM:+1200
TZOFFSETTO:+1300
TZNAME:NZDT
DTSTART:20270925T140000
END:DAYLIGHT
END:VTIMEZONE
BEGIN:VEVENT
DTSTART;TZID=Pacific/Auckland:20250907T130000
DTEND;TZID=Pacific/Auckland:20250907T150000
DTSTAMP:20260426T155827
CREATED:20250719T231959Z
LAST-MODIFIED:20250719T231959Z
UID:172143-1757250000-1757257200@menza.co.nz
SUMMARY:French Circle Dances and English Country Dances
DESCRIPTION:French Circle DancesHere we will learn simple dances from Renaissance France. These dances have easy tunes which can be sung or played by the tutor/students on recorder and drum.\n\nEnglish Country DancesMoving on from the French Circle dances\, we will learn medium difficulty-level English dances first published in 1651. These dances have easy tunes which can be played by the tutor/students on recorder and drum.\n\nAbout NicolaNicola joined the Society for Creative Anachronism (SCA) while she was studying at the University of Canterbury. This diverse group of historic re-enactors exposed her to many aspects of European culture\, including cooking\, crafts\, martial arts\, music\, and dance. After their dance master moved back to Australia\, Nicola began teaching the weekly dance classes for the SCA\, a volunteer position which lasted thirteen years.\n\nCost – $30 per person.\n\nPlease register using this link https://forms.gle/7KGQ99t8SawWCVG47
URL:https://menza.co.nz/event/french-circle-dances-and-english-country-dances/
LOCATION:WEA Canterbury Workers’ Educational Association\, 59 Gloucester Street\, Christchurch\, Canterbury\, 8013\, New Zealand
CATEGORIES:Canterbury
ATTACH;FMTTYPE=image/jpeg:https://menza.co.nz/wp-content/uploads/2025/07/Country-Dances-MEC-CSM.jpg
END:VEVENT
BEGIN:VEVENT
DTSTART;TZID=Pacific/Auckland:20251023T000000
DTEND;TZID=Pacific/Auckland:20251027T235959
DTSTAMP:20260426T155827
CREATED:20250221T234417Z
LAST-MODIFIED:20250221T235003Z
UID:171722-1761177600-1761609599@menza.co.nz
SUMMARY:Christchurch Big Band Jazz Festival 2025
DESCRIPTION:The Christchurch Big Band Jazz Festival is a five day music festival held every Labour weekend in Christchurch. \n• It brings fresh musical vibrancy to the streets and venues of Ōtautahi\, Christchurch in spring\, attracting thousands of listeners to exciting toe-tapping entertainment all around the city. \n• Running since 2006\, the CBBF is run by the community for the community and is the only Big Band Festival in New Zealand. \n• Accessibility is a kaupapa of the festival with mostly free performances. \n• Bands from all over New Zealand gather in Christchurch to play Big Band style jazz providing performance opportunities for around 500 musicians in 20 – 25 groups across 60 scheduled performances as well as a Big band Boogie Ball. \nAs well as all the performances\, there are workshops for youth and all ages as well as a jam night and parade to join in with. \nJunior Jazz Jam\, an event for Primary school aged jazz bands runs on the Thursday afternoon. \nSee details and registration at chchbigbandfest.com. [Registration is through a portal – if you have played other years\, you just login and \nSpecific event details will be updated from late May on. \nRegistrations open late February and close May 3rd for big bands\, but workshops and ticketed events will be live until the event unless sold out prior.
URL:https://menza.co.nz/event/christchurch-big-band-jazz-festival-2025/
LOCATION:Christchurch\, Canterbury\, New Zealand
CATEGORIES:Canterbury
ATTACH;FMTTYPE=image/png:https://menza.co.nz/wp-content/uploads/2025/02/CBBJF2025.png
END:VEVENT
BEGIN:VEVENT
DTSTART;TZID=Pacific/Auckland:20260220T170000
DTEND;TZID=Pacific/Auckland:20260222T150000
DTSTAMP:20260426T155827
CREATED:20251125T022337Z
LAST-MODIFIED:20251126T065153Z
UID:172259-1771606800-1771772400@menza.co.nz
SUMMARY:Taonga Puoro weekend: Rapaki Marae\, Ōtautahi
DESCRIPTION:Nau mai haere mai ki te ao Puoro. \nWelcome to the world of Taonga Puoro in the world of Tangata Moana.\n\nPlease fill out the registration form if you would like to attend a Taonga Puoro wānanga at Rapaki Marae\, Christchurch.\n\nDetails:\n\nVenue: Rapaki Marae\, Christchurch\nDates: Friday 20th 5pm – Sunday 22 February 2026 3pm\nPowhiri: 5pm\nKoha: a gift to Mana whenua – Can be a taonga\, money or tradtional rongoa\nCost: Koha to MENZA\nFacilitators: Kelly Kahukiwa\, Horomona Horo\, Wiremu Sarich\n\n\nWhat to bring: \n– Blanket\n– Pillow\n– Appropriate clothing\n– Instrument (could be a Taonga Puoro\, Guitar\, Harp\, Trumpet\, Stone\, Spoons – kei a koe\, up to you)\n– Shell\, Stick\, Stone kei a koe te tikanga\, it is up to you how big or small.\n– Bring lots of questions\n– Be open minded\n\n\nNoho Marae: \nWe are limited to 40 spaces\, so a confirmation email will be sent out by December the 1st. \n\nPlease arrange your transport to and from Marae\, full catering is provided\n\n\nMENZA Organisation Contact: admin@menza.co.nz\nWānanga Contact: Christian McDonald chris.mcd@hotmail.co.nz 0224161353\n  \nTo secure your place\, please register here.
URL:https://menza.co.nz/event/taonga-puoro-rapaki-marae-otautahi-2/
LOCATION:Rāpaki Marae\, 37 Rapaki Drive\, Te Rāpaki-o-Te Rakiwhakaputa\, 8971\, New Zealand
CATEGORIES:Canterbury,National
ATTACH;FMTTYPE=image/png:https://menza.co.nz/wp-content/uploads/2024/08/Screenshot-2024-08-29-at-3.16.17 PM.png
END:VEVENT
BEGIN:VEVENT
DTSTART;TZID=Pacific/Auckland:20260418T100000
DTEND;TZID=Pacific/Auckland:20260418T120000
DTSTAMP:20260426T155827
CREATED:20260304T031818Z
LAST-MODIFIED:20260304T031818Z
UID:172422-1776506400-1776513600@menza.co.nz
SUMMARY:The Power of Musical Play
DESCRIPTION:This two hour interactive practical Musical Play workshop is based on Julie Wylie and Dr. Susan Foster Cohen’s recently published book “Unleashing the Power of Musical Play” Routledge Publishers England.\nIt will help participants to gain understanding about Julie Wylie’s philosophy of Musical Play through practical exploration of how to follow the child through improvisation\, specific use of the elements of music. use of sung instructions and narrative songs. There wil be an emphasis on exploring the importance of musical play to human development and human relationships within families\, in schools\, early childhood settings\, and in therapeutic contexts. Musical play can enrich communities\, bring people together from different cultures\, through intergenerational music\, and support individual and community well being. \nBOOK NOW \nDate: Saturday April 18th\nTime: 10 am-12pm\nVenue: Hoon Hay Presbyterian Church\, 5 Downing St\, off Lewis St which is off Hoon Hay Rd.\nFee: $60\nTo register: Please email jcwyliemusic@gmail.com before 11 April.\nPayment should be made to the following account. PLEASE NOTE THIS IS A DIFFERENT ACCOUNT FROM THE ONE YOU PAY CLASS FEES TO.\nAccount Name: Julie Wylie Institute of Musical Play Limited\nAccount No: 02-0828-0131676-000\nParticulars: 180426\nReference: Your name \n  \nJulie Wylie MNZM founded the New Zealand Musical Parenting Association in 1992. She was the founder of the musical play programme at the Champion Centre\, Burwood Hospital\, Christchurch\, New Zealand\, where she was the senior music specialist for twenty eight years. Julie has been invited to present music workshops and papers in many countries\, including Korea\, Japan\, Singapore\, Australia\, the United Kingdom\, Lithuania\, Estonia and Finland. She has received awards for her music leadership\, and her music resources have won international awards. Julie was made a member of the New Zealand Order of Merit in the 2018 Queen’s Birthday Honours. She has her own music school for mothers and babies and children aged 0-8 years founded in 1990 and is the Director of the Postgraduate online training programme: “Certificate of Musical Play as Therapy”.
URL:https://menza.co.nz/event/the-power-of-musical-play/
LOCATION:Hoon Hay Presbyterian Church\, 5 Downing St\, Christchurch\, Canterbury\, 8025\, New Zealand
CATEGORIES:Canterbury
ATTACH;FMTTYPE=image/jpeg:https://menza.co.nz/wp-content/uploads/2026/03/Julie-Wylie-April-18-2026-workshop-Power-of-Musical-Play.jpg
ORGANIZER;CN="Julie Wylie":MAILTO:info@juliewyliemusic.com
END:VEVENT
BEGIN:VEVENT
DTSTART;TZID=Pacific/Auckland:20260422T080000
DTEND;TZID=Pacific/Auckland:20260423T170000
DTSTAMP:20260426T155827
CREATED:20260422T024601Z
LAST-MODIFIED:20260422T024601Z
UID:172463-1776844800-1776963600@menza.co.nz
SUMMARY:Loopy Tunes Preschool Music - Workshop for Educators
DESCRIPTION:Greymouth: Wed\, 22 Apr\, from 1-2.30pm\, at Tai Poutini Polytechnic \nDarfield: Thu\, 23 Apr\, from 1-2.30pm\, at the Darfield Recreation Centre \nWorkshop fee is $46 per person (booking fee\, optional) \nWe are excited to offer a workshop for kaiako | educators | musicians | volunteers | children’s music enthusiasts to come along to\, to learn more about the mahi that we do\, the resources we have to offer (and how we use them in our classes)\, and more! \nThe following is what the workshop will include: \n\nA focus on deconstructing the music classes we run\nSharing the different ways we use the bilingual songs that we create\nLots of group discussion\, using it as a time to share resources with each other\nSome Q&A time towards the end of the workshop\nSome “brain food” (aka. light nibbles) to help encourage some good discussons! Please email us directly if you have any food intolerances that we need to consider.\nA certificate of completion to add to your professtional development kete!\n\n  \nWe are Siu Williams-Lemi and Leah Williams-Partington\, a sister music duo\, based in Ōtautahi/Christchurch\, who specialise in bilingual Māori children’s music\, who have been running community preschool music classes for over 15 years. These classes are a HUGE part of our “why” and we are grateful for the opportunity to not only share what we have learned along the way\, but to also offer a space to share together with other kaiako in the same field. As with any of our performances\, this will be very interactive and we will have you all up and enjoying a kanikani and singalong with us… more than once! \nHere is some feedback from previous workshops: \nThe workshop provided excellent new ideas and served as a great reminder that even small efforts can make a big difference! \nLovely ladies. Inclusive\, welcoming\, and valuable sharing of ideas. Fabulous waiata – wonderful resourced – it is special that so many children get to hear their own languages and therefore feel seen\, heard\, included and valued. \nLeah and Siu were both so lovely to talk to in person and so down to earth. I got so many great ideas for how to run music sessions with my preschoolers. Thank you so much! \nThanks for being so generous in sharing your music and mahi! Awesome for someone like me who is not so musically gifted but know the importance of it for our tamariki
URL:https://menza.co.nz/event/loopy-tunes-preschool-music-workshop-for-educators/
CATEGORIES:Canterbury
ATTACH;FMTTYPE=image/png:https://menza.co.nz/wp-content/uploads/2026/04/Tour-poster-Flyer-A4-1.png
END:VEVENT
END:VCALENDAR