BEGIN:VCALENDAR
VERSION:2.0
PRODID:-//MENZA - ECPv6.15.20//NONSGML v1.0//EN
CALSCALE:GREGORIAN
METHOD:PUBLISH
X-WR-CALNAME:MENZA
X-ORIGINAL-URL:https://menza.co.nz
X-WR-CALDESC:Events for MENZA
REFRESH-INTERVAL;VALUE=DURATION:PT1H
X-Robots-Tag:noindex
X-PUBLISHED-TTL:PT1H
BEGIN:VTIMEZONE
TZID:UTC
BEGIN:STANDARD
TZOFFSETFROM:+0000
TZOFFSETTO:+0000
TZNAME:UTC
DTSTART:20230101T000000
END:STANDARD
END:VTIMEZONE
BEGIN:VEVENT
DTSTART;TZID=UTC:20240229T160000
DTEND;TZID=UTC:20240229T170000
DTSTAMP:20260422T194628
CREATED:20240215T082642Z
LAST-MODIFIED:20240215T082642Z
UID:170709-1709222400-1709226000@menza.co.nz
SUMMARY:New Music Foundation NCEA Level 1 Resource ZOOM workshop
DESCRIPTION:Join this ZOOM session to get ideas on how to use this new Music Foundations resource with the writer\, Stephen Garton. \nThis great resource will aid secondary teachers with their Year 11 programme. The resource is based on Music Foundations for students in Year 11 and is suitable for either teaching NCEA or an alternative programme. The resource is based on the Big Ideas and will give students foundational knowledge to begin their Year 11 programme. There are aspects of Matauranga Māori intertwined into the resource\, which will help teachers build their knowledge in Te ao Māori. \nClick here for the ZOOM Link.
URL:https://menza.co.nz/event/new-music-foundation-ncea-level-1-resource-zoom-workshop/
CATEGORIES:National
ATTACH;FMTTYPE=image/png:https://menza.co.nz/wp-content/uploads/2024/01/Music-Foundation-Cover.png
END:VEVENT
END:VCALENDAR