BEGIN:VCALENDAR
VERSION:2.0
PRODID:-//MENZA - ECPv6.15.20//NONSGML v1.0//EN
CALSCALE:GREGORIAN
METHOD:PUBLISH
X-WR-CALNAME:MENZA
X-ORIGINAL-URL:https://menza.co.nz
X-WR-CALDESC:Events for MENZA
REFRESH-INTERVAL;VALUE=DURATION:PT1H
X-Robots-Tag:noindex
X-PUBLISHED-TTL:PT1H
BEGIN:VTIMEZONE
TZID:UTC
BEGIN:STANDARD
TZOFFSETFROM:+0000
TZOFFSETTO:+0000
TZNAME:UTC
DTSTART:20140101T000000
END:STANDARD
END:VTIMEZONE
BEGIN:VTIMEZONE
TZID:Pacific/Auckland
BEGIN:STANDARD
TZOFFSETFROM:+1300
TZOFFSETTO:+1200
TZNAME:NZST
DTSTART:20140405T140000
END:STANDARD
BEGIN:DAYLIGHT
TZOFFSETFROM:+1200
TZOFFSETTO:+1300
TZNAME:NZDT
DTSTART:20140927T140000
END:DAYLIGHT
BEGIN:STANDARD
TZOFFSETFROM:+1300
TZOFFSETTO:+1200
TZNAME:NZST
DTSTART:20150404T140000
END:STANDARD
BEGIN:DAYLIGHT
TZOFFSETFROM:+1200
TZOFFSETTO:+1300
TZNAME:NZDT
DTSTART:20150926T140000
END:DAYLIGHT
BEGIN:STANDARD
TZOFFSETFROM:+1300
TZOFFSETTO:+1200
TZNAME:NZST
DTSTART:20160402T140000
END:STANDARD
BEGIN:DAYLIGHT
TZOFFSETFROM:+1200
TZOFFSETTO:+1300
TZNAME:NZDT
DTSTART:20160924T140000
END:DAYLIGHT
END:VTIMEZONE
BEGIN:VTIMEZONE
TZID:UTC
BEGIN:STANDARD
TZOFFSETFROM:+0000
TZOFFSETTO:+0000
TZNAME:UTC
DTSTART:20140101T000000
END:STANDARD
END:VTIMEZONE
BEGIN:VEVENT
DTSTART;TZID=UTC:20160129T160000
DTEND;TZID=UTC:20160129T200000
DTSTAMP:20260420T180035
CREATED:20160106T073943Z
LAST-MODIFIED:20160106T073943Z
UID:162702-1454083200-1454097600@menza.co.nz
SUMMARY:Playing With Songs
DESCRIPTION:Play-songs and games with music\, movement and play materials provide a wealth of opportunities for singing\, playing\, moving\, creating and learning. Extending these can widen experience in sensory awareness\, language\, listening\, visualisation and communication. The Orff approach to singing\, dancing and playing is multi-sensory\, active and creative\, and includes all players with their individual abilities and is therefore suitable for groups of mixed ability. Using various instruments\, movement\, voice as well as stimulating material not only goals in music and movement can be achieved but also in perception\, social learning and communication. This workshop will present a number of play-songs and their extensions primarily for children from 4 – 11 years (with and without disabilities) but adaptable for other ages and abilities. \nShirley Day Salmon studied Music at York University\, England (with John Paynter and others) and trained as an early years and primary teacher (PCGE\, London University). Since moving to Austria\, she has developed further expertise in music therapy\, sign language and inclusive education and acquired a masters in educational science (University of Innsbruck\, Austria). She has worked with many ages and abilities including deaf and hard of hearing; children in residential homes with behavioural problems; children and adults with and without disabilities in mainstream and more specialised contexts. She has taught at the Orff Institute\, Salzburg since 1984 and has been director of the postgraduate university course “ Advanced Studies in Music and Dance Education – Orff-Schulwerk” at the Orff Institute since 2006. She teaches on summer courses at the Orff Institute\, teaches and lectures nationally and internationally and has published books ( e.g. Hallo Children. A collection of songs and related activities for children aged 4 -9. Schott 2007) and numerous articles in journals. \nTickets are available at http://playing-with-songs.eventbrite.co.nz
URL:https://menza.co.nz/event/playing-with-songs/
LOCATION:Christchurch School of Music Inc  cnr Ferry Rd and Barbadoes St  entry through Catholic Cathedral College  Christchurch\, Canterbury 8011 New
CATEGORIES:Canterbury
ATTACH;FMTTYPE=image/jpeg:https://menza.co.nz/wp-content/uploads/2016/01/facebook_event_938697259539441-1.jpg
END:VEVENT
BEGIN:VEVENT
DTSTART;TZID=UTC:20160122T100000
DTEND;TZID=UTC:20160122T143000
DTSTAMP:20260420T180035
CREATED:20151207T061109Z
LAST-MODIFIED:20151207T061109Z
UID:162677-1453456800-1453473000@menza.co.nz
SUMMARY:PD for instrumental teachers
DESCRIPTION:Hosted by Dr Julie Garner\nOutline:\n10:00-11:30am  Applying Kodaly techniques to instrumental teaching (Ruth Godfrey)\n11:45-12:45 Group instrumental teaching (Trevor Thwaites)\n1:00-1:30 Student engagement – discussion\n1:30-2:30 Lunch and chat \nCost: $25.00 per person\, includes lunch\, tea/coffee\nVenue: ACG Parnell College\, Music Dept. \nAll participants will be provided with proof of attendance for your portfolios in case you should need it for LAT/registration purposes. \nIf you are interested in attending\, please RSVP to Julie.Garner@acgedu.com by Tuesday January 9th so lunch can be arranged.
URL:https://menza.co.nz/event/pd-for-instrumental-teachers/
LOCATION:ACG Parnell College\, Music Dept.
CATEGORIES:Auckland and Northland
ATTACH;FMTTYPE=image/jpeg:https://menza.co.nz/wp-content/uploads/2015/12/facebook_event_1645283699068987-1.jpg
END:VEVENT
BEGIN:VEVENT
DTSTART;TZID=UTC:20160120T110000
DTEND;TZID=UTC:20160120T160000
DTSTAMP:20260420T180035
CREATED:20151214T024445Z
LAST-MODIFIED:20151214T024445Z
UID:162684-1453287600-1453305600@menza.co.nz
SUMMARY:The Art of Musical Play : A Summer Workshop
DESCRIPTION:The Art of Musical Play : A Summer Workshop \nConducted by Julie Wylie and Art Therapist Isobel Mertel \nDate : Wednesday 20th January 2015 \nTime : 11.00am – 4.00pm \nVenue : Okuti Valley Hall\, Little River \nOther Information : Please bring a shared lunch \nCost : $80.00 \nFor Bookings or More Information Please Contact Clare Newton at events@juliewyliemusic.com or 0274626488 \nThis Summer workshop combining Art Therapy and Musical Play for parents\, teachers\, librarians and therapists will demonstrate how participants can develop a nurturing learning environment incorporating art and musical play. Such play supports daily routines and classroom learning in joyful ways that promote children’s pride in achievement. There will be an emphasis on understanding the keys to a child’s learning and how to develop calming\, regulating strategies that provide a nurturing learning environment for young children. \nWhen children learn about the elements of art and music and what\, why and how music and art works in relation to their own bodies\, artistic expression and musical play becomes a vital part of the child’s own form of communication. We develop a sense of self and self-expression through art and musical play. Art and musical play naturally builds healthy brain/body connections.\nPlay gives meaning to everyday tasks and activities. As they explore a range of sensory experiences children learn to think creatively\, to problem solve and to develop a love of learning. All children can develop strengths and talents through artistic musi-\ncal play. A nurturing playful environment is all-important to the development of creativity\, artistic expression\, musicality and\nholistic learning. Artistic musical play can underpin the whole curriculum. \nJulie Wylie \nMus.B (Hons. 1st class)\,B.A. A.T.C.L Dip Tchg. A.I.R.M.T.N.Z. Julie Wylie founded the New Zealand Musical Parenting Association twenty two years ago. She is the founder of the music programme and senior music specialist at the Champion Centre\, at Burwood Hospital\, Christchurch\, New Zealand. Julie has been invited to many countries to present music workshops and papers including Korea\, Japan\, Singapore\, Australia\, UK\, Lithuania\, Estonia and Finland. She has received awards for her music leadership and her music resources have won international awards. Julie also has her own music school for mothers and babies and children 0-8 years. \nIsabel Mertel \nBefore coming to New Zealand\, Isabel worked for twelve years as a qualified Art Therapist in Germany\, Berlin. During that time she collaborated with the Berlin Philharmonic Orchestra creating Art and Music Projects with school children. Since arriving in New Zealand three years ago Isabel has continued working in therapeutic and educational contexts. She introduced Art Therapy to the New Zealand Blind Foundation in Christchurch. Isabel is offering one-on-one sessions as well as art classes for adults and children from 3 years\, both in Christchurch and on the Banks Peninsula. Isabel is also exhibiting her own painting work in New Zealand and Germany.
URL:https://menza.co.nz/event/the-art-of-musical-play-a-summer-workshop/
LOCATION:Okuti Valley Hall\, Little River
CATEGORIES:Canterbury
ATTACH;FMTTYPE=image/jpeg:https://menza.co.nz/wp-content/uploads/2015/12/facebook_event_1014146925314739-1.jpg
END:VEVENT
BEGIN:VEVENT
DTSTART;VALUE=DATE:20160118
DTEND;VALUE=DATE:20160119
DTSTAMP:20260420T180035
CREATED:20151104T100829Z
LAST-MODIFIED:20151104T100829Z
UID:161008-1453075200-1453161599@menza.co.nz
SUMMARY:Estill Voice Training
DESCRIPTION:5 day level 1&2
URL:https://menza.co.nz/event/estill-voice-training/
LOCATION:Dilworth Junior School\, 27 Omahu Road\, Remuera\, Auckland\, 1050\, New Zealand
CATEGORIES:Auckland and Northland
ATTACH;FMTTYPE=image/jpeg:https://menza.co.nz/wp-content/uploads/2015/11/facebook_event_950531931696817-1.jpg
END:VEVENT
BEGIN:VEVENT
DTSTART;VALUE=DATE:20160110
DTEND;VALUE=DATE:20160117
DTSTAMP:20260420T180035
CREATED:20151103T100129Z
LAST-MODIFIED:20151103T100129Z
UID:160970-1452384000-1452988799@menza.co.nz
SUMMARY:Jazz Educators Workshop
DESCRIPTION:Jan 10-16 Wellington
URL:https://menza.co.nz/event/jazz-educators-workshop/
LOCATION:Wellington
CATEGORIES:Wellington
ATTACH;FMTTYPE=image/jpeg:https://menza.co.nz/wp-content/uploads/2015/11/facebook_event_161849750829287-1.jpg
END:VEVENT
BEGIN:VEVENT
DTSTART;VALUE=DATE:20151214
DTEND;VALUE=DATE:20151215
DTSTAMP:20260420T180035
CREATED:20151207T022509Z
LAST-MODIFIED:20151207T022509Z
UID:162669-1450051200-1450137599@menza.co.nz
SUMMARY:WHAT SHOULD THE GOALS OF EDUCATION BE?
DESCRIPTION:N.B. CONSULTATION ENDS 14 DECEMBER \nOur collective challenge is to convince those who control budgets\, curriculum design and delivery that music nurtures the essence of what it is to be human. It is a right\, not a privilege. (Mary Cornish\, MENZA Magazine\, July 2015) \nThe Ministry of Education is consulting about updating the Education Act 1989. They want to know your views about the proposals presented in the discussion document. MENZA encourages all those interested in Music Education and the Arts to make a submission – particularly for the first section of WHAT SHOULD THE GOALS FOR EDUCTION BE? Making a submission is easy – go to https://consultation.education.govt.nz/education/update-of-the-education-act-1989/consultation
URL:https://menza.co.nz/event/what-should-the-goals-of-education-be/
ATTACH;FMTTYPE=image/jpeg:https://menza.co.nz/wp-content/uploads/2015/12/facebook_event_919391944783433-1.jpg
END:VEVENT
BEGIN:VEVENT
DTSTART;TZID=UTC:20151213T193000
DTEND;TZID=UTC:20151213T213000
DTSTAMP:20260420T180035
CREATED:20151207T024112Z
LAST-MODIFIED:20151207T024112Z
UID:162671-1450035000-1450042200@menza.co.nz
SUMMARY:Re-Percussion 2015
DESCRIPTION:Christchurch’s annual all-percussion showcase concert. School\, community and professional groups and soloists. Presented by Pandemonium.\nTickets on the door. $15 adult/$10 senior/$5 student/$35 family (2+2).
URL:https://menza.co.nz/event/re-percussion-2015/
LOCATION:Cashmere High School\, 172 Rose St\, Christchurch\, 8024\, New Zealand
CATEGORIES:Canterbury
ATTACH;FMTTYPE=image/jpeg:https://menza.co.nz/wp-content/uploads/2015/12/facebook_event_1647208615533918-1.jpg
END:VEVENT
BEGIN:VEVENT
DTSTART;TZID=UTC:20151213T140000
DTEND;TZID=UTC:20151213T140000
DTSTAMP:20260420T180035
CREATED:20151123T032813Z
LAST-MODIFIED:20151123T032813Z
UID:162642-1450015200-1450015200@menza.co.nz
SUMMARY:In the Spirit! Christmas concert and carol sing-a-long presented by The Atlas Voices Ensemble
DESCRIPTION:A festive afternoon of christmas music to get you in the holiday mood.  Classical sounds from the Atlas Voices Ensemble complimented by the Christchurch Pops Choir’s contemporary offerings\, and even a song or two from The Vocal Network quartet.  Plus\, of course\, the sounds of children’s voices from the Christchurch School of Music Children’s Choir and the Chisnallwood Intermediate School Choir. Christmas music\, carols\, kids\, a raffle\, Santa!!!!  Come join us and get In the Spirit! A VERY family friendly event!  Order early as seats are very limited and sold out last year!
URL:https://menza.co.nz/event/in-the-spirit-christmas-concert-and-carol-sing-a-long-presented-by-the-atlas-voices-ensemble/
LOCATION:Knox Presbyterian Church Christchurch\, Cnr Bealey Avenue and Victoria Stret\, Christchurch\, New Zealand
CATEGORIES:Canterbury
ATTACH;FMTTYPE=image/jpeg:https://menza.co.nz/wp-content/uploads/2015/11/facebook_event_436157853255626-1.jpg
END:VEVENT
BEGIN:VEVENT
DTSTART;TZID=UTC:20151203T103000
DTEND;TZID=UTC:20151203T113000
DTSTAMP:20260420T180035
CREATED:20151106T045152Z
LAST-MODIFIED:20151106T045152Z
UID:161017-1449138600-1449142200@menza.co.nz
SUMMARY:Celebrating 25 wonderful years of Musical Play
DESCRIPTION:A morning of Christmas Music for pre-schoolers and their families in the Transitional Cathedral\, corner Hereford /Madras St. \nThis event is to Celebrate 25 years of Julie Wylie Music and will include wonderful musicians who are ‘graduates’ from her music classes. \nThursday 3 December 2015 10.30-11.30am \nParking is available on the land south of the Cathedral cnr Cashel /Madras St. \nEnquiries:\nRevd. Nicky Lee\nTel. 353 7883\n021 267 8795
URL:https://menza.co.nz/event/celebrating-25-wonderful-years-of-musical-play/
LOCATION:ChristChurch Cathedral Transitional New Zealand\, 234 Hereford Street\, Christchurch\, 8011\, New Zealand
CATEGORIES:Canterbury
ATTACH;FMTTYPE=image/png:https://menza.co.nz/wp-content/uploads/2015/11/facebook_event_1682499611971097-2.png
END:VEVENT
BEGIN:VEVENT
DTSTART;TZID=UTC:20151128T110000
DTEND;TZID=UTC:20151128T110000
DTSTAMP:20260420T180035
CREATED:20151109T041919Z
LAST-MODIFIED:20151109T041919Z
UID:161078-1448708400-1448708400@menza.co.nz
SUMMARY:The New Zealand Ukulele Festival
DESCRIPTION:It’s time for our children and communities to make music together with the world’s friendliest instrument. Come and see why this is the happiest day on Auckland’ s event calendar. There is something for everyone!
URL:https://menza.co.nz/event/the-new-zealand-ukulele-festival/
LOCATION:The Trusts Arena\, 65-67 Central Park Drive\, Auckland\, 6000\, New Zealand
CATEGORIES:Auckland and Northland
ATTACH;FMTTYPE=image/jpeg:https://menza.co.nz/wp-content/uploads/2015/11/facebook_event_1042768129106803-1.jpg
END:VEVENT
BEGIN:VEVENT
DTSTART;TZID=UTC:20151127T130000
DTEND;TZID=UTC:20151127T160000
DTSTAMP:20260420T180035
CREATED:20151104T041340Z
LAST-MODIFIED:20151104T041340Z
UID:160993-1448629200-1448640000@menza.co.nz
SUMMARY:Working Smarter - Designing effective teaching and learning courses in NCEA Music for secondary school students
DESCRIPTION:A  half  day  workshop  suitable  for  middle  leaders  and  teachers  in  charge  of  Music    in  secondary  schools.  This  workshop  will  model  course  design\, digital  moderation  and  the  collection  of  evidence that  will  enable  students  of  Music  to  use  a  body  of  work  for  multiple  assessment  opportunities.\nUsing  an  integrated  model\,  teachers  will  investigate  ways  to  select  relevant\,        meaningful  and  engaging  contexts  to  inform  the  design\,  development  and  moderation  of        their  NCEA  L1  -3  courses.\nParticipants  will  have  an  opportunity  to  discuss  specific  concerns  and  share  student  exemplars.
URL:https://menza.co.nz/event/working-smarter-designing-effective-teaching-and-learning-courses-in-ncea-music-for-secondary-school-students/
LOCATION:Kohia  Education  Centre  –  Gate  1\,  78  Epsom  Avenue\,  Epsom\,  Auckland
CATEGORIES:Auckland and Northland
ATTACH;FMTTYPE=image/jpeg:https://menza.co.nz/wp-content/uploads/2015/11/facebook_event_1517482135230019-1.jpg
END:VEVENT
BEGIN:VEVENT
DTSTART;TZID=UTC:20151127T090000
DTEND;TZID=UTC:20151129T170000
DTSTAMP:20260420T180035
CREATED:20151109T033144Z
LAST-MODIFIED:20151109T033144Z
UID:161066-1448614800-1448816400@menza.co.nz
SUMMARY:Ukulele Leadership Training Aotearoa / New Zealand (Fri & Sun)
DESCRIPTION:Two days of professional development for ukulele teachers (of adults or children) separated by the legendary NZ Ukulele Festival. Places are limited (maximum of 40) – book now at http://www.ukuleleleadership.com Suitable for those who want to share ukulele (and music-making) in a sustainable\, professional and community fashion\, whether you are just starting out\, or have been doing it for years.
URL:https://menza.co.nz/event/ukulele-leadership-training-aotearoa-new-zealand-fri-sun/
LOCATION:Bayfield School\, Bayfield Primary School - Clifton Road Herne Bay\, Auckland\, 1011\, New Zealand
CATEGORIES:Auckland and Northland
ATTACH;FMTTYPE=image/jpeg:https://menza.co.nz/wp-content/uploads/2015/11/facebook_event_1623696164562703-1.jpg
END:VEVENT
BEGIN:VEVENT
DTSTART;TZID=UTC:20151126T143000
DTEND;TZID=UTC:20151126T143000
DTSTAMP:20260420T180035
CREATED:20151121T035228Z
LAST-MODIFIED:20151121T035228Z
UID:162638-1448548200-1448548200@menza.co.nz
SUMMARY:Playing with Music
DESCRIPTION:Playing with music: How play and music\, including children’s improvised singing\, can be incorporated into early childhood settings – RSVP to t.thwaites@auckland.ac.nz
URL:https://menza.co.nz/event/playing-with-music/
LOCATION:Epsom Campus\, University of Auckland
CATEGORIES:Auckland and Northland
ATTACH;FMTTYPE=image/jpeg:https://menza.co.nz/wp-content/uploads/2015/11/facebook_event_454982687960190-1.jpg
END:VEVENT
BEGIN:VEVENT
DTSTART;TZID=Pacific/Auckland:20151123T173000
DTEND;TZID=Pacific/Auckland:20151123T200000
DTSTAMP:20260420T180035
CREATED:20151101T091323Z
LAST-MODIFIED:20151101T091323Z
UID:160955-1448299800-1448308800@menza.co.nz
SUMMARY:Music Matters in Early Childhood
DESCRIPTION:Celia Stewart will share some great teaching ideas for music in early childhood! \nThis workshop will explore practical ideas to use with infants & toddlers\, and will demonstrate how you can integrate numeracy & literacy learning into your music activities to promote children’s development. We will chant\, sing\, move\, play\, and listen in a workshop that will send you away with ideas you can incorporate immediately into your daily programme. \nCelia has been involved in music education all her life and is currently Music Director of the Christchurch School of Music. She is a regular presenter of workshops in early childhood and primary music education throughout NZ and in 2013 she completed a Masters Degree in education majoring in Orff Schulwerk. \nFood and drink are included in the ticket price. \nPlease note this is the new date for the workshop which was to be scheduled for Mon 19th Oct. \n \nPowered by Eventbrite
URL:https://menza.co.nz/event/music-matters-in-early-childhood/
LOCATION:Chisnallwood Intermediate\, 76 Breezes road Chisnallwood\, Christchurch\, 8061\, New Zealand
CATEGORIES:Canterbury
END:VEVENT
BEGIN:VEVENT
DTSTART;TZID=UTC:20151123T120000
DTEND;TZID=UTC:20151123T120000
DTSTAMP:20260420T180035
CREATED:20151113T033713Z
LAST-MODIFIED:20151113T033713Z
UID:161092-1448280000-1448280000@menza.co.nz
SUMMARY:NZYSW AUDITIONS
DESCRIPTION:Auditions for the 2016 season of NZYSW have been extended! \nFor application info and audition info please go to: nzysw.org/application \nFor specific queries please email Rangimakehu Hall\, Band Manager\, at managernzysw@outlook.com \nI hope to see you all in the new year
URL:https://menza.co.nz/event/nzysw-auditions/
LOCATION:www.nzysw.org/application
ATTACH;FMTTYPE=image/png:https://menza.co.nz/wp-content/uploads/2015/11/facebook_event_1687241091521253-1.png
END:VEVENT
BEGIN:VEVENT
DTSTART;TZID=UTC:20151119T160000
DTEND;TZID=UTC:20151119T160000
DTSTAMP:20260420T180035
CREATED:20151119T054846Z
LAST-MODIFIED:20151119T054846Z
UID:161136-1447948800-1447948800@menza.co.nz
SUMMARY:Wellington Secondary Music Teacher’s Meeting
DESCRIPTION:Agenda; Collaborative Composition Presentation by Vicki Thorpe and then discussion re plans for Wellington Secondary Music teachers and students (PD\, joint ventures etc).
URL:https://menza.co.nz/event/wellington-secondary-music-teachers-meeting-26/
LOCATION:Faculty of Education\, Victoria University of Wellington\, Karori Campus\, Karori\, Wellington\, 6012\, New Zealand
CATEGORIES:Wellington
ATTACH;FMTTYPE=image/png:https://menza.co.nz/wp-content/uploads/2015/11/facebook_event_192899057713487-8.png
END:VEVENT
BEGIN:VEVENT
DTSTART;TZID=UTC:20151111T163000
DTEND;TZID=UTC:20151111T200000
DTSTAMP:20260420T180035
CREATED:20151103T095841Z
LAST-MODIFIED:20151103T095841Z
UID:160966-1447259400-1447272000@menza.co.nz
SUMMARY:MEW - Music Education Waikato - Catch a Song
DESCRIPTION:MEW (MENZA in the Waikato) is running Catch a Song\, a music education workshop on Wednesday afternoon 11 November between 4:30 and 6:00 pm in the music rooms of Waikato Uni\, Faculty of Education. This fun-filled afternoon provides ideas that can go straight into the primary music room or community music settings. Singing\, playing\, movement and music literacy games are all part of the oeuvre. \nChristoph Maubach\nTe Hononga\nUniversity of Waikato\nPhone: 07 838 4620\nE-mail: cmaubach@waikato.ac.nz
URL:https://menza.co.nz/event/mew-music-education-waikato-catch-a-song/
LOCATION:Te Kura Toi Tangata – Faculty of Education – University of Waikato\, Gate 1\, Knighton Rd\, Private Bag 3105\, Hamilton\, 3240\, New Zealand
CATEGORIES:Waikato and Bay of Plenty
ATTACH;FMTTYPE=image/jpeg:https://menza.co.nz/wp-content/uploads/2015/11/facebook_event_107099316320446-1.jpg
END:VEVENT
BEGIN:VEVENT
DTSTART;TZID=UTC:20151106T193000
DTEND;TZID=UTC:20151106T193000
DTSTAMP:20260420T180035
CREATED:20151103T102946Z
LAST-MODIFIED:20151103T102946Z
UID:160980-1446838200-1446838200@menza.co.nz
SUMMARY:The Mozart Requiem performed by The Atlas Voices Ensemble  at Knox Church
DESCRIPTION:Friday November 6th at 7:30 pm at Knox Church.  Tickets through the Court Theatre:\nhttps://www.patronbase.com/_CourtTheatre/Sections/Choose?prod_id=6844&perf_id=1
URL:https://menza.co.nz/event/the-mozart-requiem-performed-by-the-atlas-voices-ensemble-at-knox-church/
LOCATION:Knox Presbyterian Church Christchurch\, Cnr Bealey Avenue and Victoria Stret\, Christchurch\, New Zealand
CATEGORIES:Canterbury
ATTACH;FMTTYPE=image/jpeg:https://menza.co.nz/wp-content/uploads/2015/11/facebook_event_186223045048839-1.jpg
END:VEVENT
BEGIN:VEVENT
DTSTART;TZID=UTC:20151031T093000
DTEND;TZID=UTC:20151031T093000
DTSTAMP:20260420T180035
CREATED:20151103T102724Z
LAST-MODIFIED:20151103T102724Z
UID:160976-1446283800-1446283800@menza.co.nz
SUMMARY:Salzburg Highlights - Orff Workshop with Clare
DESCRIPTION:Sharing highlights of my recent Salzburg visit to the Orff Institute\nRegister with Clare McCormack
URL:https://menza.co.nz/event/salzburg-highlights-orff-workshop-with-clare/
LOCATION:Mairangi Bay School\, 13 Agathis Ave\, Auckland\, New Zealand
CATEGORIES:Auckland and Northland
ATTACH;FMTTYPE=image/jpeg:https://menza.co.nz/wp-content/uploads/2015/11/facebook_event_404185693113026-1.jpg
END:VEVENT
BEGIN:VEVENT
DTSTART;VALUE=DATE:20150509
DTEND;VALUE=DATE:20150510
DTSTAMP:20260420T180035
CREATED:20150504T185230Z
LAST-MODIFIED:20150504T185230Z
UID:1354-1431129600-1431215999@menza.co.nz
SUMMARY:Workshop by Bob Doe
DESCRIPTION:Donec mollis\, metus a varius faucibus\, est magna tempor mauris\, sit amet lobortis nunc sem non lectus. Proin vitae feugiat lorem\, nec lacinia massa. Integer interdum ipsum sed placerat posuere. Etiam dapibus ante in lacus lacinia\, non convallis quam luctus. Vivamus augue nibh\, fermentum quis justo sed\, fermentum maximus magna. Morbi venenatis eros velit\, elementum sodales turpis viverra at. Phasellus finibus mauris a massa malesuada faucibus. Duis euismod vehicula enim eu placerat. Aenean dictum eget lacus in fermentum. Cras ac ipsum imperdiet\, bibendum tortor quis\, mollis risus. Aliquam quis dapibus est. Vestibulum elementum\, ante nec tristique rutrum\, risus augue dapibus sem\, ut bibendum dolor urna sed lacus.
URL:https://menza.co.nz/event/workshop-by-bob-doe/
LOCATION:University of Maryland\, 620 W Lexington St Baltimore\, MD 21201\, Baltimore\, MD\, United States
ATTACH;FMTTYPE=image/jpeg:https://menza.co.nz/wp-content/uploads/2014/06/02-1.jpg
ORGANIZER;CN="Andrew Doe":MAILTO:example@mail.com
END:VEVENT
BEGIN:VEVENT
DTSTART;VALUE=DATE:20150430
DTEND;VALUE=DATE:20150501
DTSTAMP:20260420T180035
CREATED:20150430T014857Z
LAST-MODIFIED:20150430T014857Z
UID:956-1430352000-1430438399@menza.co.nz
SUMMARY:Initial Volunteer Briefing
DESCRIPTION:Donec mollis\, metus a varius faucibus\, est magna tempor mauris\, sit amet lobortis nunc sem non lectus. Proin vitae feugiat lorem\, nec lacinia massa. Integer interdum ipsum sed placerat posuere. Etiam dapibus ante in lacus lacinia\, non convallis quam luctus. Vivamus augue nibh\, fermentum quis justo sed\, fermentum maximus magna. Morbi venenatis eros velit\, elementum sodales turpis viverra at. Phasellus finibus mauris a massa malesuada faucibus. Duis euismod vehicula enim eu placerat. Aenean dictum eget lacus in fermentum. Cras ac ipsum imperdiet\, bibendum tortor quis\, mollis risus. Aliquam quis dapibus est. Vestibulum elementum\, ante nec tristique rutrum\, risus augue dapibus sem\, ut bibendum dolor urna sed lacus.
URL:https://menza.co.nz/event/volunteer-briefing/
LOCATION:Meridian Hill\, 2400 15th St NW Washington\, DC 20008\, Washington\, VA\, United States
ATTACH;FMTTYPE=image/jpeg:https://menza.co.nz/wp-content/uploads/2015/05/04-1.jpg
ORGANIZER;CN="Bill Doe":MAILTO:bill_doe@mail.com
END:VEVENT
BEGIN:VEVENT
DTSTART;TZID=Pacific/Auckland:20150203T100000
DTEND;TZID=Pacific/Auckland:20150203T180000
DTSTAMP:20260420T180035
CREATED:20150430T001753Z
LAST-MODIFIED:20150430T001753Z
UID:850-1422957600-1422986400@menza.co.nz
SUMMARY:Training for Volunteers
DESCRIPTION:Donec mollis\, metus a varius faucibus\, est magna tempor mauris\, sit amet lobortis nunc sem non lectus. Proin vitae feugiat lorem\, nec lacinia massa. Integer interdum ipsum sed placerat posuere. Etiam dapibus ante in lacus lacinia\, non convallis quam luctus. Vivamus augue nibh\, fermentum quis justo sed\, fermentum maximus magna. Morbi venenatis eros velit\, elementum sodales turpis viverra at. Phasellus finibus mauris a massa malesuada faucibus. Duis euismod vehicula enim eu placerat. Aenean dictum eget lacus in fermentum. Cras ac ipsum imperdiet\, bibendum tortor quis\, mollis risus. Aliquam quis dapibus est. Vestibulum elementum\, ante nec tristique rutrum\, risus augue dapibus sem\, ut bibendum dolor urna sed lacus.
URL:https://menza.co.nz/event/training-for-volunteers/
ATTACH;FMTTYPE=image/jpeg:https://menza.co.nz/wp-content/uploads/2015/05/06-1.jpg
ORGANIZER;CN="John Doe":MAILTO:john_doe@mail.com
END:VEVENT
END:VCALENDAR