BEGIN:VCALENDAR
VERSION:2.0
PRODID:-//MENZA - ECPv6.15.20//NONSGML v1.0//EN
CALSCALE:GREGORIAN
METHOD:PUBLISH
X-WR-CALNAME:MENZA
X-ORIGINAL-URL:https://menza.co.nz
X-WR-CALDESC:Events for MENZA
REFRESH-INTERVAL;VALUE=DURATION:PT1H
X-Robots-Tag:noindex
X-PUBLISHED-TTL:PT1H
BEGIN:VTIMEZONE
TZID:UTC
BEGIN:STANDARD
TZOFFSETFROM:+0000
TZOFFSETTO:+0000
TZNAME:UTC
DTSTART:20150101T000000
END:STANDARD
END:VTIMEZONE
BEGIN:VEVENT
DTSTART;TZID=UTC:20160211T160000
DTEND;TZID=UTC:20160211T160000
DTSTAMP:20260424T022651
CREATED:20151214T024456Z
LAST-MODIFIED:20151214T024456Z
UID:162688-1455206400-1455206400@menza.co.nz
SUMMARY:MENZA Wellington Kick-Off
DESCRIPTION:Catch up and share ideas for local professional development and collaborative events.
URL:https://menza.co.nz/event/menza-wellington-kick-off/
LOCATION:Speights Ale House Petone\, 75-81 Jackson Street\, Petone\, 5012\, New Zealand
CATEGORIES:Wellington
ATTACH;FMTTYPE=image/jpeg:https://menza.co.nz/wp-content/uploads/2015/12/facebook_event_203802489953798-1.jpg
END:VEVENT
BEGIN:VEVENT
DTSTART;TZID=UTC:20160221T100000
DTEND;TZID=UTC:20160221T150000
DTSTAMP:20260424T022651
CREATED:20151207T061210Z
LAST-MODIFIED:20151207T061210Z
UID:162680-1456048800-1456066800@menza.co.nz
SUMMARY:MENZA Board Meeting face to face / kanohi ki te kanohi
DESCRIPTION:MENZA Board Meeting (Board Members only) – Wellington location to be confirmed
URL:https://menza.co.nz/event/menza-board-meeting-face-to-face-kanohi-ki-te-kanohi/
LOCATION:Wellington
CATEGORIES:Wellington
ATTACH;FMTTYPE=image/jpeg:https://menza.co.nz/wp-content/uploads/2015/12/facebook_event_321407404649846-1.jpg
END:VEVENT
BEGIN:VEVENT
DTSTART;TZID=UTC:20160225T090000
DTEND;TZID=UTC:20160225T120000
DTSTAMP:20260424T022651
CREATED:20151207T022320Z
LAST-MODIFIED:20151207T022320Z
UID:162663-1456390800-1456401600@menza.co.nz
SUMMARY:Deke Sharon: singing workshop 1
DESCRIPTION:Make your school pitch perfect. If you loved Pitch Perfect and Glee\, then sign up yourself\, school and classmates for a morning singing workshop where Deke Sharon\, musical director of Pitch Perfect will teach you how to sing sensational a capella harmonies. \nTopics will include singing games\, close harmony blend/tuning\, beginning vocal percussion & singing instruments. \nRegister through lovetosing@ccchorus.co.nz or 022 689 9745.
URL:https://menza.co.nz/event/deke-sharon-singing-workshop-1/
LOCATION:Hornby High School\, 180 Waterloo Road\, Hornby\, Christchurch 8042\, New Zealand\, Christchurch\, 8025\, New Zealand
CATEGORIES:Canterbury
ATTACH;FMTTYPE=image/jpeg:https://menza.co.nz/wp-content/uploads/2015/12/facebook_event_918980561511091-1.jpg
END:VEVENT
BEGIN:VEVENT
DTSTART;TZID=UTC:20160225T180000
DTEND;TZID=UTC:20160225T180000
DTSTAMP:20260424T022651
CREATED:20151207T022425Z
LAST-MODIFIED:20151207T022425Z
UID:162666-1456423200-1456423200@menza.co.nz
SUMMARY:Deke Sharon: a cappella workshop
DESCRIPTION:Come along to a world-class evening workshop with Deke Sharon\, arranger\, on-site music director and vocal producer for Universal’s Pitch Perfect movies. Learn how to sing sensational a cappella harmonies through singing games\, close harmony tuning\, vocal percussion and singing. \nThe workshop are suitable for singers of all ages\, vocal coaches\, choir and chorus conductors. \nYou too can be the next Anna Kendrick!
URL:https://menza.co.nz/event/deke-sharon-a-cappella-workshop/
LOCATION:Charles Luney Auditorium\, Christchurch\, New Zealand
CATEGORIES:Canterbury
ATTACH;FMTTYPE=image/jpeg:https://menza.co.nz/wp-content/uploads/2015/12/facebook_event_1226483587368701-1.jpg
END:VEVENT
BEGIN:VEVENT
DTSTART;TZID=UTC:20160226T090000
DTEND;TZID=UTC:20160226T120000
DTSTAMP:20260424T022651
CREATED:20151207T022230Z
LAST-MODIFIED:20151207T022230Z
UID:162659-1456477200-1456488000@menza.co.nz
SUMMARY:Deke Sharon: singing workshop 2
DESCRIPTION:Make your school pitch perfect. If you loved Pitch Perfect and Glee\, then sign up yourself\, school and classmates for a morning singing workshop where Deke Sharon\, musical director of Pitch Perfect will teach you how to sing sensational a capella harmonies. \nTopics will include singing games\, close harmony blend/tuning\, beginning vocal percussion & singing instruments. \nRegister through lovetosing@ccchorus.co.nz or 022 689 9745.
URL:https://menza.co.nz/event/deke-sharon-singing-workshop-2/
LOCATION:Linwood College\, 85 Aldwins Rd\, Christchurch\, New Zealand
CATEGORIES:Canterbury
ATTACH;FMTTYPE=image/jpeg:https://menza.co.nz/wp-content/uploads/2015/12/facebook_event_118569495179073-1.jpg
END:VEVENT
END:VCALENDAR