BEGIN:VCALENDAR
VERSION:2.0
PRODID:-//MENZA - ECPv6.15.20//NONSGML v1.0//EN
CALSCALE:GREGORIAN
METHOD:PUBLISH
X-ORIGINAL-URL:https://menza.co.nz
X-WR-CALDESC:Events for MENZA
REFRESH-INTERVAL;VALUE=DURATION:PT1H
X-Robots-Tag:noindex
X-PUBLISHED-TTL:PT1H
BEGIN:VTIMEZONE
TZID:Pacific/Auckland
BEGIN:STANDARD
TZOFFSETFROM:+1300
TZOFFSETTO:+1200
TZNAME:NZST
DTSTART:20150404T140000
END:STANDARD
BEGIN:DAYLIGHT
TZOFFSETFROM:+1200
TZOFFSETTO:+1300
TZNAME:NZDT
DTSTART:20150926T140000
END:DAYLIGHT
BEGIN:STANDARD
TZOFFSETFROM:+1300
TZOFFSETTO:+1200
TZNAME:NZST
DTSTART:20160402T140000
END:STANDARD
BEGIN:DAYLIGHT
TZOFFSETFROM:+1200
TZOFFSETTO:+1300
TZNAME:NZDT
DTSTART:20160924T140000
END:DAYLIGHT
BEGIN:STANDARD
TZOFFSETFROM:+1300
TZOFFSETTO:+1200
TZNAME:NZST
DTSTART:20170401T140000
END:STANDARD
BEGIN:DAYLIGHT
TZOFFSETFROM:+1200
TZOFFSETTO:+1300
TZNAME:NZDT
DTSTART:20170923T140000
END:DAYLIGHT
END:VTIMEZONE
BEGIN:VEVENT
DTSTART;TZID=Pacific/Auckland:20160402T093000
DTEND;TZID=Pacific/Auckland:20160402T123000
DTSTAMP:20260423T232727
CREATED:20160210T101343Z
LAST-MODIFIED:20160210T101343Z
UID:162793-1459589400-1459600200@menza.co.nz
SUMMARY:Auckland Orff Workshop
DESCRIPTION:Presenters: Robyn McQueen and Jeremy Hantler – Workshop for Primary Teachers \n9.30am – 12.30pm : Focus on Instrumental Music Making with an Orff Approach \n 
URL:https://menza.co.nz/event/auckland-orff-workshop-5/
CATEGORIES:Auckland and Northland
ATTACH;FMTTYPE=image/png:https://menza.co.nz/wp-content/uploads/2016/01/Screen-Shot-2016-01-24-at-8.27.13-pm1-1.png
END:VEVENT
BEGIN:VEVENT
DTSTART;TZID=Pacific/Auckland:20160404T090000
DTEND;TZID=Pacific/Auckland:20160404T150000
DTSTAMP:20260423T232727
CREATED:20160222T203009Z
LAST-MODIFIED:20160222T203009Z
UID:162815-1459760400-1459782000@menza.co.nz
SUMMARY:Primary Years 1-6 Workshop with Dr James Cuskelly
DESCRIPTION:Catering for music specialists\, and classroom teachers wanting to develop music literacy using a fun but structured approach.  This aural-vocal approach to music education is based on the philosophies and teachings of Zoltan Kodaly\, a Hungarian composer and ethnomusicologist.  Focusing on the voice as the primary instrument for learning and teaching and incorporating games\, movement\, instruments\, reading and writing music\, the teaching sequence follows students’ natural learning development: listen – sing – understand – play – read and write – create.   \nPrimary Years 1-6 Workshop Monday 4 April\, 9:00-3:00pm \n\n$60 MENZA members\n$90 Non-MENZA Members\nFee includes morning tea and lunch\n\nHeld at Dilworth Junior Campus\, 27 Omahu Road\, Remuera \n(Individual Workshop rates available – please check registration form below) \nNon-MENZA members rate includes FREE MENZA membership – to sign up for membership after completing the form\, please go to menza.co.nz to register \n Facilitator\, Dr James Cuskelly is Head of Faculty: Creative Arts and Design Studies at St Aidan’s Anglican Girl’s School\, Brisbane\, President of the International Kodály Society\, Director of the Summer School Music Program\, and Director of the Cuskelly College of Music.\nWatch this trailer for the documentary about James and the Kodály Method here. \nDr Cuskelly has a very broad base in education\, having taught in Kindergarten\, pre-school\, primary and secondary classrooms as well as in tertiary institutions. His passion for music\, and his ability to enthuse and bring about effective learning in students across all ages or abilities\, is internationally recognised. He is committed to teacher training\, and is considered a global leader in music education. James runs a variety of accredited teacher training programs including the Summer School Music Program (Brisbane) and Australia Kodály Certificate programs in Malaysia\, Perth\, New Zealand and Indonesia. \n“Dr Cuskelly is infinitely knowledgeable and passionate about the Kodály method and is able to draw from years of tertiary and current multi – level school teaching experience. He is everything an inspiring teacher should be – encouraging\, engaging\, empowering and perceptive – with the added bonus of being hugely entertaining.” \nMore information: contact Megan Flint meganjude@xtra.co.nz \nDownload and print the registration form here
URL:https://menza.co.nz/event/primary-years-1-6-workshop-with-dr-james-cuskelly/
LOCATION:Dilworth Junior School\, 27 Omahu Road\, Remuera\, Auckland\, 1050\, New Zealand
CATEGORIES:Auckland and Northland
ATTACH;FMTTYPE=image/jpeg:https://menza.co.nz/wp-content/uploads/2013/01/Dr-James-Cuskelly-1.jpeg
END:VEVENT
BEGIN:VEVENT
DTSTART;TZID=Pacific/Auckland:20160405T090000
DTEND;TZID=Pacific/Auckland:20160405T163000
DTSTAMP:20260423T232727
CREATED:20160222T203717Z
LAST-MODIFIED:20160222T203717Z
UID:162821-1459846800-1459873800@menza.co.nz
SUMMARY:Secondary Years 7-13 Workshops with Dr James Cuskelly
DESCRIPTION:Catering for music specialists\, and classroom teachers wanting to develop music literacy using a fun but structured approach.  This aural-vocal approach to music education is based on the philosophies and teachings of Zoltan Kodaly\, a Hungarian composer and ethnomusicologist.  Focusing on the voice as the primary instrument for learning and teaching and incorporating games\, movement\, instruments\, reading and writing music\, the teaching sequence follows students’ natural learning development: listen – sing – understand – play – read and write – create.   \nSecondary Workshops\, Tuesday 5 April\, 9.00am-4:30pm \nSenior Years 7-10  9:00am-12:30pm \n\n$35 MENZA members\n$50 Non-MENZA members\nFee includes morning tea\n\nSenior Years 11-13 1:30pm-4:30pm \n\n$30 MENZA members\n$45 Non-MENZA members\n\nWhole Day Senior Years Tuesday 5 April\, 9.00am-4:30pm \n\n$70 MENZA members\n$100 Non-MENZA members\nFee includes morning tea and lunch\n\nHeld at Dilworth Junior Campus\, 27 Omahu Road\, Remuera \nNon-MENZA members rate includes FREE MENZA membership – to sign up for membership after completing the form\, please go to menza.co.nz to register \n\nFacilitator\, Dr James Cuskelly is Head of Faculty: Creative Arts and Design Studies at St Aidan’s Anglican Girl’s School\, Brisbane\, President of the International Kodály Society\, Director of the Summer School Music Program\, and Director of the Cuskelly College of Music. \nWatch this trailer for the documentary about James and the Kodály Method here. \nDr Cuskelly has a very broad base in education\, having taught in Kindergarten\, pre-school\, primary and secondary classrooms as well as in tertiary institutions. His passion for music\, and his ability to enthuse and bring about effective learning in students across all ages or abilities\, is internationally recognised. He is committed to teacher training\, and is considered a global leader in music education. James runs a variety of accredited teacher training programs including the Summer School Music Program (Brisbane) and Australia Kodály Certificate programs in Malaysia\, Perth\, New Zealand and Indonesia. \n“Dr Cuskelly is infinitely knowledgeable and passionate about the Kodály method and is able to draw from years of tertiary and current multi – level school teaching experience. He is everything an inspiring teacher should be – encouraging\, engaging\, empowering and perceptive – with the added bonus of being hugely entertaining.” \nMore information: contact Megan Flint meganjude@xtra.co.nz \nDownload and print the registration form here
URL:https://menza.co.nz/event/secondary-years-7-13-workshops-with-dr-james-cuskelly/
LOCATION:Dilworth Junior School\, 27 Omahu Road\, Remuera\, Auckland\, 1050\, New Zealand
CATEGORIES:Auckland and Northland
ATTACH;FMTTYPE=image/jpeg:https://menza.co.nz/wp-content/uploads/2013/01/Dr-James-Cuskelly-1.jpeg
END:VEVENT
BEGIN:VEVENT
DTSTART;TZID=Pacific/Auckland:20160407T160000
DTEND;TZID=Pacific/Auckland:20160407T180000
DTSTAMP:20260423T232727
CREATED:20160223T091404Z
LAST-MODIFIED:20160223T091404Z
UID:162804-1460044800-1460052000@menza.co.nz
SUMMARY:MENZA Wellington Secondary Music Teachers' PLD
DESCRIPTION:Emerging IT Technologies in the Music classroom\, hosted by Ivan Patterson at Scots’ College\, Mirimar\, Wellington.
URL:https://menza.co.nz/event/menza-wellington-secondary-music-teachers-pld/
LOCATION:Scots’ College\, 1 Monorgan Road\, Strathmore Park\, Wellington\, 6022\, New Zealand
CATEGORIES:Wellington
ATTACH;FMTTYPE=image/jpeg:https://menza.co.nz/wp-content/uploads/2016/02/308d0c1dbce354ca411f7be34677ae6c-1.jpg
END:VEVENT
BEGIN:VEVENT
DTSTART;TZID=Pacific/Auckland:20160413T100000
DTEND;TZID=Pacific/Auckland:20160413T150000
DTSTAMP:20260423T232727
CREATED:20160124T105410Z
LAST-MODIFIED:20160124T105410Z
UID:162775-1460541600-1460559600@menza.co.nz
SUMMARY:A beginners guide day for teachers new to teaching Music Technology.
DESCRIPTION:The focus of this day will be level 1 and 2 Performing Arts Technology and Music Technology Unit Standards and the skills and equipment required to teach them.  If you would like to start offering Music Technology Unit Standards this year then this day is for you.  You will be able to start teaching level one Standards right away in term 2 after attending this day.
URL:https://menza.co.nz/event/a-beginners-guide-day-for-teachers-new-to-teaching-music-technology/
LOCATION:St Andrew’s College\, Christchurch\, New Zealand
CATEGORIES:Canterbury
ATTACH;FMTTYPE=image/png:https://menza.co.nz/wp-content/uploads/2016/01/Screen-Shot-2016-01-24-at-11.46.37-pm-1.png
ORGANIZER;CN="Duncan Ferguson":MAILTO:dfe@stac.school.nz
END:VEVENT
BEGIN:VEVENT
DTSTART;TZID=Pacific/Auckland:20160414T100000
DTEND;TZID=Pacific/Auckland:20160414T150000
DTSTAMP:20260423T232727
CREATED:20160124T105441Z
LAST-MODIFIED:20160124T105441Z
UID:162779-1460628000-1460646000@menza.co.nz
SUMMARY:Level 3 Performing Arts Technology Unit Standards
DESCRIPTION:An advanced day focusing on best practice for teaching and assessment of Level 3 Performing Arts Technology Unit Standards. This will be a practical day recording and mixing a student band in a recording studio.  Places will be very limited for this day so please book early to secure.
URL:https://menza.co.nz/event/level-3-performing-arts-technology-unit-standards/
LOCATION:St Andrew’s College\, Christchurch\, New Zealand
CATEGORIES:Canterbury
ATTACH;FMTTYPE=image/png:https://menza.co.nz/wp-content/uploads/2016/01/Screen-Shot-2016-01-24-at-11.46.37-pm1-1.png
ORGANIZER;CN="Duncan Ferguson":MAILTO:dfe@stac.school.nz
END:VEVENT
BEGIN:VEVENT
DTSTART;VALUE=DATE:20160418
DTEND;VALUE=DATE:20160424
DTSTAMP:20260423T232727
CREATED:20160124T075632Z
LAST-MODIFIED:20160124T075632Z
UID:162759-1460937600-1461455999@menza.co.nz
SUMMARY:Orff Approach Level 2: Autumn course
DESCRIPTION:Orff New Zealand Aotearoa is offering a 6-day Level 2 course in the Orff approach appropriate to the needs of both specialist and generalist teachers working in early childhood\, primary\, intermediate and lower secondary school settings for those who have completed Level 1 (seebrochure). \nFor enquiries about this course\, contact Millie Locke\, ONZA Levels Coordinator. \nTaken as a stand-alone Level 1 course successful completion of this workshop entitles participants to certification in Level 2 Orff Schulwerk. \nPlease note: ONZA offers a scholarship for this 6-day workshop when take as a stand-alone course. See link. \nAlternatively the 6-day course is able to constitute a module contributing to the postgraduate paper at the University: ALED513: Music Education: Theory and Practice 2. Enquiries re enrolling in the workshop as part of this paper need to be directed to Professor Terry Locke\, School of Education\, PB 3105\, Hamilton.
URL:https://menza.co.nz/event/orff-approach-level-2-autumn-course/
LOCATION:University of Waikato Hamilton Campus\, Knighton Road\, Hamilton\, New Zealand
CATEGORIES:Waikato and Bay of Plenty
ATTACH;FMTTYPE=image/png:https://menza.co.nz/wp-content/uploads/2016/01/Screen-Shot-2016-01-24-at-8.27.13-pm1-1.png
END:VEVENT
BEGIN:VEVENT
DTSTART;TZID=Pacific/Auckland:20160418T080000
DTEND;TZID=Pacific/Auckland:20160423T170000
DTSTAMP:20260423T232727
CREATED:20160124T073527Z
LAST-MODIFIED:20160124T073527Z
UID:162755-1460966400-1461430800@menza.co.nz
SUMMARY:Orff Approach Level 1: Autumn course
DESCRIPTION:Orff New Zealand Aotearoa is offering a 6-day Level 1 course in the Orff approach appropriate to the needs of both specialist and generalist teachers working in early childhood\, primary\, intermediate and lower secondary school settings \nThis course (see brochure)\, with an emphasis on hands-on interactive processes introduces the Orff approach which is characterised by the integration of speech\, movement and music with a focus on improvisation. For enquiries about this course\, contact Millie Locke\, ONZA Levels Coordinator. \nTaken as a stand-alone Level 1 course\, successful completion of this workshop entitles participants to certification in Level 1 Orff Schulwerk. \nPlease note: ONZA offers a scholarship for this 6-day workshop when take as a stand-alone course. See link. \nAlternatively the 6-day course is able to constitute a module contributing to the postgraduate paper at the University: ALED512: Music Education: Theory and Practice I. Enquiries re enrolling in the workshop as part of this paper need to be directed to Professor Terry Locke\, School of Education\, PB 3105\, Hamilton.
URL:https://menza.co.nz/event/orff-approach-level-1-autumn-course/
LOCATION:University of Waikato Hamilton Campus\, Knighton Road\, Hamilton\, New Zealand
CATEGORIES:Waikato and Bay of Plenty
ATTACH;FMTTYPE=image/png:https://menza.co.nz/wp-content/uploads/2016/01/Screen-Shot-2016-01-24-at-8.27.13-pm-1.png
END:VEVENT
END:VCALENDAR