BEGIN:VCALENDAR
VERSION:2.0
PRODID:-//MENZA - ECPv6.15.20//NONSGML v1.0//EN
CALSCALE:GREGORIAN
METHOD:PUBLISH
X-WR-CALNAME:MENZA
X-ORIGINAL-URL:https://menza.co.nz
X-WR-CALDESC:Events for MENZA
REFRESH-INTERVAL;VALUE=DURATION:PT1H
X-Robots-Tag:noindex
X-PUBLISHED-TTL:PT1H
BEGIN:VTIMEZONE
TZID:Pacific/Auckland
BEGIN:STANDARD
TZOFFSETFROM:+1300
TZOFFSETTO:+1200
TZNAME:NZST
DTSTART:20150404T140000
END:STANDARD
BEGIN:DAYLIGHT
TZOFFSETFROM:+1200
TZOFFSETTO:+1300
TZNAME:NZDT
DTSTART:20150926T140000
END:DAYLIGHT
BEGIN:STANDARD
TZOFFSETFROM:+1300
TZOFFSETTO:+1200
TZNAME:NZST
DTSTART:20160402T140000
END:STANDARD
BEGIN:DAYLIGHT
TZOFFSETFROM:+1200
TZOFFSETTO:+1300
TZNAME:NZDT
DTSTART:20160924T140000
END:DAYLIGHT
BEGIN:STANDARD
TZOFFSETFROM:+1300
TZOFFSETTO:+1200
TZNAME:NZST
DTSTART:20170401T140000
END:STANDARD
BEGIN:DAYLIGHT
TZOFFSETFROM:+1200
TZOFFSETTO:+1300
TZNAME:NZDT
DTSTART:20170923T140000
END:DAYLIGHT
END:VTIMEZONE
BEGIN:VTIMEZONE
TZID:Pacific/Auckland
BEGIN:STANDARD
TZOFFSETFROM:+1300
TZOFFSETTO:+1200
TZNAME:NZST
DTSTART:20150404T140000
END:STANDARD
BEGIN:DAYLIGHT
TZOFFSETFROM:+1200
TZOFFSETTO:+1300
TZNAME:NZDT
DTSTART:20150926T140000
END:DAYLIGHT
BEGIN:STANDARD
TZOFFSETFROM:+1300
TZOFFSETTO:+1200
TZNAME:NZST
DTSTART:20160402T140000
END:STANDARD
BEGIN:DAYLIGHT
TZOFFSETFROM:+1200
TZOFFSETTO:+1300
TZNAME:NZDT
DTSTART:20160924T140000
END:DAYLIGHT
BEGIN:STANDARD
TZOFFSETFROM:+1300
TZOFFSETTO:+1200
TZNAME:NZST
DTSTART:20170401T140000
END:STANDARD
BEGIN:DAYLIGHT
TZOFFSETFROM:+1200
TZOFFSETTO:+1300
TZNAME:NZDT
DTSTART:20170923T140000
END:DAYLIGHT
END:VTIMEZONE
BEGIN:VEVENT
DTSTART;TZID=Pacific/Auckland:20160801T000000
DTEND;TZID=Pacific/Auckland:20160831T120000
DTSTAMP:20260423T125604
CREATED:20160403T234500Z
LAST-MODIFIED:20160403T234500Z
UID:162971-1470009600-1472644800@menza.co.nz
SUMMARY:Band & Orchestra Month Aotearoa
DESCRIPTION:The NZ Concert Bands Association is proud to announce a world first.\nIn August 2016\, we will be celebrating the very first Band and Orchestra Month. The month will celebrate and promote community and school concert\, jazz and orchestras of all levels.
URL:https://menza.co.nz/event/band-orchestra-month-aotearoa/
LOCATION:New Zealand wide\, New Zealand
CATEGORIES:National
ATTACH;FMTTYPE=image/png:https://menza.co.nz/wp-content/uploads/2016/04/logo-boma-1.png
END:VEVENT
BEGIN:VEVENT
DTSTART;VALUE=DATE:20160805
DTEND;VALUE=DATE:20160807
DTSTAMP:20260423T125604
CREATED:20160403T235315Z
LAST-MODIFIED:20160403T235315Z
UID:162973-1470355200-1470527999@menza.co.nz
SUMMARY:NZ Concert Band Assoc. National Festival 2016
DESCRIPTION:NZCBA has been running a national festival since its inception in 1988. The objective has been to provide a quality playing opportunity for concert bands\, provide feedback in the form of adjudication with an award of Bronze\, Silver or Gold\, and the chance for education and socialising to occur within the band community. \nThe 2016 Festival will be held in Gisborne on August 5-6\, 2016 at the War Memorial Theatre.
URL:https://menza.co.nz/event/nz-concert-band-assoc-national-festival-2016/
LOCATION:War Memorial Theatre\, Bright Street\, Gisborne\, 4010\, New Zealand
CATEGORIES:Hawkes Bay and Gisborne
ATTACH;FMTTYPE=image/png:https://menza.co.nz/wp-content/uploads/2016/04/NZCBA-SilverLogo-500x500-1.png
END:VEVENT
BEGIN:VEVENT
DTSTART;VALUE=DATE:20160805
DTEND;VALUE=DATE:20160808
DTSTAMP:20260423T125604
CREATED:20151119T052119Z
LAST-MODIFIED:20151119T052119Z
UID:161132-1470355200-1470614399@menza.co.nz
SUMMARY:Jazz Quest 2016
DESCRIPTION:Details of Christchurch’s premier high school jazz band competition at: \nhttp://www.cpit.ac.nz/study-options/our-study-interest-areas/music-arts/jazzquest
URL:https://menza.co.nz/event/jazz-quest-2016/
LOCATION:Music Arts\, 130 High St\, Christchurch\, New Zealand
CATEGORIES:Canterbury
END:VEVENT
BEGIN:VEVENT
DTSTART;TZID=Pacific/Auckland:20160806T090000
DTEND;TZID=Pacific/Auckland:20160806T123000
DTSTAMP:20260423T125604
CREATED:20160210T093414Z
LAST-MODIFIED:20160210T093414Z
UID:162790-1470474000-1470486600@menza.co.nz
SUMMARY:Auckland Orff Workshop
DESCRIPTION:Presenter: Rozy Winstone – for teachers of children 0-6 yrs \n\n9:00- 10.30 Vocal and ukulele skills for teachers\n11:00 -12.30 Playing with Stories
URL:https://menza.co.nz/event/auckland-orff-workshop-2/
CATEGORIES:Auckland and Northland
ATTACH;FMTTYPE=image/png:https://menza.co.nz/wp-content/uploads/2016/01/Screen-Shot-2016-01-24-at-8.27.13-pm1-1.png
END:VEVENT
BEGIN:VEVENT
DTSTART;TZID=Pacific/Auckland:20160806T133000
DTEND;TZID=Pacific/Auckland:20160806T170000
DTSTAMP:20260423T125604
CREATED:20160710T041248Z
LAST-MODIFIED:20160710T041248Z
UID:163191-1470490200-1470502800@menza.co.nz
SUMMARY:Singing in the Classroom
DESCRIPTION:Led by two of NZ’s most popular music educators\, Robert Legg and Christoph Maubach this session introduces an approach to classroom singing based on practical music pedagogies such as Orff and Kodaly. Come and learn how to inspire and challenge your students using a wide range of songs and vocal activities from communities across the world. The focus of the session will be on ways to build daily singing into your classroom and to have fun.\nWHEN\nSaturday\, 6 August 2016 from 1:30 PM to 5:00 PM\nWHERE\nRoom 3 Christchurch School of Music – 60 Ferry Rd \, Christchurch\, 7672\nTICKETS\nTickets available at http://singingintheclassroom.eventbrite.co.nz
URL:https://menza.co.nz/event/singing-in-the-classroom/
LOCATION:Christchurch School of Music (CSM)\, 100 Fitzgerald Avenue\, Christchurch\, 8011\, New Zealand
CATEGORIES:Canterbury
ATTACH;FMTTYPE=image/jpeg:https://menza.co.nz/wp-content/uploads/2016/07/facebook_event_1580241825610098-1.jpg
END:VEVENT
BEGIN:VEVENT
DTSTART;TZID=Pacific/Auckland:20160807T133000
DTEND;TZID=Pacific/Auckland:20160807T170000
DTSTAMP:20260423T125604
CREATED:20160725T005437Z
LAST-MODIFIED:20160725T005437Z
UID:163272-1470576600-1470589200@menza.co.nz
SUMMARY:IRMT WOODWIND MASTERCLASS WITH MARK WALTON
DESCRIPTION:August 7th 1.30 – 5pm at The Theatre\, Rangi Ruru \nSession One: \n\n\n\n\nFast tracking finger technique and counting with conviction \n\n\n\n\nRocket Fuel for Woodwind Players – Mark Walton \n\n\n\n\nMark will share with you how he fast tracks his students so they can whiz around their instruments with agility.\nCome and find out Mark’s tricks that have worked for so many players around Australia. Bring your instruments and see how it works. \n\n\n\n\nSession two: \n\n\n\n\nMaster class for Clarinet & Saxophone Players – Mark Walton \n\n\n\n\nInspirational and unfailingly entertaining tutor Mark Walton will work with students of all ages and stages in this section of the afternoon. \n\n\n\n\nRegistration fee: IRMT members $20\, Students $10\, non-IRMT $30\, Master class participants $15 Venue: The Theatre\, Rangi Ruru\, Merivale Lane \n\n\n\n\n* We have a number of senior students enrolled as participants for the Master class but would welcome 2 or 3 students from the early Grades as well \n\n\n\n\n* All the enquiries please email Janey Seed at janey_seed@xtra.co.nz\, Also you can register online at https://goo.gl/h8YN12
URL:https://menza.co.nz/event/irmt-woodwind-masterclass-with-mark-walton/
LOCATION:The Theatre\, Rangi Ruru School\, 59 Hewitts road\, Christchurch\, New Zealand
CATEGORIES:Canterbury
ATTACH;FMTTYPE=image/png:https://menza.co.nz/wp-content/uploads/2016/07/Mark-Walton-1.png
ORGANIZER;CN="IRMTNZ":MAILTO:communications@irmt.org.nz
END:VEVENT
BEGIN:VEVENT
DTSTART;TZID=Pacific/Auckland:20160812T123000
DTEND;TZID=Pacific/Auckland:20160812T173000
DTSTAMP:20260423T125604
CREATED:20160707T033819Z
LAST-MODIFIED:20160707T033819Z
UID:163176-1471005000-1471023000@menza.co.nz
SUMMARY:Hawke's Bay Professional Development Day
DESCRIPTION:Friday 12 August – Hawke’s Bay MENZA PD Day\nSt John’s College\, Jervois Street\, Hastings\nJoin us for a selection of workshops for ECE\, primary and secondary teachers.\nCLICK HERE TO REGISTER \n  \nPD Day Workshop timetable: \n12:30 – 1:50pm   Choose between one of two workshops:\n \n\nSibelius with Helen Beech (Computer Music Ltd)\nPrimary Music with Celia Stewart (Christchurch School of Music)\n\n1:50pm – 2:10pm Coffee Break \n2:10 – 3:30pm  One workshop available:\n \n\nFree online music software with Helen Beech\n\n3:30pm – 4pm Afternoon Tea (nibbles provided) \n4:00 – 5:30pm   Choose between one of two workshops:\n \n\nAfrican Drumming and Using Percussion in the Classroom with Rinie Coppelmans\nEarly Childhood Music with Celia Stewart\n\nWorkshop descriptions\nPlayful Music Making in Early Childhood – with Celia Stewart\nThis workshop will explore a wide range of practical ideas that teachers can use immediately in their centres with young children. Music has the power to impact on every area of children’s development and the activities shared can underpin all areas of the curriculum. Most importantly the workshop will demonstrate how children can behave as musicians as they sing\, play\, move\, listen and create in musical ways. \nSing\, Play\, Move in the Classroom  – with Celia Stewart\nThe most important thing that children learn in a music session is music. Musicians listen\, sing\, play\, move and create and this workshop will introduce simple activities that will support teachers in implementing an effective music programme. It will integrate the philosophies of both the Orff Schulwerk  and Kodaly approaches to music education in a fun and practical way. \nSibelius Workshop  – with Helen Beech\nSibelius know how from shortcuts and set up to time saving plugins. We will also cover more advanced Sibelius features and functions if warranted. All material will be available as PDF’s and Sibelius Files. Specific topics covered according to attendees needs\, but can include Lyrics\, Guitar TAB\, Score reductions\, Percussion\, Voices\, Versions\, Worksheets\, Mac and windows tips.\n\nFree Online Music Resources – with Helen Beech\nAn overview of free online software to help you create resources and inspire and engage your students.  Music creation\, exploration and resources. Theory and games  iPad\, tablet PC and Mac.  A PDF with all links will be supplied. \nAfrican Drumming and Using Percussion in the Classroom with Rinie Coppelmans\nDuring the workshop I will share my group drumming experience based on working within different educational settings. We will explore different approaches and activities combined with tips and tricks to implement or test out in your situation. The workshop will be very interactive and hopefully a lot of fun. \n\nWorkshop fees\n1-2 Workshops \n\nMENZA Member $30\nNon MENZA Member $60\n\nFull Day \n\nMENZA Member $60\nNon MENZA Member $90\n\nCLICK HERE TO REGISTER
URL:https://menza.co.nz/event/hawkes-bay-professional-development-day/
CATEGORIES:Hawkes Bay and Gisborne
ATTACH;FMTTYPE=image/jpeg:https://menza.co.nz/wp-content/uploads/2016/07/MENZA-2016-PD-DayCROPPED-1.jpg
ORGANIZER;CN="Abby Sisam":MAILTO:admin@menza.co.nz
END:VEVENT
BEGIN:VEVENT
DTSTART;VALUE=DATE:20160813
DTEND;VALUE=DATE:20160815
DTSTAMP:20260423T125604
CREATED:20160403T235531Z
LAST-MODIFIED:20160403T235531Z
UID:162975-1471046400-1471219199@menza.co.nz
SUMMARY:Wellington Band and Orchestra Festival 2016
DESCRIPTION:The Wellington Bands and Orchestras Festival\, celebrates music-making by New Zealand’s school and community Concert Bands\, Orchestras\, Big Bands and Jazz Combos. Although promoting and focusing on bands and orchestras in the Wellington region\, WeBO is open to any band or orchestra from around New Zealand and the world. \nEach performing ensemble will receive a trophy and written comments from our specialist adjudicators. This year we once again welcome from Baltimore\, USA\, Dr Rich Roberts\, who will also be conducting workshops with each ensemble prior to their performance! \nThe non-competitive atmosphere provides a place for growth\, cooperative encouragement and mutual respect among bands and orchestras\, students\, parents\, music directors and teachers.
URL:https://menza.co.nz/event/wellington-band-and-orchestra-festival-2016/
LOCATION:St Patrick’s College Silverstream\, 207 Fergusson Drive\, Silverstream\, Upper Hutt\, Wellington\, 5019\, New Zealand
CATEGORIES:Wellington
ATTACH;FMTTYPE=image/jpeg:https://menza.co.nz/wp-content/uploads/2016/04/webo-logo-1.jpg
END:VEVENT
BEGIN:VEVENT
DTSTART;TZID=Pacific/Auckland:20160817T040000
DTEND;TZID=Pacific/Auckland:20160817T183000
DTSTAMP:20260423T125604
CREATED:20160124T075731Z
LAST-MODIFIED:20160124T075731Z
UID:162768-1471406400-1471458600@menza.co.nz
SUMMARY:Intercultural songs and musical games for children
DESCRIPTION:In this workshop teachers will learn a number of intercultural songs from Madagascar\, West Africa\, South America\, and the Pacific. Songs and music from these cultures will be integrated with drums\, percussion and dance.  Teachers will learn a number of call and response songs for easy level song leading in the classroom\, as well as musical games and movement activities that children can have a lot of fun and success with.\nPresenters: Julian Raphael and Lala Simpson
URL:https://menza.co.nz/event/intercultural-songs-and-musical-games-for-children/
LOCATION:Community Music Junction\, Level 1\, 4 Hopper St (above BlairWright)\, Te Aro.\, Wellington\, New Zealand
CATEGORIES:Wellington
ATTACH;FMTTYPE=image/png:https://menza.co.nz/wp-content/uploads/2016/01/Screen-Shot-2016-01-24-at-8.41.38-pm2-1.png
END:VEVENT
BEGIN:VEVENT
DTSTART;TZID=Pacific/Auckland:20160820T090000
DTEND;TZID=Pacific/Auckland:20160820T123000
DTSTAMP:20260423T125604
CREATED:20160210T100603Z
LAST-MODIFIED:20160210T100603Z
UID:162792-1471683600-1471696200@menza.co.nz
SUMMARY:Auckland Orff Workshop
DESCRIPTION:Presenter: Millie Locke – for teachers of children 0-6 yrs. \n\n9:00- 10.30am vocal and ukulele skills for teachers\n11:00- 12.30 Integrating language\, music and movement using a thematic approach.\n\n 
URL:https://menza.co.nz/event/auckland-orff-workshop-3/
CATEGORIES:Auckland and Northland
ATTACH;FMTTYPE=image/png:https://menza.co.nz/wp-content/uploads/2016/01/Screen-Shot-2016-01-24-at-8.27.13-pm1-1.png
END:VEVENT
BEGIN:VEVENT
DTSTART;TZID=Pacific/Auckland:20160820T133000
DTEND;TZID=Pacific/Auckland:20160820T153000
DTSTAMP:20260423T125604
CREATED:20160819T133118Z
LAST-MODIFIED:20160819T133118Z
UID:163346-1471699800-1471707000@menza.co.nz
SUMMARY:Playful Music Making
DESCRIPTION:This workshop is for both generalist and specialist classroom music teachers In the workshop we will will explore a simple process beginning with a small building block such as a poem a chant\, a patere or a song and demonstrate how we can provide opportunities for children to play with it and build on it through voice\, body percussion\, untuned and tuned percussion instruments. Lots of great ideas to take back and use in your classroom. \nCelia Stewart has been involved in music education for many years as a primary and early childhood teacher\, lecturer in Early Childhood at the Christchurch College of Education\, primary music adviser in Canterbury with UC EdPlus at the University of Canterbury and National Facilitator in Primary Music for the Ministry of Education. She is Music Director at the Christchurch School of Music and also regularly facilitates workshops for teachers\, works in schools as a specialist music teacher and manages music events. Celia is a flute and recorder player and has recently completed a Masters in Education specializing in the Orff Schulwerk approach to music education at Waikato University.
URL:https://menza.co.nz/event/playful-music-making/
LOCATION:Waimea College Music Department\, 60 Salisbury Road\, Richmond\, 7020\, New Zealand
CATEGORIES:Marlborough and West Coast
ATTACH;FMTTYPE=image/png:https://menza.co.nz/wp-content/uploads/2016/08/Playful-Music-Making-1.png
END:VEVENT
BEGIN:VEVENT
DTSTART;TZID=Pacific/Auckland:20160825T090000
DTEND;TZID=Pacific/Auckland:20160825T150000
DTSTAMP:20260423T125605
CREATED:20160223T091817Z
LAST-MODIFIED:20160223T091817Z
UID:162837-1472115600-1472137200@menza.co.nz
SUMMARY:Wellington Orchestra Festival 2016
DESCRIPTION:A day of orchestral rehearsal and performance led by arranger and conductor Richard Oswin for senior primary and intermediate students.
URL:https://menza.co.nz/event/wellington-orchestra-festival-2016/
LOCATION:St Oran’s College\, 550 High Street\, Lower Hutt City\, 5042\, New Zealand
CATEGORIES:Wellington
ATTACH;FMTTYPE=image/png:https://menza.co.nz/wp-content/uploads/2016/02/facebook_event_982407425177143-1.png
END:VEVENT
BEGIN:VEVENT
DTSTART;TZID=Pacific/Auckland:20160825T190000
DTEND;TZID=Pacific/Auckland:20160825T203000
DTSTAMP:20260423T125605
CREATED:20151103T105330Z
LAST-MODIFIED:20151103T105330Z
UID:160984-1472151600-1472157000@menza.co.nz
SUMMARY:Strum Strike and Blow 2016
DESCRIPTION:1000 students play ukuleles\, marimbas and recorders with a live backing band and special guests. \nRegister your groups early on http://strumstrikeblow.org to get access to the music early and to take advantage of the workshops leading up to it! \nAudience entry is $5 donation at the door.
URL:https://menza.co.nz/event/strum-strike-and-blow-2016/
LOCATION:Horncastle Arena\, 30 Whiteleigh Ave\, Addington\, 8024\, New Zealand
CATEGORIES:Canterbury
ATTACH;FMTTYPE=image/jpeg:https://menza.co.nz/wp-content/uploads/2015/11/facebook_event_191730091160185-1.jpg
END:VEVENT
BEGIN:VEVENT
DTSTART;TZID=Pacific/Auckland:20160828T130000
DTEND;TZID=Pacific/Auckland:20160828T153000
DTSTAMP:20260423T125605
CREATED:20160819T104516Z
LAST-MODIFIED:20160819T104516Z
UID:163341-1472389200-1472398200@menza.co.nz
SUMMARY:Sing With Lala - A workshop in two parts
DESCRIPTION:The first part of the workshop will focus on children’s songs from around the world. Bring the whole family! In the second part\, we will focus on songs from Madagascar. We welcome people of all ages and abilities. Lala is delightful\, a wonderful singer with a wealth of knowledge to share.
URL:https://menza.co.nz/event/sing-with-lala-a-workshop-in-two-parts/
LOCATION:The Muse Community Music Trust
CATEGORIES:Canterbury
ATTACH;FMTTYPE=image/jpeg:https://menza.co.nz/wp-content/uploads/2016/08/facebook_event_323391741341342-1.jpg
END:VEVENT
END:VCALENDAR