BEGIN:VCALENDAR
VERSION:2.0
PRODID:-//MENZA - ECPv6.15.20//NONSGML v1.0//EN
CALSCALE:GREGORIAN
METHOD:PUBLISH
X-WR-CALNAME:MENZA
X-ORIGINAL-URL:https://menza.co.nz
X-WR-CALDESC:Events for MENZA
REFRESH-INTERVAL;VALUE=DURATION:PT1H
X-Robots-Tag:noindex
X-PUBLISHED-TTL:PT1H
BEGIN:VTIMEZONE
TZID:Pacific/Auckland
BEGIN:STANDARD
TZOFFSETFROM:+1300
TZOFFSETTO:+1200
TZNAME:NZST
DTSTART:20160402T140000
END:STANDARD
BEGIN:DAYLIGHT
TZOFFSETFROM:+1200
TZOFFSETTO:+1300
TZNAME:NZDT
DTSTART:20160924T140000
END:DAYLIGHT
BEGIN:STANDARD
TZOFFSETFROM:+1300
TZOFFSETTO:+1200
TZNAME:NZST
DTSTART:20170401T140000
END:STANDARD
BEGIN:DAYLIGHT
TZOFFSETFROM:+1200
TZOFFSETTO:+1300
TZNAME:NZDT
DTSTART:20170923T140000
END:DAYLIGHT
BEGIN:STANDARD
TZOFFSETFROM:+1300
TZOFFSETTO:+1200
TZNAME:NZST
DTSTART:20180331T140000
END:STANDARD
BEGIN:DAYLIGHT
TZOFFSETFROM:+1200
TZOFFSETTO:+1300
TZNAME:NZDT
DTSTART:20180929T140000
END:DAYLIGHT
END:VTIMEZONE
BEGIN:VTIMEZONE
TZID:Pacific/Auckland
BEGIN:STANDARD
TZOFFSETFROM:+1300
TZOFFSETTO:+1200
TZNAME:NZST
DTSTART:20160402T140000
END:STANDARD
BEGIN:DAYLIGHT
TZOFFSETFROM:+1200
TZOFFSETTO:+1300
TZNAME:NZDT
DTSTART:20160924T140000
END:DAYLIGHT
BEGIN:STANDARD
TZOFFSETFROM:+1300
TZOFFSETTO:+1200
TZNAME:NZST
DTSTART:20170401T140000
END:STANDARD
BEGIN:DAYLIGHT
TZOFFSETFROM:+1200
TZOFFSETTO:+1300
TZNAME:NZDT
DTSTART:20170923T140000
END:DAYLIGHT
BEGIN:STANDARD
TZOFFSETFROM:+1300
TZOFFSETTO:+1200
TZNAME:NZST
DTSTART:20180331T140000
END:STANDARD
BEGIN:DAYLIGHT
TZOFFSETFROM:+1200
TZOFFSETTO:+1300
TZNAME:NZDT
DTSTART:20180929T140000
END:DAYLIGHT
END:VTIMEZONE
BEGIN:VEVENT
DTSTART;TZID=Pacific/Auckland:20170405T043000
DTEND;TZID=Pacific/Auckland:20170406T073000
DTSTAMP:20260423T040940
CREATED:20170330T194914Z
LAST-MODIFIED:20170330T194914Z
UID:163877-1491366600-1491463800@menza.co.nz
SUMMARY:Bryony Gibson-Cornish in Residence
DESCRIPTION:Masterclass with Bryony\nWednesday 5 April\, 4.30pm\nMerivale Lane Theatre \nBryony Gibson-Cornish in Concert\nThursday 6 April\, 7.30pm\nMerivale Lane Theatre \nBryony Gibson-Cornish is one of New Zealand’s finest emerging artists. She is a sought after international soloist\, chamber musician and orchestral player. She has a Masters in Music from the Juilliard School in New York and is currently studying at the Royal College of Music in London. \nShe enjoys challenging the boundaries of classical music with her pursuits of composition\, singing\, improvisation\, new music\, historical performance and music technology. Recent awards include the Pultron Composites Award for the best performance of a New Zealand Work (Salina Fisher’s “Reflect”) at the Gisborne International Music Competition and an Award from the Yamaha Foundation of Europe. \nDuring the summer of 2015\, Bryony toured with Chamber Music New Zealand as a member of the Turnovsky Jubilee Ensemble\, celebrating the 50th anniversary of the organisation’s Chamber Music Contest. Highlights of summer 2016 include IMS Prussia Cove Open Chamber Music\, Music From Angel Fire and the London Sinfonietta Academy. When she visits New Zealand\, she presents workshops and concerts and in recent years she has been a featured artist with the Auckland Philharmonia Orchestra and the Christchurch Symphony Orchestra. \nhttp://bryonyviola.wixsite.com/bryonygibsoncornish/watch-listen \nDon’t miss out on this astounding young musician
URL:https://menza.co.nz/event/bryony-gibson-cornish-in-residence/
CATEGORIES:Canterbury
ATTACH;FMTTYPE=image/jpeg:https://menza.co.nz/wp-content/uploads/2017/03/facebook_event_798515413634389-1.jpg
END:VEVENT
BEGIN:VEVENT
DTSTART;TZID=Pacific/Auckland:20170412T091500
DTEND;TZID=Pacific/Auckland:20170412T144500
DTSTAMP:20260423T040940
CREATED:20170301T045709Z
LAST-MODIFIED:20170301T045709Z
UID:163864-1491988500-1492008300@menza.co.nz
SUMMARY:WURM -  Wellington Ukulele\, Recorder and Marimba Festival
DESCRIPTION:Wednesday 12 April 9:15am – 2:45pm\nWURM –  Wellington Ukulele\, Recorder and Marimba Festival\nRegistrations for this event have now closed.\n$60 MENZA members\, $90 incl. membership for non-MENZA members\nMaungaraki School\, Dowse Drive\, Maungaraki\, Lower Hutt \nPlease note\, registrations for this event have now closed.\nThe WURM festival is intended for senior primary and intermediate students but older and younger students can also join in. This festival is in its fourth year so the momentum is mounting. We would love to welcome new schools to these and can assist in preparations so please be in touch.\nWURM is a friendly music festival for ukulele\, recorder and marimba players at senior primary and intermediate levels. Music is shared prior to the event for students and teachers to practise and prepare. There are 4-5 pieces to learn though there is no expectation of 100% readiness by anyone. On the day\, we workshop together and in sections to present a final concert of instrumental and massed items. Supported by Shane McAlister of  The Ukulele Institute and experienced local music teachers\, this event runs like a dream and is a pleasure every year.
URL:https://menza.co.nz/event/wurm-wellington-ukulele-recorder-and-marimba-festival/
CATEGORIES:Wellington
END:VEVENT
BEGIN:VEVENT
DTSTART;TZID=Pacific/Auckland:20170428T093000
DTEND;TZID=Pacific/Auckland:20170428T170000
DTSTAMP:20260423T040940
CREATED:20170314T102933Z
LAST-MODIFIED:20170314T102933Z
UID:163873-1493371800-1493398800@menza.co.nz
SUMMARY:Music PD Day West Coast
DESCRIPTION:Music Education Canterbury is heading to the West Coast to facilitate some great workshops that will give teachers some new and inspiring ideas that they can take back to their classrooms immediately \nReinvigorating Singing with our Senior Students with a Taste of Kodaly \nwith Kate Husband \nTaking the Stigma Away from Theory \nwith Judith Bell \nQuirky Choir \nwith Heather Libeau-Dow \nSing\, Dance and Play with Juniors \nwith Celia Stewart \n  \nCost : \nOne workshop $30 \nTwo workshops $55 \nThree workshops $75 \nThe Programme \n9.30 – All in – some great starter ideas to get you energised for the day \n10.00-12.00 – Session 1 \nChoose one from: \n\nReinvigorating singing with our senior students the Kodaly Way\n\n\nSing Dance and Play with Juniors\n\n\nTaking the Stigma Away from Theory\n\n12.00-12.30 – Lunch break \n12.30-2.30 – Session 2 \nChoose one from: \n\nReinvigorating singing with our senior students the Kodaly Way\n\n\nQuirky Choir\n\n\nSing Dance and Play with Juniors\n\n2.30 – 3.00 – Afternoon Tea \n 3.00 – 5.00 – Session 3 \nChoose one from \n\nTaking the Stigma Away from Theory\n\n\nQuirky Choir\n\nPlease register here \nThe  Workshops \n Reinvigorating Singing with our Senior Students with a Taste of Kodaly  \nwith Kate Husband \nDo you teach students in Years 4-8? Are you seeking ways of bringing great singing and movement back into the classroom? This workshop will show you how using the Kodaly method to teach singing\, moving and dancing which will ignite a real love of singing tunefully in your classes. \nTaking the Stigma Away from Theory \nwith Judith Bell \n A fun interactive workshop where we get to try out the games and activities that make theory so popular at year 6-9 level as well as discussing the strategies and resources for running an after school theory club. Although much of the workshop is “unplugged” the workshop also covers some engaging ways technology is used in the club. \nQuirky Choir \nwith Heather Libeau-Dow \nThis year I take Junior and Senior choir in a large primary school; and a choir for 5-12 year olds in a very small school. These are for “all-comers”  and the challenge is to deliver sessions that are energetic and captivating. \nThe voice in the body is the vehicle for expression; there is emphasis on good posture\, connected breathing and great diction. As repertoire is the key to success\, a wide range of material is carefully selected; including engaging NZ compositions and songs from around the world. Orff Schulwerk processes are evident throughout-incorporating vocal exploration\, movement \, rounds and improvisation. \nThis workshop is geared to teachers responsible for primary choirs and classroom/assembly singing. Reflection and discussion around developing positive choir culture will conclude this session. \nSing\, Dance and Play with Juniors \nwith Celia Stewart \nThis workshop will incorporate a range of great ideas that will empower all teacher to introduce music activities in to their daily programme. Using speech rhymes as the motivator we will explore singing\, moving\, and playing experiences that will engage young children. The main elements of music\, beat\, rhythm\, dynamics\, pitch\, tempo and tone colour will be experienced in simple ways that all teachers can enjoy with their students. \n  \nThe Presenters \n Kate Husband – I have been teaching in classes for the past twenty years. I work in year 1-6 classes throughout the school week and teach two choirs for the Christchurch School of Music on Saturdays. I have been trained in Level 1 Orff and am part way through learning the Level 1 Kodaly method. I grew up off and on on the West Coast and am lucky enough to spend many holidays each year in Okarito – my favourite place. I am passionate about keeping the art of music alive in our classrooms and in providing manageable ways for teachers to explore these too. \nJudith Bell –Judith Bell has run the Chisnallwood Intermediate School music programme since 1999\, which provides instrumental and vocal lessons\, she and directs performance music groups such as all-comers-orchestra\, Jazz\, Irish and rock\, theory club\, computer music and sound tech training. Prior to Chisnallwood\, Judith taught early childhood music classes and was an itinerant and private music teacher. She also does arranging and transcribing work. Judith played in the band Barock for over 25 years and now plays in 2 Big Bands. She is a music director for Christchurch’s Strum Strike and Blow Festival for ukuleles\, marimbas and recorders\, and involved in Junior Jazz Jam (for Primary school jazz bands) and the Christchurch Big Band Festival. She is co-chair of Music Education Canterbury\, is on the MENZA board and has recently become a MusicEdNet mentor looking especially at computational thinking and music learning as the new digital technologies curriculum is implemented in NZ. Other workshop topics Judith delivers include “Successfully Using Diverse instruments in a performance group” and “Easy jazz style and improvisation tips”. \nHeather Libeau-Dow After general classroom teaching Heather specialised in primary music for eleven years then lectured at the University of Canterbury – College of Education for another eleven years. Currently she has an interesting mix combining both areas – appraising College of Education primary teacher trainees on school placements; delivering choir/ class music programmes in two Christchurch schools and teaching singing from her private studio. Her Orff Schulwerk journey started more than a decade ago with VOSA Levels 1 and 2 in Melbourne; later completing the University of Waikato Post Graduate qualification and recently Level 4  in Hamilton with inspirational Orff educator Mary Helen Solomon from Florida. Heater’s practice is strongly influenced by on-going training in Orff-Schulwerk. In line with contemporary educational pedagogy\, this creative child centred approach scaffolds musical experiences through experiential learning. Integrating language\, movement and playing\, musical skills and concepts are explored in positive environment. \nCelia Stewart Celia has been involved in music education for many years as a primary and early childhood teacher\, lecturer in Early Childhood at the Christchurch College of Education\, primary music adviser in Canterbury with UC EdPlus at the University of Canterbury and National Facilitator in Primary Music for the Ministry of Education. She is Music Director at the Christchurch School of Music and regularly facilitates workshops for teachers\, works in schools as a specialist music teacher\, manages music events and writes resources. Celia is a flute and recorder player\, is co-director of the Strum Strike and Blow festival\, immediate past president of both Music Education Canterbury and Music Education NZ Aotearoa\, co-director of the upcoming MENZA conference in Auckland and closely involved with the Christchurch Big Band Festival. She has a Masters in Education specializing in the Orff Schulwerk approach to music education through Waikato University.
URL:https://menza.co.nz/event/music-pd-day-west-coast/
CATEGORIES:Canterbury,Marlborough and West Coast
ATTACH;FMTTYPE=image/jpeg:https://menza.co.nz/wp-content/uploads/2017/03/Music-PD-photo-1.jpg
END:VEVENT
BEGIN:VEVENT
DTSTART;VALUE=DATE:20170429
DTEND;VALUE=DATE:20170501
DTSTAMP:20260423T040940
CREATED:20161121T235534Z
LAST-MODIFIED:20161121T235534Z
UID:163860-1493424000-1493596799@menza.co.nz
SUMMARY:Orff Level 1 Course & Workshops 2017
DESCRIPTION:ONZA are offering the Level 1 Orff certification course in Wellington over three weekend modules.  This is the first time they are offering the course in this way\, rather than as a six day block course ($600 Earlybird Price If registered before December 1st 2016). \n\n\n\n\nTo register for the ONZA Wellington Workshop Series 2017 or for the Level 1 teacher certification course please enrol online at: www.orffnz.org/wellington-workshops \n\n\n\n\nModule 1: April 29-30\nModule 2: July 22-23\nModule 3: October 14-15\n\n\nIn addition there are two workshops:\nThursday 11 May 4-6.30pm Eastern Hutt School\nWednsday 9 August 4-6:30pm Community Music Junction.\n\n\nPlease refer to the brochure for details.\norff_brochure_2017
URL:https://menza.co.nz/event/orff-level-1-course-workshops-2017/
LOCATION:Eastern Hutt School\, 53 Kings Cres\, Lower Hutt\, Wellington\, 5010\, New Zealand
CATEGORIES:Wellington
ATTACH;FMTTYPE=image/png:https://menza.co.nz/wp-content/uploads/2016/11/Orff-Ad-2.png
END:VEVENT
END:VCALENDAR