BEGIN:VCALENDAR
VERSION:2.0
PRODID:-//MENZA - ECPv6.15.20//NONSGML v1.0//EN
CALSCALE:GREGORIAN
METHOD:PUBLISH
X-WR-CALNAME:MENZA
X-ORIGINAL-URL:https://menza.co.nz
X-WR-CALDESC:Events for MENZA
REFRESH-INTERVAL;VALUE=DURATION:PT1H
X-Robots-Tag:noindex
X-PUBLISHED-TTL:PT1H
BEGIN:VTIMEZONE
TZID:UTC
BEGIN:STANDARD
TZOFFSETFROM:+0000
TZOFFSETTO:+0000
TZNAME:UTC
DTSTART:20160101T000000
END:STANDARD
END:VTIMEZONE
BEGIN:VTIMEZONE
TZID:Pacific/Auckland
BEGIN:STANDARD
TZOFFSETFROM:+1300
TZOFFSETTO:+1200
TZNAME:NZST
DTSTART:20160402T140000
END:STANDARD
BEGIN:DAYLIGHT
TZOFFSETFROM:+1200
TZOFFSETTO:+1300
TZNAME:NZDT
DTSTART:20160924T140000
END:DAYLIGHT
BEGIN:STANDARD
TZOFFSETFROM:+1300
TZOFFSETTO:+1200
TZNAME:NZST
DTSTART:20170401T140000
END:STANDARD
BEGIN:DAYLIGHT
TZOFFSETFROM:+1200
TZOFFSETTO:+1300
TZNAME:NZDT
DTSTART:20170923T140000
END:DAYLIGHT
BEGIN:STANDARD
TZOFFSETFROM:+1300
TZOFFSETTO:+1200
TZNAME:NZST
DTSTART:20180331T140000
END:STANDARD
BEGIN:DAYLIGHT
TZOFFSETFROM:+1200
TZOFFSETTO:+1300
TZNAME:NZDT
DTSTART:20180929T140000
END:DAYLIGHT
END:VTIMEZONE
BEGIN:VTIMEZONE
TZID:Pacific/Auckland
BEGIN:STANDARD
TZOFFSETFROM:+1300
TZOFFSETTO:+1200
TZNAME:NZST
DTSTART:20160402T140000
END:STANDARD
BEGIN:DAYLIGHT
TZOFFSETFROM:+1200
TZOFFSETTO:+1300
TZNAME:NZDT
DTSTART:20160924T140000
END:DAYLIGHT
BEGIN:STANDARD
TZOFFSETFROM:+1300
TZOFFSETTO:+1200
TZNAME:NZST
DTSTART:20170401T140000
END:STANDARD
BEGIN:DAYLIGHT
TZOFFSETFROM:+1200
TZOFFSETTO:+1300
TZNAME:NZDT
DTSTART:20170923T140000
END:DAYLIGHT
BEGIN:STANDARD
TZOFFSETFROM:+1300
TZOFFSETTO:+1200
TZNAME:NZST
DTSTART:20180331T140000
END:STANDARD
BEGIN:DAYLIGHT
TZOFFSETFROM:+1200
TZOFFSETTO:+1300
TZNAME:NZDT
DTSTART:20180929T140000
END:DAYLIGHT
END:VTIMEZONE
BEGIN:VEVENT
DTSTART;TZID=UTC:20170602T093000
DTEND;TZID=UTC:20170602T153000
DTSTAMP:20260423T070756
CREATED:20170520T084519Z
LAST-MODIFIED:20170520T084519Z
UID:164521-1496395800-1496417400@menza.co.nz
SUMMARY:MENZA Auckland PD Day
DESCRIPTION:MENZA Auckland PD Day – CLICK HERE TO REGISTER \nEvent details \nFriday 2 June 2017\nManurewa High School\n67 Browns Rd\, Manurewa\, Auckland. \nMENZA  is pleased to present a dynamic line-up of workshops for primary\, secondary and itinerant teachers of music. Hosted by Manurewa High School\, workshops will focus on songwriting for both primary and secondary\, recording\, drumming and teaching from iPads – there will also be an instrument repair cafe and optional resource sharing opportunity for you to share ideas and innovations. Lunch and cafe style coffee will be provided. \nWorkshop Selection \n9:30 – 11:00am (90 mins)\nCHOOSE BETWEEN: \n\nSongwriting 1 secondary \nJeni Little\, Mike Chunn\, Tim Randle\nInstrument Repair Café   \nShannon Coulomb\, Andrea Rabin\nPrimary Songwriting\nSuzi Cato and Arthur Baysting\n\n11:15 – 12:30pm (75 mins) \nCHOOSE BETWEEN: \n\nSongwriting 2  \nToni Keegan\nClassroom Drumming  \nFraser Bruce\, Tim Randle\nTBC\n\n1:15 – 2:30pm (75 Mins)\nCHOOSE BETWEEN: \n\nTeaching from iPads  \nDavid Hodkinson\nRecording Students  \nScott Seabright\nCulturally Responsive Pedagodgies    \nPanel Discussion\n\n2:30pm \nOptional resource share     \nAn opportunity for teachers to share resources and discuss ideas. \nFor more information\, please contact Tim Randle: rn@manurewa.school.nz \nCLICK HERE TO REGISTER
URL:https://menza.co.nz/event/menza-auckland-pd-day/
LOCATION:Manurewa High School\, 67 Browns Road\, Manurewa\, Auckland\, New Zealand
CATEGORIES:Auckland and Northland
ATTACH;FMTTYPE=image/jpeg:https://menza.co.nz/wp-content/uploads/2017/05/menza-logo-sm-e1532942148210.jpg
END:VEVENT
BEGIN:VEVENT
DTSTART;TZID=Pacific/Auckland:20170606T133000
DTEND;TZID=Pacific/Auckland:20170606T220000
DTSTAMP:20260423T070756
CREATED:20161215T040955Z
LAST-MODIFIED:20161215T040955Z
UID:163861-1496755800-1496786400@menza.co.nz
SUMMARY:JAZZ ON THE ROAD
DESCRIPTION:JAZZ ON THE ROAD\n“Changing Lives through Music” \nJazz on the Road is an exciting and challenging series of one day workshops and concerts delivered by the Rodger Fox Big Band\, featuring 4 leading US jazz musicians at venues across New Zealand in June 2017. \nConcept \nJazz on the Road is an intensive youth-oriented programme that focuses on the fundamentals of jazz music and its associated business aspects for young musicians. \n\nThe workshops will encourage students who already play jazz to improve\, supporting the development of musical skills in young people\nParticipants gather to share\, develop and challenge their own ideas and abilities. Our stellar faculty of world-renowned musicians\, innovators\, leaders and thinkers present master classes\, lectures\, workshops\, informal sessions and a concert\nThe workshop is open to all young musicians and music educators.\n\nStudents must have their own instruments to participate in the programme \nSubject areas include jazz rhythms\, performance within the band\, jazz improvisation\, music reality (theory)\, team building through music\, leadership and performance. \nThe programme exposes students to leading musicians and professionals in education\, business and performance. \nJazz on the Road focuses sessions to deliver a half day workshop and performance event with young secondary school musicians around big band and jazz concepts. Through individual workshops\, panel discussions and demonstration to the school jazz bands attending\, followed by an evening concert students will get to develop their skills and appreciation of what it takes to make great music. \nThe Rodger Fox Big Band \nThe 17 members of New Zealand’s acclaimed Rodger Fox Big Band will be accompanied by four leading international jazz musicians. Many of the musicians in the big band hold positions in major teaching institutions including the New Zealand School of Music and many High Schools. \nRodger Fox \nRodger Fox is New Zealand’s foremost jazz trombonist\, big band leader\, jazz educator\, arranger and producer. He is also the Artistic Director for a number of jazz festivals around the country. \nFeatured guest artists from the USA \nThe guest artists add a new dimension and expose the students to different styles of jazz and a different level of mastery. \nDave Weckl: Dave is an American jazz fusion drummer and leader of the Dave Weckl Band. He was inducted into the Modern Drummer Hall of Fame in 2000. Performs with Chick Corea Electric Band\, Mike Stern Trio and has featured with Weckl artists such as Paul Simon. Madonna\, George Benson\, Michel Camilo\, Robert Plant\, Anthony Jackson and The GRP All-star Big Band. Tony Lindsay – After 20 years as the lead vocalist for the group Santana\, Tony has garnered 11 GRAMMY® Awards\, traveled on several world tours and recorded on seven CDs: Milagro (1992)\, Supernatural  (1999)\, Shaman (2002)\, Ceremony (2003)\, Food for Thought (2004)\, Ultimate Santana (2007)\, and Multi-Dimensional Warrior (2008). He is currently recording his fourth solo CD. \nAdam Schroeder – Los Angeles based baritone saxophonist Adam Schroeder\, has firmly established his influential voice as a major force in the global jazz community. Recognized as a “Rising Star” on the Baritone Saxophone in Down Beat Magazine’s 59 th Annual Critic’s Poll as well as in the 76th\, 79th and 80th Annual Reader’s Poll and the JazzEd Magazine 2014 Readers Poll\, A member of the Gordon Goodwin’s Big Phat Band \nAlex Sipiagin – Trumpet. Jazz festivals worldwide have seen Alex Sipiagin performing with the likes of Dave Holland\, Michael Brecker\, the Mingus groups. \nBorn in Russia\, Alex begun studying the trumpet at age 12. In 1990\, Alex participated in the International Louis Armstrong Competition sponsored by the Thelonius Monk Institute in Washington D.C. winning top honors and after relocated to the jazz mecca of the world\, New York City. \nAll of the guest artists are experienced in working with high school aged students and bring a wealth of experience to the project. \nWhat will students be doing? \nThe group of artists will spend time in each city to present educational workshops during the day\, followed by a concert at night. The concert will be attended by students as well as the general public. \nGiving students and teachers exposure to world-class educators and performers in this way gives them an insight into the level required to perform internationally\, as well as a greater understanding of jazz concepts and artistry. \nWorkshop format\n1.30 – 2.15pm \n\nGeneral introduction.\nRodger Fox Big Band to open the workshop by performing a swing style chart.\nDiscussion will then take place to show what it takes to play in this style of ensemble. Each section of the big band will demonstrate their parts within the arrangement and will then put it all together. Full scores for the musical arrangement will be available to music teachers and the instrument parts will be made available to all students to follow as the Rodger Fox Big Band demonstrate the music.\n\n2.15 – 3.00pm \n\nIntroduction to improvisation\nImprovisation is a key characteristic of jazz and students will be introduced to the concepts to enable them to develop their own skills in this area.\n\n3.00 – 3.15 Transition to individual workshops \n\nInstrument specific workshops\nStudents will have the opportunity to focus on their own instrument and learn the tips and tricks from the professionals\n\n3.15 – 4.15pm \n\nIndividual Workshops\nHow to play in a jazz style\nTrumpet / Trombone / Saxophones (Woodwinds) / Vocals / Rhythm Section (Keyboards\, Guitar\, Bass\, Drums)\n\n4.30 – 5.00pm \n\nRecap on the afternoon workshop and panel discussion\nStudents have the chance to ask their burning questions and reflect on what they’ve learned so far.\n\n5.00 – 5.30pm \nShort break \n5.30 – 6.45 pm \nDave Weckl Drum workshop/masterclasses \n6.45pm to 8.00pm \nDinner break \n8.00pm \nConcert featuring all the Artists and the Rodger Fox Big Band \nThis is where the students and teachers will have the opportunity to hear and see what has been discussed at the workshop in a live situation. \nCost to Students: \n(1) FULL PACKAGE:  Workshop / Dave Weckl Drum Workshop / Concert – $30.00 \n(2) Workshop Only – $20.00 \n(3) Workshop Only – $20.00 \nRegister here (Google Form for Schools’ deal)\nTicketek general public tickets at http://premier.ticketek.co.nz/shows/show.aspx?sh=JAZZGALA17
URL:https://menza.co.nz/event/jazz-on-the-road/
CATEGORIES:Canterbury
ATTACH;FMTTYPE=image/jpeg:https://menza.co.nz/wp-content/uploads/2016/12/JazzGala2017poster.jpg
END:VEVENT
BEGIN:VEVENT
DTSTART;TZID=UTC:20170610T140000
DTEND;TZID=UTC:20170610T180000
DTSTAMP:20260423T070756
CREATED:20170520T094043Z
LAST-MODIFIED:20170520T094043Z
UID:164534-1497103200-1497117600@menza.co.nz
SUMMARY:MENZA AGM & PD Workshops
DESCRIPTION:MENZA AGM & PD Workshops\nHoly Cross School\, 2-6 Athens St\, Miramar\, Wellington 6022\nSaturday 10 June 2017\nREGISTER HERE \nDetails \nWe warmly invite our members to attend our AGM on Saturday 10 June and encourage you to attend one of our workshops designed to cater for early childhood\, primary and secondary educators. After the AGM\, there will be an opportunity to mix and mingle with fellow teachers with drinks and nibbles. \nEvent timetable \n2:00pm – 2:50pm\nPD Workshops ($20 MENZA members\, $40 Non-MENZA members)\nChoose from: \n\nCelia Stewart – Music and Movement with Juniors\nJudith Bell – Taking the Stigma Away from Theory\nTim Randle – Songwriting\nLinda Webb – Advocating for Primary Music Education – a  discussion workshop (FREE)\n\n2:50 – 3:00pm\nShort break for coffee & biscuits. \n3:00pm – 5pm\nMENZA AGM\nWe warmly invite you to join the MENZA board to discuss what we have acheived this year and our goals for the future.\n5pm \nDrinks and nibbles \nREGISTER HERE \nWorkshop Descriptions \nCelia Stewart – Music and Movement with Juniors\nThis workshop will incorporate a range of great ideas that will empower all teachers to introduce music activities in to their daily programme. Using speech rhymes as the motivator we will explore singing\, moving\, and playing experiences that will engage young children. The main elements of music\, beat\, rhythm\, dynamics\, pitch\, tempo and tone colour will be experienced in simple ways that all teachers can enjoy with their students. \nJudith Bell – Taking the Stigma Away from Theory\nA fun\, interactive workshop where we get to try out the games and activities that make theory so popular at year 7-8 level as well as discussing the strategies and resources for running an after-school theory club. Although much of the workshop is “unplugged” the workshop also covers some engaging ways technology is used in the club. It will also look briefly at music learning and computational thinking and how they link into the new digital technologies curriculum. \nTim Randle – Songwriting\nThis will cover tips and strategies to help teach Songwriting and implement the new standard 91849. The workshop will cover lyric writing and song specific composition techniques. \nLinda Webb – Advocating for Prmary Music – A discussion workshop – FREE \nWe invite all interesed teachers to share their thoughts on how MENZA can best respond to the NMSSA report by contributing to our Primary Advocacy Statement at a group discussion.  \nIn her research paper\, “A Mismatch between Policy\, Philosophy and Practice” Linda Webb highlighted that changes in teacher education delivery over the previous decade had negatively impacted primary generalist teacher’s competence and confidence to teach music\, with the large majority not able to meet curriculum requirements and delivery expectations. \nLatest findings from the NMSSA has further proven the effect this is having on our children\, with only half of students at years 2 and 8 reaching the minimum scores associated with achieving curriculum at levels 2 and 4 respectively\, with low decile schools scoring\, on average\, lower than those attending high decile schools. Similarly\, Maori and Pasifika students\, who are more likely to attend mid-low decile schools\, scored on average lower than non-Maori and non-Pasifika students.
URL:https://menza.co.nz/event/164534/
LOCATION:Holy Cross School\, 2 Athens St \, Miramar\, Wellington\, 6022\, New Zealand
CATEGORIES:Auckland and Northland
ATTACH;FMTTYPE=image/jpeg:https://menza.co.nz/wp-content/uploads/2017/05/menza-logo-sm-e1532942148210.jpg
END:VEVENT
BEGIN:VEVENT
DTSTART;TZID=UTC:20170611T130000
DTEND;TZID=UTC:20170611T170000
DTSTAMP:20260423T070756
CREATED:20170502T010103Z
LAST-MODIFIED:20170502T010103Z
UID:164324-1497186000-1497200400@menza.co.nz
SUMMARY:Music Education Canterbury Workshops June 11
DESCRIPTION:Music Education Canterbury is pleased to bring you some great workshops that will give you some new and inspiring ideas that you can take back to your classrooms immediately \nSunday 11 June 1.00-5.00pm \nChristchurch School of Music \n60 Ferry Rd \n\nReinvigorating Singing with our Senior Students with a Taste of Kodaly with Kate Husband\nTaking the Stigma Away from Theory with Judith Bell\nQuirky Choir with Heather Libeau-Dow\nSing\, Dance and Play with Juniors with Celia Stewart\n\nChristchurch Music PD Day \nThe Programme \n1.00 – All in – some great starter ideas to get you energised for the day \n1.30-3.00 – Session 1 \nChoose one from: \n\nReinvigorating singing with our senior students the Kodaly Way\nMusic and Movement with Juniors\nTaking the Stigma Away from Theory\nQuirky Choir\n\n3.00-3.30 – Afternoon tea break \n3.30-5.00 – Session 2 \nChoose one from: \n\nReinvigorating singing with our senior students the Kodaly Way\nMusic and Movement with Juniors\nTaking the Stigma Away from Theory\nQuirky Choir\n\nCost:   One workshop $25.00 \nTwo workshops $45.00 \nCost includes afternoon tea \nPlease register here \nor email us at helenpowell@xnet.co.nz if you have any questions or can’t access the google form \nThe Workshops \nReinvigorating Singing with our Senior Students with a Taste of Kodaly  \nwith Kate Husband \nDo you teach students in Years 4-8? Are you seeking ways of bringing great singing and movement back into the classroom? This workshop will show you how using the Kodaly method to teach singing\, moving and dancing which will ignite a real love of singing tunefully in your classes. \nTaking the Stigma Away from Theory \nwith Judith Bell \nA fun interactive workshop where we get to try out the games and activities that make theory so popular at year 6-9 level as well as discussing the strategies and resources for running an after-school theory club. Although much of the workshop is “unplugged” the workshop also covers some engaging ways technology is used in the club. It will also look at music learning and computational thinking and how they link into the new digital technologies curriculum. \nQuirky Choir \nwith Heather Libeau-Dow \nThis year I take Junior and Senior choir in a large primary school; and a choir for 5-12 year olds in a very small school. These are for “all-comers” and the challenge is to deliver sessions that are energetic and captivating. \nThe voice in the body is the vehicle for expression; there is emphasis on good posture\, connected breathing and great diction. As repertoire is the key to success\, a wide range of material is carefully selected; including engaging NZ compositions and songs from around the world. Orff Schulwerk processes are evident throughout-incorporating vocal exploration\, movement\, rounds and improvisation. \nThis workshop is geared to teachers responsible for primary choirs and classroom/assembly singing. Reflection and discussion around developing positive choir culture will conclude this session. \nMusic and Movement with Juniors \nwith Celia Stewart \nThis workshop will incorporate a range of great ideas that will empower all teachers to introduce music activities in to their daily programme. Using speech rhymes as the motivator we will explore singing\, moving\, and playing experiences that will engage young children. The main elements of music\, beat\, rhythm\, dynamics\, pitch\, tempo and tone colour will be experienced in simple ways that all teachers can enjoy with their students. \nThe Presenters \nKate Husband has been teaching in classes for the past twenty years. She works in year 1-6 classes throughout the school week and teaches two choirs for the Christchurch School of Music on Saturdays. She has been trained in Level 1 Orff and is part way through learning the Level 1 Kodaly method.. She is passionate about keeping the art of music alive in our classrooms and in providing manageable ways for teachers to explore these too. \nJudith Bell has run the Chisnallwood Intermediate School music programme since 1999\, which provides instrumental and vocal lessons and a wide range of performance music groups. Prior to Chisnallwood\, Judith taught early childhood music classes and was an itinerant and private music teacher. She also does arranging and transcribing work. Judith is co-director for Christchurch’s Strum Strike and Blow Festival and involved in Junior Jazz Jam (for Primary school jazz bands) and the Christchurch Big Band Festival. She is co-chair of Music Education Canterbury\, is on the MENZA board and has recently become a MusicEdNet mentor looking especially at computational thinking and music learning as the new digital technologies curriculum is implemented in NZ. \nHeather Libeau-Dow After general classroom teaching Heather specialised in primary music for eleven years then lectured at the University of Canterbury – College of Education for another eleven years. Currently she has an interesting mix combining both areas – appraising College of Education primary teacher trainees on school placements; delivering choir/ class music programmes in two Christchurch schools and teaching singing from her private studio. Her Orff Schulwerk journey started more than a decade ago with VOSA Levels 1 and 2 in Melbourne; later completing the University of Waikato Post Graduate qualification and recently Level 4 in Hamilton with inspirational Orff educator Mary Helen Solomon from Florida. \nCelia Stewart has been involved in music education for many years as a primary and early childhood teacher\, lecturer in Early Childhood at the Christchurch College of Education\, primary music adviser in Canterbury with UC EdPlus at the University of Canterbury and National Facilitator in Primary Music for the Ministry of Education. She is Music Director at the Christchurch School of Music and regularly facilitates workshops for teachers\, works in schools as a specialist music teacher\, manages music events and writes resources. Celia is a flute and recorder player\, is co-director of the Strum Strike and Blow festival\, immediate past president of both Music Education Canterbury and Music Education NZ Aotearoa\, co-director of the upcoming MENZA conference in Wellington. She has a Masters in Education specializing in the Orff Schulwerk approach to music education through Waikato University.
URL:https://menza.co.nz/event/music-education-canterbury-workshops-june-11/
LOCATION:Christchurch School of Music (CSM)\, 100 Fitzgerald Avenue\, Christchurch\, 8011\, New Zealand
CATEGORIES:Canterbury
ATTACH;FMTTYPE=image/jpeg:https://menza.co.nz/wp-content/uploads/2017/03/facebook_event_273217193112510-2.jpg
END:VEVENT
BEGIN:VEVENT
DTSTART;VALUE=DATE:20170623
DTEND;VALUE=DATE:20170624
DTSTAMP:20260423T070756
CREATED:20170507T133326Z
LAST-MODIFIED:20170507T133326Z
UID:164378-1498176000-1498262399@menza.co.nz
SUMMARY:DAYTiME in Auckland
DESCRIPTION:Presented by Music EDnet\, DAYTiME is an annual one-day conference come professional development day focused on integrating technology into your music program. It offers a unique opportunity to hear from some of Australia’s and New Zealand’s most knowledgeable and experienced exponents of the use of technology in music education\, as well as a chance to spend some time networking with your peers and sharing ideas and resources. \nDAYTiME has become the No. 1 conference in the region focusing on music technology\nin music education with the 2016 series attracting over 500 attendees. \nThe DAYTiME program includes an inspiring and thought-provoking keynote followed by a number of various sessions covering everything from planning for and successfully integrating technology into your music program\, to practical sessions in using software such as Sibelius\, Pro Tools\, Mixcraft and GarageBand\, from using iPads in the music classroom to exploring the wealth of resources available for delivering music with technology in primary\, middle and secondary school.
URL:https://menza.co.nz/event/daytime-in-auckland/
LOCATION:Ellerslie Event Centre\, 80 Ascot Ave\, Remuera\, Auckland\, 1050\, New Zealand
CATEGORIES:National
ATTACH;FMTTYPE=image/png:https://menza.co.nz/wp-content/uploads/2017/05/DaytimeAuckland.png
ORGANIZER;CN="Music EDnet":MAILTO:info@musicednet.co.nz
END:VEVENT
BEGIN:VEVENT
DTSTART;TZID=Pacific/Auckland:20170628T190000
DTEND;TZID=Pacific/Auckland:20170628T203000
DTSTAMP:20260423T070756
CREATED:20170301T060608Z
LAST-MODIFIED:20170301T060608Z
UID:163600-1498676400-1498681800@menza.co.nz
SUMMARY:MEC AGM
DESCRIPTION:A great opportunity to hear from local music education groups and to have a quick tour of the facilities at the new U of C Music location! \nUC Arts City Campus at the Arts Centre\n3 Hereford St\nChristchurch Central\nChristchurch 8013\n\nWe will be meeting in the Performance/Seminar space in the Attic.\nThe tour will be followed by a short MEC meeting. Drinks and nibbles supplied. \n 
URL:https://menza.co.nz/event/mec-agm-2/
LOCATION:UC Arts City Campus at the Arts Centre\, 3 Hereford Street\, Christchurch\, Canterbury\, 8013\, New Zealand
CATEGORIES:Canterbury
ATTACH;FMTTYPE=image/jpeg:https://menza.co.nz/wp-content/uploads/2017/03/facebook_event_273217193112510-2.jpg
END:VEVENT
BEGIN:VEVENT
DTSTART;TZID=Pacific/Auckland:20170629T091500
DTEND;TZID=Pacific/Auckland:20170629T144500
DTSTAMP:20260423T070756
CREATED:20170301T045950Z
LAST-MODIFIED:20170301T045950Z
UID:163865-1498727700-1498747500@menza.co.nz
SUMMARY:WOF - Wellington Orchestra Festival
DESCRIPTION:Thursday 29 June 9:15am – 2:45pm\nWOF – Wellington Orchestra Festival\n$80 MENZA members\, $100 incl. membership for non-MENZA members\nSt Oran’s College\, 550 High Street\, Boulcott\, Lower Hutt \nWOF is our opportunity to gather all of those students who learn an orchestral instrument together to realise and experience the wonders of playing in a full orchestra. Richard Oswin\, Christchurch\, arranges a pleasing repertoire of music for us every year\, and is there to guide us through preparations and performances on the day. Again\, music (6 pieces) is shared with teachers and students well before the event. There are options and various levels provided for some parts (eg. Violin 1\, Violin 2\, Violin 3 and Violin 4!!). School groups might practise together but it is also envisioned that students will work on their parts with instrumental tutors in their lessons.\nAs with WURM\, the WOF festival is intended for senior primary and intermediate students but older and younger students can also join in. We would love to welcome new schools to these and can assist in preparations so please be in touch. \nFor more information contact Mary Horner: MHorner@sbc.school.nz \nCLICK HERE TO REGISTER FOR YOUR CHOSEN EVENT(S)
URL:https://menza.co.nz/event/wof-wellington-orchestra-festival/
CATEGORIES:Wellington
END:VEVENT
BEGIN:VEVENT
DTSTART;TZID=UTC:20170629T160000
DTEND;TZID=UTC:20170629T170000
DTSTAMP:20260423T070756
CREATED:20170429T102938Z
LAST-MODIFIED:20170429T102938Z
UID:164288-1498752000-1498755600@menza.co.nz
SUMMARY:Wellington Secondary School Music Teachers Network Meeting
DESCRIPTION:Wellington Region Secondary School Music Teachers Network Meeting\n4pm\, Thursday 29 June\nNewlands College with Ben Lau\n68 Bracken Rd\, Newlands\, Wellington 6037\nYear 9/10 Junior Programmes\n  \nAll secondary school music teachers are very welcome. Bring your energy\, expertise and queries and share!!\n \nAny more info\, mhorner@sbc.school.nz
URL:https://menza.co.nz/event/wellington-secondary-school-music-teachers-network-meeting/
END:VEVENT
END:VCALENDAR