BEGIN:VCALENDAR
VERSION:2.0
PRODID:-//MENZA - ECPv6.15.20//NONSGML v1.0//EN
CALSCALE:GREGORIAN
METHOD:PUBLISH
X-ORIGINAL-URL:https://menza.co.nz
X-WR-CALDESC:Events for MENZA
REFRESH-INTERVAL;VALUE=DURATION:PT1H
X-Robots-Tag:noindex
X-PUBLISHED-TTL:PT1H
BEGIN:VTIMEZONE
TZID:UTC
BEGIN:STANDARD
TZOFFSETFROM:+0000
TZOFFSETTO:+0000
TZNAME:UTC
DTSTART:20170101T000000
END:STANDARD
END:VTIMEZONE
BEGIN:VEVENT
DTSTART;TZID=UTC:20180605T133000
DTEND;TZID=UTC:20180605T220000
DTSTAMP:20260423T025742
CREATED:20180515T210621Z
LAST-MODIFIED:20180515T210621Z
UID:165196-1528205400-1528236000@menza.co.nz
SUMMARY:Jazz Gala workshops and concert
DESCRIPTION:The Rodger Fox Big Band  \nThe 17 members of New Zealand’s acclaimed Rodger Fox Big Band will be accompanied by four leading international jazz musicians. Many of the musicians in the big band hold positions in major teaching institutions\, including the New Zealand School of Music and many High Schools. \nRodger Fox \nRodger Fox is New Zealand’s foremost jazz trombonist\, big band leader\, jazz educator\, arranger and producer. He is also the Artistic Director for a number of jazz festivals around the country. \nOver the years Rodger has performed with some of the biggest names in jazz – blues and commercial music including Michael Brecker\, Diane Schuur\, Joey Defrancesco\, Mike Stern\, Randy Crawford\, Michael Houstoun\, Charlie Musselwhite\, Robben Ford\, Chris Cain\, Jon Papenbrook\, Dee Bridgewater\, Steve Smith\, Tom Warrington\, Larry Knoose\, Joe LaBarbara\, John Fedchock\, Clay Jenkins\, Eric Marienthal\,  Bill Cunliffe\, Steve Houghton\, Dick Oatts\, Alex Sipiagin\, Bob Sheppard\, Bruce Forman\, Charley Davis\, Denise Perrier\, Alan Broadbent and Jim Pugh …….to name but a few. \nConcert featured guest artists from the USA \nRobben Ford – Guitar/Vocalist \nAmerican blues\, jazz\, and rock guitarist. He was a member of the L.A. Express and has collaborated with Miles Davis\, Joni Mitchell\, George Harrison\, Larry Carlton and Kiss. He was named one of the “100 Greatest Guitarists of the 20th Century” by Musician magazine. \nLydia Pense – Vocalist from Cold Blood \nAmericanrock–soul–jazzsinger who\, since 1969\, has performed with the band Cold Blood. Critics have compared her style to powerful singers including Janis Joplin\, Aretha Franklin\, and Teena Marie.. \nThe guest artists add a new dimension and expose the students to different styles of jazz and a different level of mastery. \nWhat will students be doing?\n \nThe group of artists will spend time in each city to present educational workshops during the day\, followed by a concert at night. The concert will be attended by students as well as the general public. \nGiving students and teachers exposure to world-class educators and performers in this way gives them an insight into the level required to perform internationally\, as well as a greater understanding of jazz concepts and artistry. \nWorkshop format \n 1.30 – 2.15pm General introduction. \nRodger Fox Big Band to open the workshop by performing a swing style chart. Discussion will then take place to show what it takes to play in this style of ensemble. Each section of the big band will demonstrate their parts within the arrangement and will then put it \nall together. Full scores for the musical arrangement will be available to music teachers and the instrument parts will be available to all students to follow as the Rodger Fox Big Band demonstrate the music. \n2.15 – 2.45pm Introduction to improvisation  \nImprovisation is a key characteristic of jazz and students will be introduced to the concepts to enable them to develop their own skills in this area. \n 2.45 – 3.15 Short Break to move to workshop rooms \n3.15 – 4.30pm Individual Workshops \nStudents will have the opportunity to focus on their own instrument and learn the tips and tricks from the professionals \nHow to play in a jazz style \nTrumpet / Trombone / Saxophones (Woodwinds) / Vocals / \nRhythm Section (Keyboards\, Guitar\, Bass\, Drums) \n4.45 – 5.30pm Recap on the afternoon workshop and panel discussion \nStudents have the chance to ask their burning questions and reflect on what they’ve learned so far. \n 5.30pm to 7.30pm Dinner break \n 7.30 – 9.45pm Concert featuring Robben Ford – Guitar / Vocals\, Lydia Pense -vocals in concert with The Rodger Fox Big Band . \nThis is where the students and teachers will have the opportunity to hear and see what has been discussed at the workshop in a live situation. \n\nVenue is the Mayfair Theatre:\n \nWorkshops 1.30 – 5.30 Then dinner break and the Concert will start at 7.30pm\nThe concert starts at 7.30pm as this will means students will be home by 10.30pm\nContact Rodger Fox at rdfoxtrombone@gmail.com
URL:https://menza.co.nz/event/jazz-gala-workshops-and-concert/
CATEGORIES:Otago
ATTACH;FMTTYPE=image/png:https://menza.co.nz/wp-content/uploads/2018/05/Jazz-Gala-2018.png
ORGANIZER;CN="Rodger Fox":MAILTO:rdfoxtrombone@gmail.com
END:VEVENT
BEGIN:VEVENT
DTSTART;TZID=UTC:20180605T153000
DTEND;TZID=UTC:20180605T180000
DTSTAMP:20260423T025742
CREATED:20180515T181004Z
LAST-MODIFIED:20180515T181004Z
UID:165186-1528212600-1528221600@menza.co.nz
SUMMARY:MUSIC and DIGITAL TECHNOLOGY
DESCRIPTION:Fun Music Theory Games integrated with the computational thinking part of the new Digital Technologies curriculum and other cool music and tech stuff. \nMusic & Digital Technology\nTuesday 5 June 2018 \nMusic Education Otago invites you to a workshop that combines elements of the new Digital Technologies Curriculum with Music. \nOur presenters:\nJudith Bell \nJudith Bell leads the music programme at Chisnallwood Intermediate School in Christchurch\, teaching performance music groups including rock bands\, jazz bands\, orchestra\, percussion\, Irish\, ukulele\, as well as a popular theory club\, a computer music course and sound tech training. She is also is a mentor for MusicEdNet (Music Technology). Her work developing ways to integrate music learning with the new Digital Technologies Curriculum has led to workshop opportunities in Australia\, Lithuania\, USA\, Scotland and Switzerland. \nProfessor Tim Bell \nTim Bell is a professor in the Department of Computer Science and Software Engineering at the University of Canterbury. His “Computer Science Unplugged” project is widely used internationally. Tim has received many awards for his work in education including the international 2018 SIGCSE Award for Outstanding Contribution to Computer Science Education. Since 2008 he has been actively involved in the design and deployment of the Digital Technologies Curriculum in New Zealand schools. He also plays on instruments with black and white keyboards! \nWorkshop Content:\nJudith will share some of the successful and fun learning activities and games she uses at the popular after-school Chisnallwood music theory club. There will be a focus on activities that integrate elements of the new Digital Technologies curriculum with music learning related to theory. Some of these activities use computational thinking in an unplugged way\, with sorting networks and Beebots. Judith will also share fun demo lessons for teaching music using Scratch. Tim will then be available to answer your Digital Technologies Curriculum questions\, while Judith will delve into more music games\, based on the interests of attendees. It is optional to bring a laptop with Scratch installed. \nWorkshop Details:\nDate: Tuesday 5 June 2018 \nTime: 4.00 – 6.00pm (afternoon tea from 3.30) \nVenue: St Clair School\, 135 Richardson Street\, Dunedin \nCost: $20 per teacher (all proceeds to Chisnallwood Jazz Band trip funds) \nRegister by following the link https://goo.gl/forms/n3LhSdDMoPONkJvO2 by Friday 1 June \nPlease pay by direct debit to: a/c 03 1726 0031089 00 a/c name – Music Education Otago with references ‘Music-Tech’ and ‘School Name’ \nFor further information contact Alison at acaldwell@stclair.school.nz \n \n 
URL:https://menza.co.nz/event/music-and-digital-technology/
LOCATION:St Clair School\, 135 Richardson Street\, St Kilda\, Dunedin\, New Zealand
CATEGORIES:Otago
ATTACH;FMTTYPE=image/png:https://menza.co.nz/wp-content/uploads/2018/05/MEO.png
ORGANIZER;CN="MEO":MAILTO:acaldwell@stclair.school.nz
END:VEVENT
BEGIN:VEVENT
DTSTART;TZID=UTC:20180623T150000
DTEND;TZID=UTC:20180623T170000
DTSTAMP:20260423T025742
CREATED:20180404T143004Z
LAST-MODIFIED:20180404T143004Z
UID:165014-1529766000-1529773200@menza.co.nz
SUMMARY:APO Community Classics: Worlds Collide
DESCRIPTION:We all come from different places and have different stories\, but music is universal. This free concert with the APO celebrates all our different worlds\, inviting everyone from the community to share in the joy and fun of music
URL:https://menza.co.nz/event/apo-community-classics-worlds-collide/
LOCATION:Auckland Town Hall\, Queen Street\, Auckland\, 1010\, New Zealand
CATEGORIES:Auckland and Northland
ATTACH;FMTTYPE=image/png:https://menza.co.nz/wp-content/uploads/2018/04/Screen-Shot-2018-04-05-at-2.24.41-PM.png
END:VEVENT
BEGIN:VEVENT
DTSTART;TZID=UTC:20180627T130000
DTEND;TZID=UTC:20180627T150000
DTSTAMP:20260423T025742
CREATED:20180307T093942Z
LAST-MODIFIED:20180307T093942Z
UID:164984-1530104400-1530111600@menza.co.nz
SUMMARY:We Can Sing!! Wellington
DESCRIPTION:We Can Sing!!\nWednesday 1 August\, 1-3pm\nSacred Heart College\, Lower Hutt\nFree event\nREGISTER NOW\, HERE! \nA new event this year to acknowledge the variety of singing groups in our secondary schools. The idea is a simple rotation of performances by all singing groups in attendance and a massed sing to conclude. A proven formula in the Wairarapa!!
URL:https://menza.co.nz/event/we-can-sing-wellington/
END:VEVENT
BEGIN:VEVENT
DTSTART;TZID=UTC:20180627T183000
DTEND;TZID=UTC:20180627T203000
DTSTAMP:20260423T025742
CREATED:20180522T144739Z
LAST-MODIFIED:20180522T144739Z
UID:165208-1530124200-1530131400@menza.co.nz
SUMMARY:Mendelssohn's Italian Symphony
DESCRIPTION:APO UNWRAP THE MUSIC SERIES\nMendelssohn Symphony No.4 Italian\nConductor/Presenter Richard Gill \nThis symphony was once described as ‘blue sky in A major’ – a description that can’t be bettered. How does Mendelssohn so perfectly translate the warmth of the southern sun into music? It’s all in the details of the orchestration\, just waiting to be unpicked by Richard Gill. \nThe ebullient music educator/conductor Richard Gill joins the orchestra again to ‘unwrap’ this great orchestral work and reveal what makes it so special. \nPart concert\, part interactive talk\, each Unwrap the Music is guaranteed to take your musical appreciation to the next level. This entertaining event is great for all ages\, whether you are a seasoned concertgoer or new to orchestral music.
URL:https://menza.co.nz/event/mendelssohns-italian-symphony/
LOCATION:Auckland Town Hall\, Queen Street\, Auckland\, 1010\, New Zealand
ATTACH;FMTTYPE=image/jpeg:https://menza.co.nz/wp-content/uploads/2018/05/APO1.jpg
END:VEVENT
BEGIN:VEVENT
DTSTART;TZID=UTC:20180630T150000
DTEND;TZID=UTC:20180630T170000
DTSTAMP:20260423T025742
CREATED:20180624T222456Z
LAST-MODIFIED:20180624T222456Z
UID:165251-1530370800-1530378000@menza.co.nz
SUMMARY:MENZA AGM
DESCRIPTION:MENZA warmly invites you to our AGM at Dilworth Junior Campus in Remuera\, Auckland at 3pm Saturday 30 June\, with drinks and nibbles to follow. Please see the agenda and minutes of the 2017 AGM. \nAt the AGM\, the board will look back on the previous financial year and report on our audited accounts\, our achievements as an organisation and what has been happening in the regions. It is an opportunity for members to network with the music education community and hear about our plans for the future. \nAll members are welcome. If you are planning on attending\, we would love to hear from you in order to get numbers for catering\, please register here.
URL:https://menza.co.nz/event/menza-agm/
LOCATION:Dilworth Junior School\, 27 Omahu Road\, Remuera\, Auckland\, 1050\, New Zealand
ATTACH;FMTTYPE=image/jpeg:https://menza.co.nz/wp-content/uploads/2018/06/Menza-Logo-Design-1.jpg
END:VEVENT
END:VCALENDAR