BEGIN:VCALENDAR
VERSION:2.0
PRODID:-//MENZA - ECPv6.15.20//NONSGML v1.0//EN
CALSCALE:GREGORIAN
METHOD:PUBLISH
X-ORIGINAL-URL:https://menza.co.nz
X-WR-CALDESC:Events for MENZA
REFRESH-INTERVAL;VALUE=DURATION:PT1H
X-Robots-Tag:noindex
X-PUBLISHED-TTL:PT1H
BEGIN:VTIMEZONE
TZID:UTC
BEGIN:STANDARD
TZOFFSETFROM:+0000
TZOFFSETTO:+0000
TZNAME:UTC
DTSTART:20170101T000000
END:STANDARD
END:VTIMEZONE
BEGIN:VEVENT
DTSTART;TZID=UTC:20181122T183000
DTEND;TZID=UTC:20181122T203000
DTSTAMP:20260422T115902
CREATED:20180522T153138Z
LAST-MODIFIED:20180522T153138Z
UID:165218-1542911400-1542918600@menza.co.nz
SUMMARY:Tchaikovsky The Nutcracker
DESCRIPTION:  \nAPO UNWRAP THE MUSCI SERIES\nTchaikovsky The Nutcracker: Suite No.1\nConductor/Presenter Richard Gill \nWhen composing ballet music\, Tchaikovsky was given very strict instructions by his choreographers. Many composers would struggle with such an artistic straitjacket. Tchaikovsky not only delivered exactly what was required\, but responded with some of his best work. Hear the absorbing story of how he did it. \nThe ebullient music educator/conductor Richard Gill joins the orchestra again to ‘unwrap’ this great orchestral work and reveal what makes it so special. \nPart concert\, part interactive talk\, each Unwrap the Music is guaranteed to take your musical appreciation to the next level. This entertaining event is great for all ages\, whether you are a seasoned concertgoer or new to orchestral music.
URL:https://menza.co.nz/event/tchaikovsky-the-nutcracker/
LOCATION:Auckland Town Hall\, Queen Street\, Auckland\, 1010\, New Zealand
ATTACH;FMTTYPE=image/jpeg:https://menza.co.nz/wp-content/uploads/2018/05/apo3.jpg
END:VEVENT
BEGIN:VEVENT
DTSTART;TZID=UTC:20181124T090000
DTEND;TZID=UTC:20181124T150000
DTSTAMP:20260422T115902
CREATED:20181003T102108Z
LAST-MODIFIED:20181003T102108Z
UID:165434-1543050000-1543071600@menza.co.nz
SUMMARY:He Rahi Te Iti - little can be huge
DESCRIPTION:MENZA Networks of Expertise presents… \nHe Rahi Te Iti – little can be huge\nAn Auckland music education PLD event for ECE and primary teachers \nVenue: Auckland University Faculty of Education Epsom Campus\, Music Block.\nDate: Saturday 24 November\nTime: 9.00am – 3.00pm\nCost: $50.00 includes annual MENZA membership\, $20.00 for members\, Free for full-time teacher trainees and beginning teachers\nLunch provided\n \nREGISTER HERE TODAY! \nWorkshops: \n9am \nWhakatau (welcome) + body percussion warm-up\n\n9:15am\nECE Workshop – Tihore Mai: Developing music ideas from this waiata based on a music unit from “Into Music One” – presented by Rawiri Hindle and Robyn Trinick\nPrimary Workshop –  On Show: Putting on a Musical presented by Judy Inkster\n\n10:30am\nMorning tea\n\n11am\nECE Workshop – The Kuia and the Spider Developing music ideas from a popular picture book – presented by Robyn McQueen\nPrimary Workshop –  “Adding to\, not taking away” Music/Language/Mathematics – presented by Pam Perger and Robyn Trinick\n\n12:15pm \nDavid Lines – the new music education degree\n\n12:30pm\nLunch\n\n1:15pm\nUkulele for primary and ECE – with Selena bercic\n\n2:45pm\nPoroporoaki \nJoin us for an opportunity to network with colleagues and be refreshed and inspired! \n  \n 
URL:https://menza.co.nz/event/aucklandeceprimary/
LOCATION:Epsom Campus\, University of Auckland
ATTACH;FMTTYPE=image/jpeg:https://menza.co.nz/wp-content/uploads/2018/06/Menza-Logo-Design-1.jpg
END:VEVENT
BEGIN:VEVENT
DTSTART;TZID=UTC:20181130T090000
DTEND;TZID=UTC:20181130T150000
DTSTAMP:20260422T115902
CREATED:20181003T100643Z
LAST-MODIFIED:20181003T100643Z
UID:165425-1543568400-1543590000@menza.co.nz
SUMMARY:Auckland Music Education PLD Day
DESCRIPTION:MENZA Networks of Expertise presents… \nCome on over to the South-Side\nAn Auckland music PLD event for secondary educators\n \nPresenters\nDelysse Glynn( NZQA)\, Jane Egan (GGHS) & Belinda Carey (MENZA secondary Kaiarahi) plus other experts on the panel \nREGISTER HERE TODAY! \nDate: Friday 30 November\, 9am – 3pm\nVenue: St Paul’s College\, 183 Richmond Rd\, Ponsonby.\nCost: Non-MENZA member: $80 (includes MENZA membership)\, MENZA member: $50\nFREE for teacher trainees & first year teachers\nLunch provided. \nWorkshops include:\nHow to effectively manage ITM programmes (panel of experts)\nNCEA L3 US Song Writing – (Jane Egan – nominee for Vodafone teacher of the year!).\nModerating\, Capturing composition\, Integrating Te Reo and Pasifika into song-writing (NZQA’s moderator\, Delysse Glynn)\nCatering for the new generation of musicians\, rappers\, writing raps and where can they go with it?\nHow do you moderate these?\nAdmin docs to improve your quality of life
URL:https://menza.co.nz/event/aucklandsec/
LOCATION:St Paul’s College\, 183 Richmond Road\, Ponsonby\, Auckland\, 1021\, New Zealand
ATTACH;FMTTYPE=image/jpeg:https://menza.co.nz/wp-content/uploads/2018/06/Menza-Logo-Design-1.jpg
END:VEVENT
END:VCALENDAR