BEGIN:VCALENDAR
VERSION:2.0
PRODID:-//MENZA - ECPv6.15.20//NONSGML v1.0//EN
CALSCALE:GREGORIAN
METHOD:PUBLISH
X-ORIGINAL-URL:https://menza.co.nz
X-WR-CALDESC:Events for MENZA
REFRESH-INTERVAL;VALUE=DURATION:PT1H
X-Robots-Tag:noindex
X-PUBLISHED-TTL:PT1H
BEGIN:VTIMEZONE
TZID:UTC
BEGIN:STANDARD
TZOFFSETFROM:+0000
TZOFFSETTO:+0000
TZNAME:UTC
DTSTART:20180101T000000
END:STANDARD
END:VTIMEZONE
BEGIN:VEVENT
DTSTART;TZID=UTC:20190905T091500
DTEND;TZID=UTC:20190905T144500
DTSTAMP:20260421T191034
CREATED:20190304T215430Z
LAST-MODIFIED:20190319T101155Z
UID:166111-1567674900-1567694700@menza.co.nz
SUMMARY:Wellington Orchestra Festival (WOF)
DESCRIPTION:Wellington Orchestra Festival\nThursday 5 September 9:15am – 2:45pm\nChilton St James School 124 Waterloo Rd\, Lower Hutt\n$50 for MENZA members or $80 for Non-MENZA Members (includes membership)\nRegister today! \nThis is intended for senior primary and intermediate students but older and younger students also join us for a day of rehearsals and a concert to finish\, having practised music prior to the day. We would love to welcome new schools to this event and can assist in preparations so please be in touch. \nClick here to register\, or for more information\, email mhorner@sbc.school.nz
URL:https://menza.co.nz/event/wellington-orchestra-festival-wof/
END:VEVENT
BEGIN:VEVENT
DTSTART;TZID=UTC:20190909T100000
DTEND;TZID=UTC:20190909T144500
DTSTAMP:20260421T191034
CREATED:20190619T133811Z
LAST-MODIFIED:20190827T104526Z
UID:166459-1568023200-1568040300@menza.co.nz
SUMMARY:The Art and Psychology of Musical Play with Julie Wylie
DESCRIPTION:When: Monday 9th September – 10am – 2:45pm\nWhere: Whanganui Central Baptist Kindergarten\, 285 Wicksteed St\, Whanganui\, 4500\nCost: Free for MENZA members or teachers who are part of an institution that is a MENZA member\, first year teachers and those currently enrolled in an education degree\, or $30+GST for non-members\nREGISTER HERE TODAY \nThe Power of Musical Play \nThe keys to a child’s learning are: \n\nBeing calm and alert (controlled by the lower brain).\nBeing in happy engagement with adults who value and respect them (controlled by the mid brain).\nForming memories (including language\, literacy and numeracy) through experiencing the world (controlled by the mid brain and cortex).\n\nThis workshop is designed to help participants gain an understanding of how music can be used in very specific ways to arouse or calm\, and regulate the brain. Many children in our schools and ECE centres are experiencing anxiety and stress. Musical play activates every part of the brain and promotes healthy brain growth and development.  \nParticipants will discover enjoyable ways to: \n\nInteract musically;\nUse the elements of music so that they become a natural part of children’s play;\nUse instructional songs in daily routines;\nMatch children’s energy levels and arouse or calm children through musical play.\n\n  \nThe Art of Musical Play \nMusical play is the child’s first language and is a natural part of the life and culture of children. It opens up an imaginative\, magical world of possibilities. Sensory musical play helps children to listen\, express\, feel\, move and develop a strong sense of self in relation to others. It structures the moment\, helping children to make sense of their world. Musical play can occur inside\, outside\, anywhere\, any time\, and is a wonderful way to support daily routines such as tidying up\, washing hands and learning to start or stop on cue.  \nThis workshop will offer many practical ideas about what to include in a musical play session and how to make mat time relevant to young children. It is designed to help participants understand the purpose of group music and musical play\, and how music can support numeracy and literacy. Musical play can weave all the strands of learning together and provides the warp and weft of the Early Childhood Curriculum\, Te Whāriki. \n  \nJulie was awarded the MNZM last year for services to Music Education and Musical Play Therapy and has presented numerous  workshops in New Zealand and overseas. Julie is a former Early Childhood Music Advisor for The Ministry of Education and lecturer in Early Childhood Development at the Christchurch College of Education.  \n 
URL:https://menza.co.nz/event/the-power-of-musical-play-the-art-of-musical-play-with-julie-wylie/
LOCATION:Whanganui Central Baptist Kindergarten\, 285 Wicksteed St\, Whanganui\, 4500\, New Zealand
CATEGORIES:Manawatu and Taranaki
END:VEVENT
BEGIN:VEVENT
DTSTART;VALUE=DATE:20190918
DTEND;VALUE=DATE:20190923
DTSTAMP:20260421T191034
CREATED:20181118T104241Z
LAST-MODIFIED:20181118T104241Z
UID:165465-1568764800-1569196799@menza.co.nz
SUMMARY:Christchurch Orchestra Festival
DESCRIPTION:The Secondary Schools Orchestra Festival run by the Christchurch Symphony Orchestra in partnership with CWSMTA is a highlight in the school calendar\, an excellent opportunity for students to play together\, improve and learn\, and aim to give of their best in a performance. It’s also a time for students and teachers to connect\, and together celebrate music within our community. \nThe venue will be the Christchurch Town Hall! \nWed 18 Sept      9am-3pm workshops for Canterbury Orchestras \nSat 21 Sept         open rehearsal\, CSO concert: The Planets (Zappa\, Holst\, LA Percussion Quartet) 7.30pm Town Hall \nSun 22 Sept         9am workshops for out of town orchestras\, 1-3pm massed rehearsal with CSO chief conductor Benjamin Northey; 4pm Showcase Concert concluding with combined item \nWorkshops: Each Canterbury school\, combined school or area submits an orchestra of high school students which perform a 15-20 minute programme for two commentators. The orchestra then breaks out into a 50-minute workshop with the commentators. When the students are not actively participating\, they may observe other orchestras or there might be other performance opportunities around the city. (TBC) \nOpen rehearsal and CSO concert: As part of the orchestral experience\, participating orchestras can observe the CSO rehearse and perform. The Planets programme for the 21 Sept is specially chosen for this teenage audience. \nWorkshops\, Massed Item and Showcase Concert: Each out of town school submits an orchestra of high school students which perform a 15-20 minute programme for two commentators. The orchestra then breaks out into a 50 minute workshop with the commentators. In the afternoon\, there will be a rehearsal for a massed item – where we fill the Town Hall floor with young players together with CSO players. Dynamic conductor Benjamin Northey\, Chief Conductor of the CSO will take the rehearsal (and performance). In the late afternoon concert\, each orchestra performs one 5-8 minute work on stage at the Town Hall. We conclude the performance with the massed item. \nOrchestras do not need to be “complete”; large ensembles are very welcome. \nArrangements of works to suit your orchestra are welcome. \nFee: $220 + GST per orchestra \nPlease advise me if you wish to be added to our SSOF mail outs for next year. \nIf you have any questions\, please do not hesitate to contact me. \n\nNga mihi \nCathy \n\n \n\n\n\n\n\n\nCathy Irons\nCommunity Engagement Programme Project Leader \nChristchurch Symphony Orchestra\nUnit 2\, 4 Klondyke Drive\, PO Box 3260\, Christchurch 8140\nD 03 943 7797   M 021 142 4849
URL:https://menza.co.nz/event/christchurch-orchestra-festival/
LOCATION:Christchurch Town Hall\, 86 Kilmore St\, Christchurch\, Canterbury\, 8013
CATEGORIES:Canterbury
ATTACH;FMTTYPE=image/jpeg:https://menza.co.nz/wp-content/uploads/2018/11/ChCh-Orchestra-Fest.jpg
ORGANIZER;CN="Cathy Irons":MAILTO:communityengagement@cso.co.nz
END:VEVENT
BEGIN:VEVENT
DTSTART;TZID=UTC:20190928T093000
DTEND;TZID=UTC:20190928T133000
DTSTAMP:20260421T191034
CREATED:20190814T123103Z
LAST-MODIFIED:20190917T221228Z
UID:166596-1569663000-1569677400@menza.co.nz
SUMMARY:The Power of Musical Play & The Art of Musical Play with Julie Wylie
DESCRIPTION:When: Saturday 28 September – 9:30-11am and 12pm – 1.30pm (Parent workshop 11:30 to midday)\nWhere: Westport Early learning Centre 48 Pakington Street.\nCost: Free for MENZA members or teachers who are part of an institution that is a MENZA member\, first year teachers and those currently enrolled in an education degree\, or $30 for non-members\nREGISTER HERE TODAY \nThe Power of Musical Play \nThe keys to a child’s learning are: \n\nBeing calm and alert (controlled by the lower brain).\nBeing in happy engagement with adults who value and respect them (controlled by the mid brain).\nForming memories (including language\, literacy and numeracy) through experiencing the world (controlled by the mid brain and cortex).\n\nThis workshop is designed to help participants gain an understanding of how music can be used in very specific ways to arouse or calm\, and regulate the brain. Many children in our schools and ECE centres are experiencing anxiety and stress. Musical play activates every part of the brain and promotes healthy brain growth and development.  \nParticipants will discover enjoyable ways to: \n\nInteract musically;\nUse the elements of music so that they become a natural part of children’s play;\nUse instructional songs in daily routines;\nMatch children’s energy levels and arouse or calm children through musical play.\n\n  \nThe Art of Musical Play \nMusical play is the child’s first language and is a natural part of the life and culture of children. It opens up an imaginative\, magical world of possibilities. Sensory musical play helps children to listen\, express\, feel\, move and develop a strong sense of self in relation to others. It structures the moment\, helping children to make sense of their world. Musical play can occur inside\, outside\, anywhere\, any time\, and is a wonderful way to support daily routines such as tidying up\, washing hands and learning to start or stop on cue.  \nThis workshop will offer many practical ideas about what to include in a musical play session and how to make mat time relevant to young children. It is designed to help participants understand the purpose of group music and musical play\, and how music can support numeracy and literacy. Musical play can weave all the strands of learning together and provides the warp and weft of the Early Childhood Curriculum\, Te Whāriki. \n  \nJulie was awarded the MNZM last year for services to Music Education and Musical Play Therapy and has presented numerous  workshops in New Zealand and overseas. Julie is a former Early Childhood Music Advisor for The Ministry of Education and lecturer in Early Childhood Development at the Christchurch College of Education.  \n 
URL:https://menza.co.nz/event/musical-play-with-julie-wylie/
LOCATION:Westport Playcentre\, 36A Fonblanque Street\, Westport\, 36A Fonblanque Street\, Westport\, 7825\, New Zealand
CATEGORIES:Marlborough and West Coast
END:VEVENT
BEGIN:VEVENT
DTSTART;TZID=UTC:20190929T170000
DTEND;TZID=UTC:20190929T200000
DTSTAMP:20260421T191034
CREATED:20190510T111649Z
LAST-MODIFIED:20190510T112308Z
UID:166242-1569776400-1569787200@menza.co.nz
SUMMARY:Bach Musica Concert
DESCRIPTION:Sunday 29 September 2019 at 5pm – Auckland Town Hall \n$30-$70 (Children/students from $15) [Service fees will also apply] \nHummel Trumpet Concerto \nMendelssohn Hear My Prayer \nMendelssohn Verleih uns Frieden \nMendelssohn Psalm 42 Wie der Hirsch schreit \nGerman Romantic Treasures: A true feast for German Romantic music lovers. Trumpet splendour contrasted with beautiful melodies and expressive harmonies. A real gem not to be missed! \nRita Paczian Conductor\nHuw Dann Trumpet\nStephanie Acraman Soprano \nTickets online form Auckland Live and Ticketmaster
URL:https://menza.co.nz/event/bach-musica-concert-2/
END:VEVENT
END:VCALENDAR