BEGIN:VCALENDAR
VERSION:2.0
PRODID:-//MENZA - ECPv6.15.20//NONSGML v1.0//EN
CALSCALE:GREGORIAN
METHOD:PUBLISH
X-ORIGINAL-URL:https://menza.co.nz
X-WR-CALDESC:Events for MENZA
REFRESH-INTERVAL;VALUE=DURATION:PT1H
X-Robots-Tag:noindex
X-PUBLISHED-TTL:PT1H
BEGIN:VTIMEZONE
TZID:UTC
BEGIN:STANDARD
TZOFFSETFROM:+0000
TZOFFSETTO:+0000
TZNAME:UTC
DTSTART:20180101T000000
END:STANDARD
END:VTIMEZONE
BEGIN:VEVENT
DTSTART;VALUE=DATE:20191031
DTEND;VALUE=DATE:20191104
DTSTAMP:20260421T163107
CREATED:20190609T110818Z
LAST-MODIFIED:20190621T140513Z
UID:166427-1572480000-1572825599@menza.co.nz
SUMMARY:ANZARME - Music Education Research 31 Oct-3 Nov
DESCRIPTION:Australian and New Zealand Association for Research in Music Education  \nWinds of Change\, the 41st Conference 2019  \n31 October – 3 November  \nVictoria University of Wellington  \nKelburn\, Wellington\, New Zealand  \nVictoria University of Wellington is proud to welcome the 41st Conference of the Australian and New Zealand Association for Research in Music Education (ANZARME). ANZARME welcomes all researchers of music education\, from beginning to experienced. \nWinds of Change reflects the constantly changing nature of the educational landscape\, and represents the political reality of changing philosophies\, values\, technologies and issues facing music education on all fronts today. It also echoes a Maori karakia (prayer) that we at Victoria often say at the beginning of important events and undertakings\, such as our conference. ANZARME Conference 2019 CALL FOR PAPERS Conference flyer Wellington 2019 ANZARME
URL:https://menza.co.nz/event/anzarme-music-education-research-31-oct-3-nov/
LOCATION:Victoria University of Wellington\, Kelburn Parade\, Wellington\, 6012\, New Zealand
CATEGORIES:National
ORGANIZER;CN="Vicki Thorpe":MAILTO:vicki.thorpe@vuw.ac.nz
END:VEVENT
BEGIN:VEVENT
DTSTART;TZID=UTC:20191122T090000
DTEND;TZID=UTC:20191122T150000
DTSTAMP:20260421T163107
CREATED:20191024T084748Z
LAST-MODIFIED:20191024T091858Z
UID:166709-1574413200-1574434800@menza.co.nz
SUMMARY:Secondary Music Teacher PLD  Tauranga  
DESCRIPTION:For: Secondary Teachers\nWhere: Tauranga Boys’ High School\, 663 Cameron Road\, Tauranga\n \nREGISTER HERE \nAn inspiring and practical day designed to meet the needs of local secondary classroom\, and itinerant music teachers. \n\n$80+GST (and you also get MENZA membership)\n$50+GST for current members\nFree for 2019 teacher trainees and beginning teachers\nLunch and morning tea provided\n\nWork with the Moderator\,  Performance Standards. Delysse Glynn NZQA \nUpdates from Teaching Council and PPTA about Itinerant employment. Belinda Carey MENZA Kaiarahi Secondary \nNetworking and great ideas that work for an instrumental programme. \nContact kaiàrahibelinda@gmail.com if you have any questions or have an inspiring resource you wish to present and share. Please be prepared to share a lightbulb moment or great resource.
URL:https://menza.co.nz/event/taurangasec/
LOCATION:Tauranga Boys College\, 664 Cameron Rd\, Tauranga South\, Tauranga\, 3112\, New Zealand
CATEGORIES:Bay of Plenty
END:VEVENT
BEGIN:VEVENT
DTSTART;VALUE=DATE:20191123
DTEND;VALUE=DATE:20191125
DTSTAMP:20260421T163107
CREATED:20191122T155458Z
LAST-MODIFIED:20191122T155458Z
UID:166740-1574467200-1574639999@menza.co.nz
SUMMARY:Drum Weekend
DESCRIPTION:The Drum Festival – 23-24 November\n\n\n\n\n\n\nTHE DRUM FESTIVAL\n\n\n\n\n\n\nSamba\, Afro-Cuban\, African\, Gypsy Caravan\, Japanese and Balinese…come celebrate amazing cultural diversity at this unique two-day global drumming festival hosted at the Little River Campground and Manaia Native Habitat this weekend (23-24 November 2019).\nThe Drum Festival is the South Island’s only drum-focused festival showcasing African\, Indian\, Arabic\, Asian drum performances and workshops as well as a fusion of contemporary drumming.\nSet within a beautiful natural landscape of native flora and fauna in Okuti Valley on the Banks Peninsular\, this two-day festival offers world-renowned performers\, drumming sessions\, dance\, singing and percussion workshops\, and a regular highlight — the late-night jams around a riverside campfire!\nOvernight camping is also available which is perfect for those wishing to immerse themselves for a weekend of African beats and good vibes within lush native bush.\nBring the family and spend a day (or weekend) enjoying fantastic cultural music and international performers\, as well as exploring the lush natural habitat\, majestic birdlife and other onsite features (slippery slide\, tree swings\, bush walks etc) the campground has to offer.\nTickets are strictly limited so book now.\nADULT\n$25 – Day ticket\n$65 – Two day ticket + 1 night camping\nCHILD (over 10 years)\n$10 – Day ticket (under 10 years – free)\n$35 – Two day ticket + 1 night camping (under 10 years – $15)\nBOOK TICKETS NOW\n\n\n  \nSATURDAY PROGRAMME\n11am – Performance by Burnside High School and Ara percussion students \n\n12pm – Soul Star Tribe – Gypsy caravan style dance performance and workshop \n1pm – Rhythm workshop by Doug Brush \n1:45pm – Singing workshop by Magaui Stewart \n2:30pm – Justin DeHart\nUniversity of Canterbury Gamelan (Balinese instruments and music) \n3:15pm – Dununba African Dance workshop with live drumming with Ra McRostie \n4:45pm – Dekaworwor African drumming and dance with Magaui Stewart and Tamara Smith \n7:30pm – Jam session \n8pm – World music concert with Mundi \nSUNDAY PROGRAMME\n9:30am- Dan Callahan and Doug Brush perform on one-of-a-kind leather string drums made by internationally renowned artist Garry Greenwood \n10am – Afro-Cuban Dance workshop with Pablo Salas \n11:30am – Samba band performance and Samba drum and dance workshop \n12:30pm – Christchurch Afro-Cuban ensemble performance with Doug Brush \n1:15pm – African drum and dance workshop with Koffie Fugah\, from Ghana. He’s incredible so come learn from one of the best \n2:45pm – Takumi Japanese Drumming Group – Spectacular grand finale with the incredible power of Japanese Taiko drumming
URL:https://menza.co.nz/event/drum-weekend/
LOCATION:Okuti Valley Hall\, Little River
CATEGORIES:Canterbury
ATTACH;FMTTYPE=image/png:https://menza.co.nz/wp-content/uploads/2019/11/Drum-Festival-2019.png
END:VEVENT
BEGIN:VEVENT
DTSTART;TZID=UTC:20191130T100000
DTEND;TZID=UTC:20191130T120000
DTSTAMP:20260421T163107
CREATED:20190522T205626Z
LAST-MODIFIED:20191113T042740Z
UID:166379-1575108000-1575115200@menza.co.nz
SUMMARY:"Tried and True" - Transformative music experiences in early childhood education with Helen and Marc Pritchard
DESCRIPTION:Where: Level 2/22 Amersham Way\, Manukau\, Auckland 2104 \nSector: Early Childhood Education / Early Primary \nCost: Free for MENZA members\, first year teachers and those currently enrolled in an education degree\, or $30+ GST for non-members. \nREGISTER HERE TODAY \nParticipants will engage in fun educational experiences which are successful and inspiring for preschool children.  The workshop will be facilitated by Dr Helen Pritchard and her son Marc Pritchard who is a musician\, singer and composer. This workshop includes live music experiences which appeal to children’s imaginations and creative response through singing\, playing and moving. Participants will be provided with a CD and notes which enable them to access the new and exciting materials in a range of genres.  Join in the excitement of sharing music experiences with young children and you will be amazed at their innate and natural abilities. The songs and musical materials are “tried and true” aimed at elevating the level of musicality in your setting. \nDr Helen Pritchard is a tutor with Workforce Development teaching the National Certificate in ECE Level 4 and has lectured at the Manukau Institute of Technology coordinating the Expressive Arts in their degree programme. She facilitates workshops for MIT including teaching ukulele\, singing\, movement and dance. She is a past workshop facilitator for ONZA for early childhood teachers and Music and Movement workshops for early childhood student teachers of Te Tari Puna (Te Rito Maioha). \n 
URL:https://menza.co.nz/event/tried-and-true-transformative-music-experiences-in-early-childhood-education-with-helen-and-marc-pritchard/
LOCATION:Level 2/22 Amersham Way\, Manukau\, Auckland 2104\, Level 2/22 Amersham Way\, Manukau\, Auckland\, 2104\, New Zealand
CATEGORIES:Auckland and Northland
END:VEVENT
END:VCALENDAR