BEGIN:VCALENDAR
VERSION:2.0
PRODID:-//MENZA - ECPv6.15.20//NONSGML v1.0//EN
CALSCALE:GREGORIAN
METHOD:PUBLISH
X-WR-CALNAME:MENZA
X-ORIGINAL-URL:https://menza.co.nz
X-WR-CALDESC:Events for MENZA
REFRESH-INTERVAL;VALUE=DURATION:PT1H
X-Robots-Tag:noindex
X-PUBLISHED-TTL:PT1H
BEGIN:VTIMEZONE
TZID:UTC
BEGIN:STANDARD
TZOFFSETFROM:+0000
TZOFFSETTO:+0000
TZNAME:UTC
DTSTART:20190101T000000
END:STANDARD
END:VTIMEZONE
BEGIN:VEVENT
DTSTART;TZID=UTC:20200501T123000
DTEND;TZID=UTC:20200501T131500
DTSTAMP:20260421T111619
CREATED:20200425T102446Z
LAST-MODIFIED:20200425T102446Z
UID:167390-1588336200-1588338900@menza.co.nz
SUMMARY:Primary Music Specialist Chat#2: Realistic Whole School Activities.
DESCRIPTION:Join other Primary Music Specialists for an informal video chat on Zoom hosted by the MENZA Digital Kaiārahi\, Martin Emo. \n\n\n \n\n\nThe purpose of this chat is to share ideas around realistic whole school activities. \n\n\nPlease bring an idea and a question to share. \n\n\n \n\n\nThese will be collated during the event and shared with participants afterwards on the menza resources page. \n\n\n \n\n\nThe zoom meeting does not have a password\, but does have a waiting room. Please join from 9:58am and wait to be admitted.To get the Zoom link\, head to the Music Education New Zealand Aotearora Facebook page or email menzadigitalkaiarahi [at] gmail [dot] com.
URL:https://menza.co.nz/event/primary-music-specialist-chat2-realistic-whole-school-activities/
CATEGORIES:National
ATTACH;FMTTYPE=image/png:https://menza.co.nz/wp-content/uploads/2020/04/Screen-Shot-2020-04-26-at-10.23.46-AM.png
END:VEVENT
BEGIN:VEVENT
DTSTART;TZID=UTC:20200503T140000
DTEND;TZID=UTC:20200503T153000
DTSTAMP:20260421T111619
CREATED:20200421T233148Z
LAST-MODIFIED:20200426T051310Z
UID:167373-1588514400-1588519800@menza.co.nz
SUMMARY:Music Education Canterbury AGM
DESCRIPTION:Music Education Canterbury has its 2020 AGM in a different format this year. \nYes\, it’s  Zoom meeting. That means we won’t notice if you attend in your slippers. \nWe look forward to hearing a beautiful clarinet item from the MEC CSM scholarship winner Ryan Hong followed by an enlightening and efficient AGM. \nWe ask that all who intend to attend\, or need to put in an apology\, or have a report to add\, please fill in this form by Friday 1st May. \nReports are all linked in the Agenda and will be added as they arrive. \nYou will be emailed the Zoom link when you’ve filled in the form\, and will be admitted from the virtual waiting room when you first arrive. Easy as. No petrol costs. \nIt’s a BYO cuppa\, crackers and cheese event. \nAnd a lovely chance to catch up with a great bunch of music educators 🙂
URL:https://menza.co.nz/event/music-education-canterbury-agm-2/
CATEGORIES:Canterbury
ATTACH;FMTTYPE=image/png:https://menza.co.nz/wp-content/uploads/2015/03/MEC-logo-1.png
END:VEVENT
BEGIN:VEVENT
DTSTART;TZID=UTC:20200506T100000
DTEND;TZID=UTC:20200506T104500
DTSTAMP:20260421T111619
CREATED:20200430T155926Z
LAST-MODIFIED:20200505T111122Z
UID:167408-1588759200-1588761900@menza.co.nz
SUMMARY:Ableton Live - An Introduction
DESCRIPTION:Join the MENZA Digital Kaiārahi\, Martin Emo\, for an introduction to Ableton Live. \n\n\n \n\n\nWith a free 90 day fully functioning trial\, it’s a great time to jump into using Ableton. If you’ve always wondered why it’s the most-used Digital Audio Workstation (DAW)\, come along to this introduction. \n\n\n \n\n\nAccess the free trial here https://www.ableton.com/en/trial/\n\n\n \n\n\nNotes will be collated during the event and shared with participants afterwards on the MENZA resources page. \n\n\n\n  \nThis will be livestreamed on the MENZA Facebook page. 
URL:https://menza.co.nz/event/ableton-live-an-introduction/
CATEGORIES:National
ATTACH;FMTTYPE=image/png:https://menza.co.nz/wp-content/uploads/2020/05/Screen-Shot-2020-05-01-at-3.44.33-PM.png
END:VEVENT
BEGIN:VEVENT
DTSTART;TZID=UTC:20200507T150000
DTEND;TZID=UTC:20200507T154000
DTSTAMP:20260421T111619
CREATED:20200430T155047Z
LAST-MODIFIED:20200504T165428Z
UID:167405-1588863600-1588866000@menza.co.nz
SUMMARY:Itinerant Teachers of Music Chat#2: Questions and Exams
DESCRIPTION:Join other Itinerant Teachers of Music for a 30min video chat on Zoom hosted by the MENZA Digital Kaiārahi\, Martin Emo\, at 3pm on Thursday 7th May. \n\n\n \n\n\nThe purpose of this chat is to follow up the earlier discussion about teaching online. There will also be representatives from NZMEB\, St Cecilia and Trinity College to add to our discussion about the implications for exams. \n\n\n \n\n\nPlease bring your questions. \n\n\n \n\n\nNotes will be collated during the event and shared with participants afterwards on the menza resources page. \n\n\n \n\n\nThe zoom meeting does not have a password\, but does have a waiting room. Please join from 2:57pm and wait to be admitted. \n\n\nGet the Zoom link from the MENZA Facebook page. 
URL:https://menza.co.nz/event/itinerant-teachers-of-music-chat2-questions-and-exams/
CATEGORIES:National
ATTACH;FMTTYPE=image/png:https://menza.co.nz/wp-content/uploads/2020/05/Screen-Shot-2020-05-01-at-2.26.12-PM.png
END:VEVENT
BEGIN:VEVENT
DTSTART;TZID=UTC:20200512T100000
DTEND;TZID=UTC:20200512T104500
DTSTAMP:20260421T111619
CREATED:20200504T192326Z
LAST-MODIFIED:20200504T192503Z
UID:167430-1589277600-1589280300@menza.co.nz
SUMMARY:Doing what you do....but in a Digital Environment
DESCRIPTION:Join Martin Emo\, the MENZA Digital Kaiārahi in a workshop on “Doing what you do but in a Digital Environment” \nThis is focused on producers and performers of music to ECE and Primary-aged kids\, especially those that are members of the Kiwi Kids Music Collective NZ. \nThe workshop will include\n– Gaps present in home learning and schools right now.\n– What you could do to support music in home learning and schools.\n– 5 tips for teaching or performing online.\n– How you could break down your show for use by music teachers. \nThe workshop will conclude with a chance to ask questions. \nNotes will be collated during the event and shared with participants afterwards on the MENZA resources page. \n\n \n\n\nThe zoom meeting does not have a password\, but does have a waiting room. Please join from 9:58am and wait to be admitted. \n\n\nGet the Zoom link from the MENZA Facebook page. 
URL:https://menza.co.nz/event/doing-what-you-do-but-in-a-digital-environment/
CATEGORIES:National
ATTACH;FMTTYPE=image/png:https://menza.co.nz/wp-content/uploads/2020/05/MENZA-Resource-template-1-e1660096590781.png
END:VEVENT
BEGIN:VEVENT
DTSTART;TZID=UTC:20200515T153000
DTEND;TZID=UTC:20200515T160000
DTSTAMP:20260421T111619
CREATED:20200505T120854Z
LAST-MODIFIED:20200505T120854Z
UID:167436-1589556600-1589558400@menza.co.nz
SUMMARY:Friday Debrief
DESCRIPTION:Join other teachers of Music for a 30min video chat on Zoom hosted by the MENZA Digital Kaiārahi\, Martin Emo. \n\n\n \n\n\nThe purpose of this chat is to debrief the weeks of online teaching so far\, and share your successes and disasters!\n\n\n \n\n\nFeel free to bring a drink. \n\n\nThe session will not be recorded\, but you are welcome to take notes. \n\n\n \n\n\nThe zoom meeting does not have a password\, but does have a waiting room. Please join from 3:28pm and wait to be admitted.\n\n\n\n\nGet the Zoom link from the MENZA Facebook page. 
URL:https://menza.co.nz/event/friday-debrief/
ATTACH;FMTTYPE=image/jpeg:https://menza.co.nz/wp-content/uploads/2020/05/MENZA-Resource-template-1-e1660096167158.jpg
END:VEVENT
BEGIN:VEVENT
DTSTART;TZID=UTC:20200527T190000
DTEND;TZID=UTC:20200527T194500
DTSTAMP:20260421T111619
CREATED:20200521T103335Z
LAST-MODIFIED:20200521T103709Z
UID:167511-1590606000-1590608700@menza.co.nz
SUMMARY:Bands & Practical ideas for 0-2yrs of Instrument Tuition
DESCRIPTION:Do you teach bands or ensembles with students with a beginning knowledge of their instrument? This could be in upper primary\, intermediate or lower secondary schools in a classroom or as an extracurricular activity. \n\n\n \n\n\nThe focus of this chat is on sharing ideas\, tips and resources that you use to teach students in groups who have a low knowledge of music and their instrument. This could be between 0-2yrs of tuition\, or perhaps you are teaching their instrument within the ensemble. \n\n\nPlease also bring your questions!\n\n\n \n\n\nThe zoom meeting does not have a password\, but does have a waiting room. Please join from 6:58 pm and wait to be admitted. \n\n\n\n\n\n\nGet the Zoom link from the MENZA Facebook page. 
URL:https://menza.co.nz/event/bands-practical-ideas-of-0-2yrs-of-instrument-tuition/
CATEGORIES:National
ATTACH;FMTTYPE=image/jpeg:https://menza.co.nz/wp-content/uploads/2020/05/MENZA-Resource-template-1-1.jpg
END:VEVENT
END:VCALENDAR