BEGIN:VCALENDAR
VERSION:2.0
PRODID:-//MENZA - ECPv6.15.20//NONSGML v1.0//EN
CALSCALE:GREGORIAN
METHOD:PUBLISH
X-WR-CALNAME:MENZA
X-ORIGINAL-URL:https://menza.co.nz
X-WR-CALDESC:Events for MENZA
REFRESH-INTERVAL;VALUE=DURATION:PT1H
X-Robots-Tag:noindex
X-PUBLISHED-TTL:PT1H
BEGIN:VTIMEZONE
TZID:UTC
BEGIN:STANDARD
TZOFFSETFROM:+0000
TZOFFSETTO:+0000
TZNAME:UTC
DTSTART:20200101T000000
END:STANDARD
END:VTIMEZONE
BEGIN:VTIMEZONE
TZID:Pacific/Auckland
BEGIN:STANDARD
TZOFFSETFROM:+1300
TZOFFSETTO:+1200
TZNAME:NZST
DTSTART:20200404T140000
END:STANDARD
BEGIN:DAYLIGHT
TZOFFSETFROM:+1200
TZOFFSETTO:+1300
TZNAME:NZDT
DTSTART:20200926T140000
END:DAYLIGHT
BEGIN:STANDARD
TZOFFSETFROM:+1300
TZOFFSETTO:+1200
TZNAME:NZST
DTSTART:20210403T140000
END:STANDARD
BEGIN:DAYLIGHT
TZOFFSETFROM:+1200
TZOFFSETTO:+1300
TZNAME:NZDT
DTSTART:20210925T140000
END:DAYLIGHT
BEGIN:STANDARD
TZOFFSETFROM:+1300
TZOFFSETTO:+1200
TZNAME:NZST
DTSTART:20220402T140000
END:STANDARD
BEGIN:DAYLIGHT
TZOFFSETFROM:+1200
TZOFFSETTO:+1300
TZNAME:NZDT
DTSTART:20220924T140000
END:DAYLIGHT
END:VTIMEZONE
BEGIN:VEVENT
DTSTART;TZID=UTC:20210306T093000
DTEND;TZID=UTC:20210306T133000
DTSTAMP:20260422T010552
CREATED:20210219T201129Z
LAST-MODIFIED:20210219T201513Z
UID:168033-1615023000-1615037400@menza.co.nz
SUMMARY:MUSIC AND MOVEMENT WITHIN A TE AO MAORI FRAMEWORK
DESCRIPTION:Storytelling through kapa haka with Whaitiri: \nThere are many forms and styles of Kapa haka (Māori performing arts). However the purpose of kapa haka remains consistent. Whether it’s recording history\, sharing knowledge\, celebrating\, mourning\,warning or entertaining\, kapa haka is a vehicle for telling our stories.  My workshop will take participants on a journey through 4 significant parts of my life. Each of these four stories on my journey are expressed through  four unique types of kapa haka:  Haka\, waiata\, pātere (to chant) and waiata-kori. We will wānanga the reo (voice)\, the pao (beat) and the mahi-a-tinana associated with each type. Participants will gain an insight into multiple forms of kapa haka and a spiritual understanding of how our waiata/haka/etc have their own mauri (life force). \n  \nCreative music and movement using a te ao Maori framework with Rawiri: \nExploring rhythmic and non-rhythmic sound-scapes with low-tech instruments i.e. newspaper\, stones\, sticks\, poi…sound exploration would also include voice\, making sounds with our bodies and Te Reo.  For rhythmic soundscapes I will use the waiata ‘tihore mai te rangi’ and having the participants engage in the dimensions of movement\, voice\, sound\, gesture and Te Reo (words of the waiata) to ‘go deeper’ into the waiata i.e. a hinengaro\, a tinana\, a wairua. For the non-rhythmic soundscapes we will work in groups with each member of the group choosing one Atua i.e. Tangaroa\, Tawhirimatea… and then exploring the manifestation of their Atua through movement\, voice sound\, gesture and Te Reo. The group will work together to create the soundscape and the movement motifs for each Atua. \nFunded by Networks of Expertise \n\n\n\n\n\n\n\nDetails\nPrice\nQty\n\n\n\n\nRegistration Feeshow details +\n$10.00 (NZD)  ea\nQuantity 0  1  2  3 \n\n\n\n\n\n\nRegister at https://onza.eventsmart.com/events/te-ao-maori/
URL:https://menza.co.nz/event/music-and-movement-within-a-te-ao-maori-framework/
LOCATION:Eastern Hutt School\, 53 Kings Cres\, Lower Hutt\, Wellington\, 5010\, New Zealand
CATEGORIES:Wellington
ATTACH;FMTTYPE=image/png:https://menza.co.nz/wp-content/uploads/2021/02/ONZA-white-e1665477728174.png
END:VEVENT
BEGIN:VEVENT
DTSTART;TZID=UTC:20210310T203000
DTEND;TZID=UTC:20210310T213000
DTSTAMP:20260422T010552
CREATED:20210228T204236Z
LAST-MODIFIED:20210228T205658Z
UID:168045-1615408200-1615411800@menza.co.nz
SUMMARY:“STOMP Dino STOMP!”
DESCRIPTION:The STOMP Dino STOMP! workshop with Judi Cranston is a Free Workshop on zoom for Early Learning Professionals. \nDo you teach 3 – 4 year olds and you find it really hard to get them engaged in music time?\nOr maybe you just need some fresh ideas? \nHaving fab music in your classroom is a lot easier than you think! \nIn just 40 minutes we will take one simple song and turn it into FIVE ideas for your music time PLUS give you some simple tips and tricks to make your music FUN and EXCITING! \nYou will:\n* Discover how my ULTIMATE song for 3-4 year olds “I Turned into a Dinosaur”\, can be used in LOADS of ways.\n*Learn how this (amazing) song can be used as a framework for COMPOSITION with 3 year olds (yes that’s a thing!) on a HUGE variety of topics.\n* Find out my TOP THREE TIPS to keep kids engaged (to the very last song) in your music programme. \n  \nCome along and have some FUN with me\, the (slightly) crazy kiwi lady who is changing the world and the impact music can have on the lives of our little humans! \nClick here to register…. https://www.kindyrock.com/i-turned-into-a-dinosaur-workshop/ \nBring your friends and colleagues along and if you can’t make it live we will send you the replay to watch. \nFun and Easy! Let’s do it xx \n  \nThis event is brought to you by the MENZA Community “Submit an Event” form.
URL:https://menza.co.nz/event/stomp-dino-stomp/
CATEGORIES:National
ATTACH;FMTTYPE=image/png:https://menza.co.nz/wp-content/uploads/2021/02/DINO-FB-Event-cover.png
ORGANIZER;CN="Judi Cranston - kindyRock":MAILTO:office@kindyrock.com
END:VEVENT
BEGIN:VEVENT
DTSTART;TZID=UTC:20210313T123000
DTEND;TZID=UTC:20210313T180000
DTSTAMP:20260422T010552
CREATED:20210211T101916Z
LAST-MODIFIED:20210213T082116Z
UID:168002-1615638600-1615658400@menza.co.nz
SUMMARY:Bach Musica Singing Workshop - Haydn's Creation
DESCRIPTION:Learn and brush up essential singing techniques and improve your sound\, both as a chorister and as a soloist. Enjoy blending your sound with your neighbour and the whole choir. Improve your sight-reading\, have fun and learn Haydn’s Creation from scratch or revisit it again. The music is sublime and this workshop offers you an exciting opportunity to sing alongside members of the highly acclaimed chorus of Bach Musica NZ. \nFlyer for more info – click here: BMNZ – Singing Workshop \n 
URL:https://menza.co.nz/event/bach-musica-singing-workshop-haydns-creation/
LOCATION:Somervell Presbyterian Church\, 497 Remuera Rd\, Remuera\, Auckland\, New Zealand\, Auckland\, 1050\, New Zealand
CATEGORIES:Auckland and Northland
ATTACH;FMTTYPE=image/png:https://menza.co.nz/wp-content/uploads/2021/02/Screen-Shot-2021-02-14-at-10.20.47-AM.png
END:VEVENT
BEGIN:VEVENT
DTSTART;TZID=UTC:20210314T133000
DTEND;TZID=UTC:20210314T164500
DTSTAMP:20260422T010552
CREATED:20210216T212937Z
LAST-MODIFIED:20210216T212937Z
UID:168025-1615728600-1615740300@menza.co.nz
SUMMARY:Essential Tools for 2021 IRMT Canterbury
DESCRIPTION:Essential Tools for 2021 \nSunday March 14th\, 1.30 – 4.45pm \nRangi Ruru Girls School\, Performing arts block\, (directly behind the Merivale  Lane Theatre)  \n  \n1.30- 2.15 Mental Health – Ann Higgs  \n2.15- 3.15 Online exams: Technical help with online examinations\, Paul Zdrenka  Q and A session with Lois Dalton from ABRSM  \n3.15 – 3.45 Afternoon tea  \n3.45 – 4.45 Special learning needs\, Glenys Knopp  \n  \n$25 IRMT members  \n$35 Non IRMT members  \n  \nNumbers for this event will be limited so please book your place using the Google form: Essential tools for 2021 form  \n  \nSession 1: Mental Health  \nAs music teachers working closely with young people\, we often encounter students who are  struggling with mental health issues. Ann Higgs will discuss some of the warning signs to look out  for and some tools for interacting with students struggling with mental health issues.   \nSession 2: Online Exams  \nThe session will begin with a presentation looking at the technical challenges of producing  recordings for online exams.  \nPaul Zdrenka will provide practical tips for teachers faced with the task of providing video  recordings for online exams using their phone\, tablet or computer.  \nIn the second part of this session ABRSM rep Lois Dalton will address some of the questions  teachers may have about the online exam process. If you have any specific questions you would  like answered\, please email Lois at loisdorothydalton@gmail.com prior to the event.   \nUnfortunately Trinity College rep Sandra Scannell is unable to be in attendance but would like to  direct teachers to the excellent information on online exams on the Trinity College website\, which  can be accessed via the following link: https://www.trinitycollege.com/qualifications/music/digital music-grades/classical-jazz-digital-grades  \nSession 3: Special Learning Needs  \nMusic teachers encounter a wide range of learning styles and specific learning needs within their teaching practice. Glenys Knopp will provide us with some strategies to assist students with special  learning needs.   \nShould you have any specific questions you would like Glenys to address\, please email them to  her directly prior to event at glenys@clarity.net.nz \n  \nAnn Higgs  \nAnn is a qualified and experienced family counsellor with expertise in the  area of couples\, children\, families and individuals. She has honours degree  in Psychology\, and over 20 years experience working in the field of family   \ncounselling.  \nPaul Zdrenka  \nIn 2012\, Paul pursued his passion for music in direction of audio and sound technology\, completing a Diploma in Audio Engineering & Music Production at MAINZ (Tai Poutini Polytechnic). Paul has worked as a freelance audio engineer\, secondary school teacher and guitar teacher in Christchurch. As an audio engineer he has worked for Tandem Studios and Plains FM 96.9 in Christchurch.  \nHis projects have included voiceovers\, audio post-production\, music recordings\, ADR\, location sound and sound design.  \nTogether with Alan Dixon\, he’s also hosted the successful radio show Classic Guitar on Plains FM\,  featuring all things classical guitar and highlighting New Zealand guitarists and composers.  \nOne of his music production highlights was producing and engineering ‘NZ Wonderland’ (Winter  Wonderland)\, which featured the C-City Brothers\, the Otautahi Jazz band and the Christchurch  Boys’ Choir. This track was released on the 2013 Starship Christmas Album.   \nHe has been the technical co-ordinator and audio engineer for recording the live concerts at the  TCGSS since its inception in 2012.  \nIn 2004\, Paul completed his Bachelor Music in Classical Guitar Performance at Massey University  (now NZSM) in Wellington under guidance of Matthew Marshall and Gunter Herbig. He also had  masterclasses from guitarists such as Anthony Field\, David Lisner\, John Couch\, Dr. Jane Curry\,  Lily Afshar\, Jason Vieaux and Cheryl Grice-Watterson. During his studies\, Paul also toured the  North Island with the Massey University Guitar Orchestra ‘Live Wires’. In 2004\, he won the  1st Prize at the Christchurch Guitar Society Competition. He is a member of the Christchurch  Guitar Society and is an active guitar teacher in Canterbury.  \nGlenys Knopp  \nMy background is in teaching – in both primary and secondary schools – and I  have a diploma in Special Teaching Needs. For the past fourteen years I have  been working privately focusing on people with dyslexia and related learning  issues. For the past nine of those years I have also been assessing people with  learning difficulties.  \nI find my work fascinating and particularly enjoy exploring ways to make learning more accessible  to people who think differently. I encourage people to work with their strengths\, rather than  focusing on their difficulties.
URL:https://menza.co.nz/event/essential-tools-for-2021-irmt-canterbury/
LOCATION:Rangi Ruru Girls’ School\, 59 Hewitts Road\, Christchurch\, 8014\, New Zealand
CATEGORIES:Canterbury
ATTACH;FMTTYPE=image/jpeg:https://menza.co.nz/wp-content/uploads/2019/09/Cathy-Martin-IRMTNZ_2018.-Coloured-Logo.-White-backgoround.-JPEG-1024x957.jpg
ORGANIZER;CN="IRMT Christchurch":MAILTO:christchurchirmt@gmail.com
END:VEVENT
BEGIN:VEVENT
DTSTART;TZID=UTC:20210320T140000
DTEND;TZID=UTC:20210320T153000
DTSTAMP:20260422T010552
CREATED:20210228T184025Z
LAST-MODIFIED:20210317T070844Z
UID:168049-1616248800-1616254200@menza.co.nz
SUMMARY:MEC AGM
DESCRIPTION:Saturday 20th March\n2:30pm – 3:30pm \nat Chisnallwood Intermediate School\, 76 Breezes Road\, Christchurch 8061\n2pm snacks\, drinks\, fruit provided \n1:30pm-2:30pm short Music Education AGM – A great chance to get updates from MEC and most of our affiliated local music education groups! \nAGM Attendance form (with Agenda and reports) \n  \nPlease note the change of time and that the Wānanga Puoro is cancelled. We hope to offer this workshop at another time! \n  \n 
URL:https://menza.co.nz/event/mec-agm-2021/
LOCATION:Chisnallwood intermediate School\, 76 Breezes Road\, Christchurch\, 8061\, New Zealand
CATEGORIES:Canterbury
ATTACH;FMTTYPE=image/png:https://menza.co.nz/wp-content/uploads/2015/03/MEC-logo-1.png
END:VEVENT
BEGIN:VEVENT
DTSTART;TZID=UTC:20210322T180000
DTEND;TZID=UTC:20210322T190000
DTSTAMP:20260422T010552
CREATED:20210305T113659Z
LAST-MODIFIED:20210305T113836Z
UID:168267-1616436000-1616439600@menza.co.nz
SUMMARY:EARLY YEARS - TOO MUCH TOO SOON
DESCRIPTION:Lucinda Geoghegan Session – March 22nd 2021 – Too Much Too Soon!\n$15.00 \nEarly Years- Too much too soon!\nJoin Lucinda Geoghegan as she presents on the importance of immersing children in play-based experiences as a precursor to formal music learning! \n  \nThis session will focus on the importance of experiential learning in early years and how children need to build a strong foundation in basic musical skills prior to being introduced to music notation. These early musical experiences are of course introduced through play. \n  \nThis session will be held on Monday\, 22nd March 2021 at 6pm-7pm AEST \n  \nImportant Notes: \n\nThis session will be presented via Zoom – please ensure you will be available at the scheduled time to attend this session.\nThe session is presented in AEST (Brisbane\, Australia) time zone.\nThe notes for this session will be emailed after the session is presented.\nYou will be emailed a Zoom link closer to the session date – this link is for one entry to the session.\nAll sessions are non-assessed and cannot be counted towards any Kodály certification.\n\n\n\n\nWe are thrilled to announce that we are bringing back some of your favourite sessions from Summer School! \n\n\nFor those of you who missed Lucinda Geoghegan’s fantastic Early Childhood sessions\, we’ve got you covered! Here’s another chance to catch this great PD on Monday 22nd March at 6pm AEST!\n\n\nReady to book in? Follow the below link to purchase your ticket!\nhttp://bit.ly/STAVirtualSessions\n\n\nNote: These sessions are presented on Zoom- please make sure you can attend the sessions at the scheduled time!
URL:https://menza.co.nz/event/early-years-too-much-too-soon/
CATEGORIES:International
ATTACH;FMTTYPE=image/png:https://menza.co.nz/wp-content/uploads/2021/03/EARLY-YEARS-TOO-MUCH-TOO-SOON-1-300x300-1.png
ORGANIZER;CN="Cuskelly College of Music":MAILTO:office@cuskellymusic.com
END:VEVENT
BEGIN:VEVENT
DTSTART;TZID=Pacific/Auckland:20210326T160000
DTEND;TZID=Pacific/Auckland:20210326T213000
DTSTAMP:20260422T010552
CREATED:20210323T130608Z
LAST-MODIFIED:20210323T130859Z
UID:168348-1616774400-1616794200@menza.co.nz
SUMMARY:Gig Starters - Christchurch
DESCRIPTION:Join us for GIG STARTERS – an introduction to ALL AGES music events\, with a seminar and workshop followed by a live performance\n\n\nDesigned as an introduction for young people to create and produce all ages live music shows\, the Gig Starters up-skilling event will kick off with a 4pm seminar featuring a panel of industry professionals\, a local recording artist and a production technician (sound and/or lighting) discussing the basics of putting on your own all ages gig. \nAfter the seminar\, there will be a workshop around the soundcheck to prepare for a show that evening\, with opportunity for the participants to observe and be part of a live production set-up\, with the all ages gig starting at 7pm. \nThis is event is brought to you by NZ Music Commission. \n4pm – Seminar and hui featuring: \nRodney Fisher – Special Projects and Events\, NZ Music Commission; Kendra Walls – RDU; Jonathan Lauti – Sound Engineer; Finlay Anderson (Internet Death) – Musician/gig promoter; Victoria Rose Knopp – Musician \n5pm – Gig Set Up Workshop \nRESISTER FOR YOUR FREE SEMINAR & WORKSHOP TICKET ON THIS PAGE \n7pm – Live All Ages Concert feat. THE RESPONSE and STRUTH \nSeparate registration is required for the free All Ages show for safety and contact tracing purposes. Register for your FREE ticket to the All Ages Show via this page also. \nIf this event can not go ahead due to COVID Alert Level changes\, we will be in contact with all registrants with rescheduled future dates. \nFor more information & contact details for the NZ Music Commission\, go to: nzmusic.org.nz.
URL:https://menza.co.nz/event/gig-starters-christchurch/
LOCATION:Beatbox\, 270 Saint Asaph Street\, Christchurch\, 8011\, New Zealand
CATEGORIES:Canterbury
ATTACH;FMTTYPE=image/jpeg:https://menza.co.nz/wp-content/uploads/2021/03/cdd5c9bd5639e8674f5f4dffee0a49bb.jpg
END:VEVENT
BEGIN:VEVENT
DTSTART;TZID=Pacific/Auckland:20210327T160000
DTEND;TZID=Pacific/Auckland:20210327T213000
DTSTAMP:20260422T010552
CREATED:20210323T131005Z
LAST-MODIFIED:20210323T131142Z
UID:168358-1616860800-1616880600@menza.co.nz
SUMMARY:Gig Starters - Dunedin
DESCRIPTION:Join us for GIG STARTERS – an introduction to ALL AGES music events\, with a seminar and workshop followed by a live performance\n\n\nDesigned as an introduction for young people to create and produce all ages live music shows\, the Gig Starters up-skilling event will kick off with a 4pm seminar featuring a panel of industry professionals\, a local recording artist and a production technician (sound and/or lighting) discussing the basics of putting on your own all ages gig. \n \nAfter the seminar\, there will be a workshop around the soundcheck to prepare for a show that evening\, with opportunity for the participants to observe and be part of a live production set-up\, with the all ages gig starting at 7pm. \n \nThis is event is brought to you by NZ Music Commission. \n \n4pm – Seminar and hui featuring: \n \nRodney Fisher – Special Projects and Events\, NZ Music Commission; Natasha Griffiths  – Music Industry Professional\, Gig Promoter; Jono Holloway – Musician / Teacher; ASHY – Musician \n5pm – Gig Set Up Workshop \n \nRESISTER FOR YOUR FREE SEMINAR & WORKSHOP TICKET ON THIS PAGE \n \n7pm – Live All Ages Concert feat. Koizilla and ASHY \nSeparate registration is required for the free All Ages show for safety and contact tracing purposes. Register for your FREE ticket to the All Ages Show via this page also. \n \nIf this event can not go ahead due to COVID Alert Level changes\, we will be in contact with all registrants with rescheduled future dates. \n \nFor more information & contact details for the NZ Music Commission\, go to: nzmusic.org.nz.
URL:https://menza.co.nz/event/gig-starters-dunedin/
LOCATION:Port Chalmers Pioneer Hall\, 45 George Street\, Dunedin\, Otago\, 9023\, New Zealand
CATEGORIES:Otago
ATTACH;FMTTYPE=image/jpeg:https://menza.co.nz/wp-content/uploads/2021/03/6e6dea01f0154f30e8db3eecf8e761cf.jpg
END:VEVENT
BEGIN:VEVENT
DTSTART;VALUE=DATE:20210328
DTEND;VALUE=DATE:20210329
DTSTAMP:20260422T010552
CREATED:20210215T164900Z
LAST-MODIFIED:20210215T164900Z
UID:168022-1616889600-1616975999@menza.co.nz
SUMMARY:Closing Date for Hook Line and Sing-a-long competition
DESCRIPTION:Entries are open for the 2021 Hook\, Line and Sing-a-long competition and close on March 28th at 11:59pm.\n\nThis is a collaboration between MENZA and the NZ Music Commission\, with generous prizes for individuals and schools provided through MusicWorks. Recent winning songs include “We Are One”\, “The Smell Of Sunscreen” and “Aotearoa\, nō te katoa” which have become staples in the NZ music education fabric for many schools.\n\n\nWrite an original song that reflects what it means to live in New Zealand!\nThis is a broad theme and could be about nature\, family\, cultural identity\, community\, favourite activities or a certain place.  Languages other than English are encouraged! \nCheck out the guidelines and more under the heading “Songwriter” at http://hooklineandsingalong.com/ \nThere are great prizes including a recording session at Roundhead Studios in Auckland\,  $500 MusicWorks voucher for the winners and the same again for the school.\nProudly brought to you by the NZ Music Commission\, MENZA and MusicWorks.
URL:https://menza.co.nz/event/closing-date-for-hook-line-and-sing-a-long-competition/
CATEGORIES:National
ATTACH;FMTTYPE=image/png:https://menza.co.nz/wp-content/uploads/2021/02/Entries-Close-March-28.png
ORGANIZER;CN="NZ Music Commission/MENZA":MAILTO:angel@nzmusic.org.nz
END:VEVENT
END:VCALENDAR