BEGIN:VCALENDAR
VERSION:2.0
PRODID:-//MENZA - ECPv6.15.20//NONSGML v1.0//EN
CALSCALE:GREGORIAN
METHOD:PUBLISH
X-WR-CALNAME:MENZA
X-ORIGINAL-URL:https://menza.co.nz
X-WR-CALDESC:Events for MENZA
REFRESH-INTERVAL;VALUE=DURATION:PT1H
X-Robots-Tag:noindex
X-PUBLISHED-TTL:PT1H
BEGIN:VTIMEZONE
TZID:UTC
BEGIN:STANDARD
TZOFFSETFROM:+0000
TZOFFSETTO:+0000
TZNAME:UTC
DTSTART:20200101T000000
END:STANDARD
END:VTIMEZONE
BEGIN:VEVENT
DTSTART;TZID=UTC:20210518T140000
DTEND;TZID=UTC:20210518T170000
DTSTAMP:20260422T034041
CREATED:20210415T114609Z
LAST-MODIFIED:20210510T072427Z
UID:168382-1621346400-1621357200@menza.co.nz
SUMMARY:POSTPONED: MENZA Wgtn - Music Cluster Meeting Term II
DESCRIPTION:The cluster meeting has been postponed till Term III\n\nSecondary Teachers Music Cluster Meeting will be held on the 18th May at Scots College in Strathmore. There are a few options for starting times 2 pm or alternatively 4 pm. There will be some opportunities for some Professional Development in the meeting and if you would like to offer something I encourage you to do so.\n\nIf you would like to attend or offer some PLD\, please RSVP in the form below\n\nForm: Term II; MENZA Wellington Music Cluster Meeting
URL:https://menza.co.nz/event/menza-wellington-music-cluster-meeting-term-ii-secondary/
LOCATION:Scots’ College\, 1 Monorgan Road\, Strathmore Park\, Wellington\, 6022\, New Zealand
CATEGORIES:Wellington
ATTACH;FMTTYPE=image/png:https://menza.co.nz/wp-content/uploads/2019/05/logo-mark.png
ORGANIZER;CN="Ben Lau":MAILTO:blau@newlands.school.nz
END:VEVENT
BEGIN:VEVENT
DTSTART;VALUE=DATE:20210527
DTEND;VALUE=DATE:20210529
DTSTAMP:20260422T034041
CREATED:20210424T181752Z
LAST-MODIFIED:20210424T181752Z
UID:168418-1622073600-1622246399@menza.co.nz
SUMMARY:Beyond Buzzy Bees and Number 8 Wire (NZ AIMS conference)
DESCRIPTION:The 2 day conference looks at specialist teaching areas in middle schools. \nThree keynote addresses \n\nTeacher practitioner\, team leader \nWorld-leading innovator\, Rocket Lab presenter\nEducators of innovators\n\nSchool Visits \nThursday afternoon and Friday morning. \n\nChisnallwood Intermediate (including an in depth look at the music programme there)\nCasebrook Intermediate\nCobham Intermediate\nWorkshops with practitioners\n\nTertiary Visits and Input \nUniversity of Canterbury \nSchool of Design School of Product Design – Te Kura Hanga Otinga. \nComputer Science and Software Engineering \nARA \nMinistry of Awesome\, \nTūranga Christchurch City Library \nCreativity Floor – tuition and hands-on opportunities with expert personnel \nThis programme is weighted toward opportunities for school visits and hands-on experiences and opportunities. \nProgramme and registration link \nConference website
URL:https://menza.co.nz/event/beyond-buzzy-bees-and-number-8-wire-nz-aims-conference/
LOCATION:Tūranga Central Library\, 60 Cathedral Square\, Christchurch Central\, Christchurch\, Canterbury\, 8011\, New Zealand
CATEGORIES:Canterbury
ATTACH;FMTTYPE=image/png:https://menza.co.nz/wp-content/uploads/2021/04/Buzzy-Bees-and-no-8-wire.png
ORGANIZER;CN="NZ AIMS":MAILTO:execnzaims@gmail.com
END:VEVENT
BEGIN:VEVENT
DTSTART;TZID=UTC:20210531T133000
DTEND;TZID=UTC:20210531T141500
DTSTAMP:20260422T034041
CREATED:20210424T175301Z
LAST-MODIFIED:20210509T103706Z
UID:168413-1622467800-1622470500@menza.co.nz
SUMMARY:NZ Music Month Community Hook Line and Sing - Christchurch
DESCRIPTION:Any school group (all ages) and anyone in the community (again all ages) are welcome to join Music Education Canterbury and Tūranga Central Library to celebrate the end of NZ Music Month by singing\, signing and/or playing uke for the winning 2021 Hook Line and Singalong Song! \nVenue: Tūranga Central Library\, Tautoru / TSB Space Level 1 \nPlease fill in this form if you are interested in bringing a group. \nWe will also have a few other NZ songs and items (such as 2021 NZ Strum Strike and Blow songs)\, but the main event will be a run-through and performing and aiming to film a Christchurch rendition of the new HLS song! \nAll resources for “Aroha I Aotearoa” can be found here: hooklineandsingalong.com/2021-aroha-i-aotearoa/ \n  \n  \n 
URL:https://menza.co.nz/event/nz-music-month-community-hook-line-and-sing-christchurch/
LOCATION:Tūranga Central Library\, 60 Cathedral Square\, Christchurch Central\, Christchurch\, Canterbury\, 8011\, New Zealand
CATEGORIES:Canterbury
ATTACH;FMTTYPE=image/jpeg:https://menza.co.nz/wp-content/uploads/2021/04/IMG_1840-Turanga-photo-by-Judith-scaled.jpg
END:VEVENT
END:VCALENDAR