BEGIN:VCALENDAR
VERSION:2.0
PRODID:-//MENZA - ECPv6.15.20//NONSGML v1.0//EN
CALSCALE:GREGORIAN
METHOD:PUBLISH
X-ORIGINAL-URL:https://menza.co.nz
X-WR-CALDESC:Events for MENZA
REFRESH-INTERVAL;VALUE=DURATION:PT1H
X-Robots-Tag:noindex
X-PUBLISHED-TTL:PT1H
BEGIN:VTIMEZONE
TZID:UTC
BEGIN:STANDARD
TZOFFSETFROM:+0000
TZOFFSETTO:+0000
TZNAME:UTC
DTSTART:20200101T000000
END:STANDARD
END:VTIMEZONE
BEGIN:VEVENT
DTSTART;TZID=UTC:20210731T090000
DTEND;TZID=UTC:20210801T170000
DTSTAMP:20260422T075531
CREATED:20210205T175023Z
LAST-MODIFIED:20210205T175023Z
UID:167995-1627722000-1627837200@menza.co.nz
SUMMARY:JAZZQUEST 2021 (Ensembles and Big Bands)
DESCRIPTION:Christchurch’s Premier High School Jazz Band Competition\nJazzQuest is an annual competition showcasing the quality of some of the country’s top secondary school jazz bands and musicians. It offers young jazz musicians a chance to mix\, mingle with and challenge themselves against others from around New Zealand. Bands are awarded gold\, silver and bronze awards\, and individual musicians are presented awards for outstanding contributions on their instruments\, as well as for original compositions and arrangements.\nDetails\, registration and contacts will be able to be found here
URL:https://menza.co.nz/event/jazzquest-2021-ensembles-and-big-bands/
LOCATION:Ara Music Arts\, 130 High Street\, Christchurch\, Canterbury\, 8011\, New Zealand
CATEGORIES:Canterbury
ATTACH;FMTTYPE=image/jpeg:https://menza.co.nz/wp-content/uploads/2021/02/1130_Chisnallwood_Intermediate-9942.jpg
ORGANIZER;CN="ARA Music Arts":MAILTO:gwyn.reynolds@ara.ac.nz
END:VEVENT
BEGIN:VEVENT
DTSTART;TZID=UTC:20210818T093000
DTEND;TZID=UTC:20210818T140000
DTSTAMP:20260422T075531
CREATED:20210512T121658Z
LAST-MODIFIED:20210512T121658Z
UID:168452-1629279000-1629295200@menza.co.nz
SUMMARY:Time Travelling Conductor - Education Concerts
DESCRIPTION:TWSO present their annual children’s education concerts. \n‘The Time-travelling Conductor’ will take you on a journey of symphonic proportions! Narrated by Brooke Baker\, this epic adventure is interwoven with recognisable music played by the orchestra including Beethoven to the Beatles. \nSchools receive a digital education pack to further enhance their understanding prior to the concert.  Suitable for children aged 8-13\, we promise your students an unforgettable experience! \nConductor: Rupert D’Cruze \nCONTACT US TO RESERVE YOUR PLACE! \nThere are three one-hour sessions\, at 9.30am\, 11am and 1pm. \n9.30 am concert suitable for younger children \nThe 1 pm concert will also be livestreamed to rural schools – please contact us for more information.
URL:https://menza.co.nz/event/time-travelling-conductor-education-concerts/
LOCATION:ACTivate\, Bisley Road\, Hamilton\, Enderley\, 3214
CATEGORIES:Waikato and Bay of Plenty
ATTACH;FMTTYPE=image/jpeg:https://menza.co.nz/wp-content/uploads/2021/05/Time-travelling-conductor-schools-square.jpg
ORGANIZER;CN="Orchestras Central":MAILTO:support@orchestras.org.nz
END:VEVENT
BEGIN:VEVENT
DTSTART;TZID=UTC:20210819T080000
DTEND;TZID=UTC:20210819T170000
DTSTAMP:20260422T075531
CREATED:20210330T102040Z
LAST-MODIFIED:20210330T102040Z
UID:168365-1629360000-1629392400@menza.co.nz
SUMMARY:(WeBO) Wellington Band and Orchestral Festival
DESCRIPTION:(WeBO) Wellington Band and Orchestral Festival \nWe are very excited to announce the recommencement of WeBO (Band and Orchestral Festival of Aotearoa) in Wellington in August 2021. \nOver the years WeBO has grown into a truly national festival with ensembles attending from the length of New Zealand \nRegistrations are open now. \nwww.webo.co.nz \nFor more information visit our website or contact Darren Smith: education@musicworks.co.nz \n  \nWhy WeBO? \nWeBO offers schools the chance to bring the bulk of their ensembles to one festival and features a plethora of music performances\, workshops\, evening entertainment\, and professional development for ensemble directors. \nWin national awards for your school ensemble Silver\, Bronze\, and Platinum\, or come just for the participation. \nAttend evening performances from top New Zealand groups. \nWeBO encompasses all types of instrumental ensembles — this is the festival to bring the whole music department to. \n→ Concert Bands \n→ Jazz Big Bands \n→ Small Ensembles (Jazz Quartet\, String Ensemble\, Chamber Group and many more) \n→ Orchestras \n→ Stage Bands \nWeBO is operated with fantastic support and tuition from many of New Zealand’s top ensemble educators. \nCome join the WeBO family for 2021.
URL:https://menza.co.nz/event/webo-wellington-band-and-orchestral-festival/
LOCATION:Wellington College\, 15 Dufferin St\, Mount Victoria\, Wellington\, 6021\, New Zealand
CATEGORIES:Wellington
ATTACH;FMTTYPE=image/png:https://menza.co.nz/wp-content/uploads/2015/01/webo-web-logo350x138-1.png
ORGANIZER;CN="Darren Smith":MAILTO:education@musicworks.co.nz
END:VEVENT
BEGIN:VEVENT
DTSTART;VALUE=DATE:20210824
DTEND;VALUE=DATE:20210826
DTSTAMP:20260422T075531
CREATED:20210427T182512Z
LAST-MODIFIED:20210427T182512Z
UID:168429-1629763200-1629935999@menza.co.nz
SUMMARY:ANZARME symposium 2021
DESCRIPTION:This two day symposium is for all interested music educators in Aotearoa: tertiary educators\, PhD and Masters students\, teachers of music.\nIn 2020 the New Zealand branch of ANZARME (Australia New Zealand Association for Research in Music Education) hosted Mahi Tahi. This was a very successful and informal two days of presentations\, networking\, and discussion. We would like to do this again in 2021.\n \nWhen: Tuesday 24 August and Wednesday 25 August 2021\nWhere: University of Waikato\, Tauranga Campus\, Durham St\, Tauranga\n \nYou are welcome to just come along and join in the discussions\, or you can give a 15 minute presentation if you are interested.\nPlease register your interest by Friday 4 June\, 2021. If you have any questions feel free to contact Sally Bodkin-Allen (sally.bodkin-allen@sit.ac.nz)\n \nRegister at \nhttps://forms.gle/FSV1zdazaxywSMcn7
URL:https://menza.co.nz/event/anzarme-symposium-2021/
LOCATION:University of Waikato\, Tauranga Campus\, Durham St\, Tauranga\, New Zealand
CATEGORIES:Bay of Plenty,National
ATTACH;FMTTYPE=image/png:https://menza.co.nz/wp-content/uploads/2020/07/ANZARME.png
ORGANIZER;CN="ANZARME":MAILTO:g.lowe@ecu.edu.au
END:VEVENT
END:VCALENDAR