BEGIN:VCALENDAR
VERSION:2.0
PRODID:-//MENZA - ECPv6.15.20//NONSGML v1.0//EN
CALSCALE:GREGORIAN
METHOD:PUBLISH
X-WR-CALNAME:MENZA
X-ORIGINAL-URL:https://menza.co.nz
X-WR-CALDESC:Events for MENZA
REFRESH-INTERVAL;VALUE=DURATION:PT1H
X-Robots-Tag:noindex
X-PUBLISHED-TTL:PT1H
BEGIN:VTIMEZONE
TZID:UTC
BEGIN:STANDARD
TZOFFSETFROM:+0000
TZOFFSETTO:+0000
TZNAME:UTC
DTSTART:20210101T000000
END:STANDARD
END:VTIMEZONE
BEGIN:VEVENT
DTSTART;TZID=UTC:20220512T113000
DTEND;TZID=UTC:20220512T130000
DTSTAMP:20260422T232221
CREATED:20220324T084158Z
LAST-MODIFIED:20220406T163619Z
UID:168884-1652355000-1652360400@menza.co.nz
SUMMARY:APO presents Discovery
DESCRIPTION:Auckland Philharmonia Orchestra presents Discovery\, a concert designed for secondary school students. \nIn this rare opportunity to have the orchestral experience tailored to them\, Secondary school students hear legendary works performed live by the full APO in the Auckland Town Hall. \nPresenter Nathan King will explore the theme of music and journeys in a presentation packed full of curriculum-linked demonstrations\, historical anecdotes\, and vibrant music. \nThis concert is the perfect accompaniment to a teacher’s NCEA delivery\, featuring works by Grieg\, Mendelssohn and NZ composers Salina Fisher and Liam Pram. (View the full programme here.)  \nThe concert will also be live-streamed so you don’t need to be in Auckland to be a part of it. Teaching materials to accompany the concert are also available.
URL:https://menza.co.nz/event/apo-presents-discovery/
LOCATION:Auckland Town Hall\, Queen Street\, Auckland\, 1010\, New Zealand
CATEGORIES:Auckland and Northland,National
ATTACH;FMTTYPE=image/jpeg:https://menza.co.nz/wp-content/uploads/2022/03/Discovery_Menza_767x512_April22.jpg
END:VEVENT
END:VCALENDAR