BEGIN:VCALENDAR
VERSION:2.0
PRODID:-//MENZA - ECPv6.15.20//NONSGML v1.0//EN
CALSCALE:GREGORIAN
METHOD:PUBLISH
X-WR-CALNAME:MENZA
X-ORIGINAL-URL:https://menza.co.nz
X-WR-CALDESC:Events for MENZA
REFRESH-INTERVAL;VALUE=DURATION:PT1H
X-Robots-Tag:noindex
X-PUBLISHED-TTL:PT1H
BEGIN:VTIMEZONE
TZID:UTC
BEGIN:STANDARD
TZOFFSETFROM:+0000
TZOFFSETTO:+0000
TZNAME:UTC
DTSTART:20210101T000000
END:STANDARD
END:VTIMEZONE
BEGIN:VEVENT
DTSTART;TZID=UTC:20220602T190000
DTEND;TZID=UTC:20220602T203000
DTSTAMP:20260423T004534
CREATED:20220529T163125Z
LAST-MODIFIED:20220529T163230Z
UID:168912-1654196400-1654201800@menza.co.nz
SUMMARY:MENZA Online Workshop: Releasing Students' original music works into the marketplace
DESCRIPTION:Trevor Faville\, who teaches secondary music in the Central North Region for Te Kura o Te Kura Pounamu (The Correspondence School)\, talks through the process of releasing students’ original music works into the marketplace\, with consideration to fundamentals like how royalties work\, ownership of master recordings and what this means\, how streaming works\, how to write press releases and more. Essentially; how can akonga move into a professional environment with original material? \nTrevor has been running this programme for selected students every year\, and the focus is on both demystifying the process and empowering the individual artists – so it’s very student friendly. \nTrevor will talk through the specifics of how this programme works\, and what are some of the key elements to know if akonga are releasing original work. \nRegister here to obtain the ZOOM link for this FREE online workshop. \n 
URL:https://menza.co.nz/event/menza-online-workshop-releasing-students-original-music-works-into-the-marketplace/
CATEGORIES:National
ATTACH;FMTTYPE=image/jpeg:https://menza.co.nz/wp-content/uploads/2022/05/Copy-of-MENZA-event-photo-6.jpg
END:VEVENT
BEGIN:VEVENT
DTSTART;VALUE=DATE:20220617
DTEND;VALUE=DATE:20220618
DTSTAMP:20260423T004534
CREATED:20220110T083840Z
LAST-MODIFIED:20220110T153558Z
UID:168821-1655424000-1655510399@menza.co.nz
SUMMARY:Young Jazz Band-It Competition
DESCRIPTION:About the Young Jazz Band-it Competitions\nClosing date for video entries: Friday\, 17 June 2022. \nThe Young Jazz Band-it competitions\, supported by Youthtown\, have been developed to support jazz music programmes and jazz understanding through the distribution of New Zealand inspired\, popular compositions arranged for secondary and intermediate school jazz ensembles. \nCreated by Youthtown and the Aotearoa Jazz Education & Performance Charitable Trading Trust Inc. (CC56767) in association with Musicworks NZ and Victoria University of Wellington/Te Koki New Zealand School of Music\, this is a programme for High School and Intermediate School Jazz Bands. \nThe overall aims of the Young Jazz Band-it are to elevate musicianship\, broaden musical perspectives and inspire performance. \n\n\nPEOPLE    I    GET INVOLVED    I    DONATE\n \nThere are three elements to the Young Jazz Band-It competition contested by High School and Intermediate School Jazz Bands\, composers and soloists: \n\nYoung Jazz Band-It – Essential NZ Jazz Band Competition\nYoung Jazz Band-It – NZ Jazz Composition Competition\nYoung Jazz Band-it – NZ Jazz Improvisation Competition\n\n\nThe Young Band-it – Essential NZ Jazz Band Competition\, supported by Youthtown\, recognises and rewards excellence in jazz musicianship and performance. \nBands entering this competition must have between 14 and 20 members\, one of whom can be a vocalist\, and there are three prizes on offer. \nThe winner will receive $6\,000 of musical equipment from Musicworks NZ plus a recording and music video (valued at $4\,250). The second and third-placed bands will receive $2\,500 and $1\,500 respectively\, of musical equipment. \nYou can enter your Jazz Band in the Young Jazz Band-it – Essential NZ Jazz Band Competition online. See the link to the online entry form below. \nThe cost to enter the Young Jazz Band-it – Essential NZ Jazz Band Competition is $275.00 per school.\nThis includes FOUR Essential NZ Big Band arrangements. \n\nEvery year Youthtown and the Aotearoa Jazz Education & Performance Charitable Trading Trust Inc. will commission arrangements of New Zealand popular music for jazz ensembles. \nFour arrangements\, along with sound files\, will be sent to participating secondary and intermediate school band directors. \nDuring the year\, band directors will be sent a newsletter giving access to online educational materials to help with the rehearsal and presentation of the arrangements. \nParticipating Bands then upload a video recording of their band’s performance of one of the Essential NZ arrangements to the Young Jazz Band-it link for evaluation. The final date to get your video uploaded is Friday\, 17 June 2022. \nThe video recording counts as an application to the Young Jazz Band-It competition for the Secondary and Intermediate School Jazz Band Festival to be staged in Wellington on Friday 30 September and Saturday 01 October 2022. \n\n\nPalmerston North Boys High School Jazz Band.\nThe 10 top bands will be invited to perform at the grand final 2022 along with the finalists in the Jazz Composition and Jazz Improvisation competitions. \nFinal: September 30th in Wellington. Venue/s to be announced. \nAt the Festival\, each band is required to perform four (4) charts in total. Two (2) charts must be from the Essential NZ library and two (2) own choice selections which can include a vocal. \nThe Festival ends with an awards ceremony and a concert by the Rodger Fox Big Band and special guest(s). \n\n  \nFee: $275 per school band (Band-It competition) \nClosing date for video entries: Friday\, 17 June 2022. \nFor any enquiries\, please contact \nErna Ferry\, AJE&P General Manager\nMobile: 0273925771\nEmail:  youngjazzbandit@gmail.com 
URL:https://menza.co.nz/event/young-jazz-band-it-competition/
CATEGORIES:National,Wellington
ATTACH;FMTTYPE=image/jpeg:https://menza.co.nz/wp-content/uploads/2022/01/IMG_0873.jpg
ORGANIZER;CN="Rodger Fox":MAILTO:youngjazzbandit@gmail.com
END:VEVENT
BEGIN:VEVENT
DTSTART;TZID=UTC:20220618T133000
DTEND;TZID=UTC:20220618T160000
DTSTAMP:20260423T004534
CREATED:20220605T180252Z
LAST-MODIFIED:20220609T131322Z
UID:168918-1655559000-1655568000@menza.co.nz
SUMMARY:MENZA Workshops and AGM
DESCRIPTION:NOTICE OF MENZA AGM\n18 June 2022\, Newlands College\, WellingtonWorkshops: 1.30-2.30pm\n\nPrimary/Intermediate workshop with Makaira Waugh and Rawiri Hindle\, and launch of the new Poutokomanawa resource: Te Koha a Tāne\nSecondary workshop is a Q&A session on the RAS with Matt Stenbo\n\n\nMENZA AGM: 3-4pm \nPlease RSVP here by Thursday 16 June for catering purposes and to obtain the ZOOM links to the AGM and both workshops. We look forward to welcoming you to the MENZA AGM and/or workshops! \n \n\n\nTe Koha a Tāne education resource launch\nTe Koha a Tāne is a new music and movement resource for Y0-8 kaiako from the Poutokomanawa team who brought you Aruaru ki Tawhiti/Chase across the Waves. The beautifully illustrated resource retells the story of Rātā and the Waka from the tree’s perspective\, exploring the conservation theme through 10 episodes of hands-on music\, dance\, drama and art activities that any kaiako can deliver. Featuring original waiata and karakia that encapsulate the learning\, the resource will be free to download in both te reo Māori (coming soon) and English versions from the MENZA website\, along with videos and other online support material to assist your teaching. \nThe one hour workshop will be an opportunity to meet the creators\, celebrate the launch of the resource\, and take part in a series of short music and movement activity examples including a new waiata featuring music by Kiwi Kidsong writer Radha Sahar (nee Wardrop). \n\n\n\n\n\n\n\n\n\n\n\n\n\n\n\n\n\n\n\n\n\n\n\n\n\n\n\n\n\n\n\n\n\n\n\n\n\n\n\n\n\n\n\n\n\n\nKia ora e te whanau \nThe MENZA AGM will be held on the 18th July at Newlands College at 3pm and will be live-streamed. If you would like to attend the AGM and/or workshops (1.30-2.30pm\, also to be live-streamed) please RSVP here (for catering purposes and ZOOM links\, which will be available for the AGM and both workshops). \nDue to a recent resignation of a Board member\, the MENZA Board at the time of the AGM will have five elected Board members and three co-opted Board members\, however\, the MENZA Constitution states that we should have nine elected members to be on the board\, therefore we will need to have an election. \nIn regards to electing Board members\, the MENZA constitution states the following: \n8. ELECTIONS \n\n\nThe period during which voting may take place in elections for the Board shall be determined by the Board and shall include the day of the Annual General Meeting. Where distance voting is to occur the period shall begin not more than fourteen and not less than seven days prior to an Annual General Meeting. \n\n\nNominations for Board members as defined in 7(a)(i) shall be forwarded in writing to the Secretary no less than twenty-eight days prior to the date at which voting begins. \n\n\n(c) Each nomination shall incorporate the signatures of a proposer and a seconder who must both be then current financial members and shall be also signed by the nominee signifying acceptance of the nomination. In the event of there being fewer written nominations received by the due date than the number of Board members allowed for in 7 (a) (i) above\, further nominations may be sought by a committee set up by the Board for this purpose and called the Nominating Committee. \n\n\nI would like to put forward to the members that we vote to fill the four vacant positions on the board. Currently\, the three co-opted members on the board are Charlotte Nicklin\, Christian McDonald and Makaira Waugh. They have indicated that they would like to continue their time on the board and put themselves forward to be elected onto the MENZA Board. \nAs we have three MENZA members putting themselves forward to be on the Board we are seeking at least one other member to put themselves forward. If there are more than four members seeking a position on the board\, an election will be held. As the Chair\, I would like that position to be elected at the AGM. This means that for this election\, the time frames to elect new board members will be different to the constitution. \nI propose the following dates: \n\n8th June: Nominations close for the four vacant positions on the Board. Click here for a nomination form.\n10th June: Information regarding the nominations will be sent out to MENZA members. Online voting will open.\n16th June: Online voting closes\n18th June: At the AGM\, members in attendance will vote. Both online and in-person votes will be counted. The new members elected to the Board will be announced.\n\nIf any members object to this process can you please email admin@menza.co.nz before the 8th of June 2020. We will then follow the process that is outlined in the Constitution. If you would like to discuss the process further or are interested in joining the MENZA board please email me directly at: blau@newlands.school.nz. \nBen Lau\nMENZA Chair \nRSVP for AGM&workshops and ZOOM links\nMENZA Board Nomination Form
URL:https://menza.co.nz/event/menza-workshops-and-agm/
LOCATION:Newlands College\, 68 Bracken Road\, Wellington\, Wellington\, 6037\, New Zealand
CATEGORIES:National,Wellington
END:VEVENT
BEGIN:VEVENT
DTSTART;VALUE=DATE:20220627
DTEND;VALUE=DATE:20220628
DTSTAMP:20260423T004534
CREATED:20220622T130453Z
LAST-MODIFIED:20220622T130453Z
UID:169021-1656288000-1656374399@menza.co.nz
SUMMARY:Young Jazz Band-it
DESCRIPTION:Entries for the Young Jazz Band-it Schools Competition close on Monday\, 27 June 2022. \nEnter your school jazz band now – total prizes to the value of $18\,000. Further information about the competitions is available Here. \nThere are three competitions: \n\nThe Young Jazz Band-it Essential NZ Jazz Band-it Band Competition – more information is available Here.\nThe NZ Jazz Composition Competition – more information is available Here.\nThe NZ Jazz Improvisation Competition – more information on this competition is available Here.\n\nIf you require any added information\, please feel free to contact me direct: \nEmail:          youngjazzbandit@gmail.com \nMobile:         021 143 3526 \nBest regards\,\nRODGER FOX \n\nYou might also want to check out this video about the Young Jazz Band-it Competitions: Video
URL:https://menza.co.nz/event/young-jazz-band-it/
CATEGORIES:National,Wellington
ATTACH;FMTTYPE=image/jpeg:https://menza.co.nz/wp-content/uploads/2022/01/IMG_0873.jpg
END:VEVENT
BEGIN:VEVENT
DTSTART;TZID=UTC:20220627T080000
DTEND;TZID=UTC:20220630T170000
DTSTAMP:20260423T004534
CREATED:20220612T215555Z
LAST-MODIFIED:20220612T215732Z
UID:168978-1656316800-1656608400@menza.co.nz
SUMMARY:Taonga Puoro Professional Development
DESCRIPTION:Teacher Professional Development Day/s and Performances – Taonga Puoro 27th to 30th of June 2022 \nFacilitated by Kelly Kahukiwa and Wiremu Sarich at Haititaimarangai Marae \nEmail: Christian McDonald for details: christianm@taipa.school.nz
URL:https://menza.co.nz/event/taonga-puoro-professional-development/
LOCATION:Haititaimarangai Marae\, Karikari Peninsula 0483\, 0483\, New Zealand
CATEGORIES:Auckland and Northland
ATTACH;FMTTYPE=image/jpeg:https://menza.co.nz/wp-content/uploads/2020/12/MENZA-event-Taonga-Pouro.jpg
END:VEVENT
END:VCALENDAR