BEGIN:VCALENDAR
VERSION:2.0
PRODID:-//MENZA - ECPv6.15.20//NONSGML v1.0//EN
CALSCALE:GREGORIAN
METHOD:PUBLISH
X-ORIGINAL-URL:https://menza.co.nz
X-WR-CALDESC:Events for MENZA
REFRESH-INTERVAL;VALUE=DURATION:PT1H
X-Robots-Tag:noindex
X-PUBLISHED-TTL:PT1H
BEGIN:VTIMEZONE
TZID:UTC
BEGIN:STANDARD
TZOFFSETFROM:+0000
TZOFFSETTO:+0000
TZNAME:UTC
DTSTART:20210101T000000
END:STANDARD
END:VTIMEZONE
BEGIN:VEVENT
DTSTART;TZID=UTC:20221018T193000
DTEND;TZID=UTC:20221213T210000
DTSTAMP:20260422T224058
CREATED:20220902T155543Z
LAST-MODIFIED:20220902T155900Z
UID:169382-1666121400-1670965200@menza.co.nz
SUMMARY:Developing musical literacy and musicianship skills\, with Lucinda Geoghegan Kodály Musicanship Level One and Two - Online (Learn at Home)
DESCRIPTION:A holistic\, fun\, whole body approach to developing musical literacy\, this course is for those who wish to learn to read\, write and understand music and will be especially useful for anyone without formal music training who wish to attend the Muse Kodály Summer School\, Primary One Teacher Training course. However\, it is open to anyone. \nThe course will cover: \n\nHow to read and write rhythm and melody\nUnderstanding Musical Form and Structure\nBasic Conducting Patterns\nPart Work and Musicianship\nImprovisation and Musical Play\n\nSuitable for beginners or more experienced musicians wanting to ‘back fill’ gaps\, or experienced musicians/teachers wishing to develop more fun\, holistic ways to teach. This course follows the Kodály older beginner learning sequence. \nThe Tutor \nLucinda Geoghegan graduated in music from the University of Edinburgh in 1982\, completed a postgraduate teaching qualification at Moray House College of Education and trained with the Kodály Institute of Britain where she gained an Advanced Diploma in musicianship with Distinction. She worked as a secondary music teacher in Edinburgh before deciding to specialise in Primary and Early Years Music Education. She was also member of staff with the Royal Scottish National Orchestra Junior Chorus for 16 years and was Director of the NYCOS West Lothian Choir for 8 years. \nShe is currently a theory and musicianship lecturer at the Royal Conservatoire of Scotland working in both the Senior and Junior departments and in addition since 2011 has been delivering and assessing RCS accredited modules in Kodály Philosophy to external students. She is a regular tutor\, member of the Trustees and Chair of Education for the British Kodály Academy and in 2017 Lucinda was elected as a Director on the Board of the International Kodály Society. \nLucinda is Creative Learning Director for NYCOS and her work involves Staff Development training across Britain presenting workshops on Kodály musicianship and methodology. Lucinda is a guest lecturer on the summer and yearly courses at the Kodály Institute in Kecskemét\, Hungary and in addition has delivered workshops in Ireland\, Germany\, Holland\, Singapore\, Indonesia\, Malaysia\, Thailand\, Taiwan\, Turkey\, Australia\, Canada and USA.
URL:https://menza.co.nz/event/developing-musical-literacy-and-musicianship-skills-with-lucinda-geoghegan-kodaly-musicanship-level-one-and-two-online-learn-at-home/
LOCATION:online. Click here to register: https://themuse.org.nz/staticsidebar/bookings/online-music-literacy/
CATEGORIES:National
ATTACH;FMTTYPE=image/jpeg:https://menza.co.nz/wp-content/uploads/2022/09/Lucinda-Geoghegan.jpg
END:VEVENT
BEGIN:VEVENT
DTSTART;TZID=UTC:20221201T100000
DTEND;TZID=UTC:20221201T110000
DTSTAMP:20260422T224058
CREATED:20221114T140236Z
LAST-MODIFIED:20221114T140236Z
UID:169559-1669888800-1669892400@menza.co.nz
SUMMARY:A celebration of  Christmas music  for pre-schoolers with  Julie Wylie and the musical play team
DESCRIPTION:A celebration of Christmas music for pre-schoolers with Julie Wylie and the musical play team! \nThursday December 1st\, 10am \nTransitional Cathedral\, Cnr madras and Hereford Streets \n\nNo booking is required for this free event. All welcome. Parking available in the parking building cnr Lichfieldst/Madras St \n\nEnquiries: Nicky Lee 353 7883 or 021 267 8795
URL:https://menza.co.nz/event/a-celebration-of-christmas-music-for-pre-schoolers-with-julie-wylie-and-the-musical-play-team/
LOCATION:ChristChurch Cathedral Transitional New Zealand\, 234 Hereford Street\, Christchurch\, 8011\, New Zealand
CATEGORIES:Canterbury
ATTACH;FMTTYPE=image/png:https://menza.co.nz/wp-content/uploads/2022/11/2.png
ORGANIZER;CN="Julie Wylie":MAILTO:info@juliewyliemusic.com
END:VEVENT
BEGIN:VEVENT
DTSTART;TZID=UTC:20221212T080000
DTEND;TZID=UTC:20221216T163000
DTSTAMP:20260422T224058
CREATED:20220105T073221Z
LAST-MODIFIED:20220110T153726Z
UID:168808-1670832000-1671208200@menza.co.nz
SUMMARY:2022 STUDENT and EDUCATOR JAZZ WORKSHOPS
DESCRIPTION:Coordinated by Rodger Fox\, Dave Lisik\, and Ryan Brake. \n​The National Jazz Workshops bring New Zealand’s enthusiastic jazz students together with top jazz musicians and educators\, working on instrument techniques\, improvisation\, theory\, listening and ensemble performances. Students 19 and under with at least one year of experience on an instrument\, are eligible. Registrations will be accepted for the following instruments: trumpet\, saxophone\, trombone\, piano\, bass\, guitar\, drumset\, vibraphone\, clarinet\, flute\, or voice. \nThe Jazz Workshops are held at the Victoria University of Wellington Kelburn Campus.  \nUpdates are available on the New Zealand Jazz Workshops Facebook page. Please join that page for updates and to connect with other Workshops participants. 
URL:https://menza.co.nz/event/2022-student-and-educator-jazz-workshops/
LOCATION:Victoria University of Wellington\, Kelburn Parade\, Wellington\, 6012\, New Zealand
CATEGORIES:National,Wellington
ATTACH;FMTTYPE=image/png:https://menza.co.nz/wp-content/uploads/2022/01/2022-Jazz-workshops.png
ORGANIZER;CN="NZ Jazz Foundation":MAILTO:nzjazzfoundation@gmail.com
END:VEVENT
END:VCALENDAR