BEGIN:VCALENDAR
VERSION:2.0
PRODID:-//MENZA - ECPv6.15.20//NONSGML v1.0//EN
CALSCALE:GREGORIAN
METHOD:PUBLISH
X-ORIGINAL-URL:https://menza.co.nz
X-WR-CALDESC:Events for MENZA
REFRESH-INTERVAL;VALUE=DURATION:PT1H
X-Robots-Tag:noindex
X-PUBLISHED-TTL:PT1H
BEGIN:VTIMEZONE
TZID:UTC
BEGIN:STANDARD
TZOFFSETFROM:+0000
TZOFFSETTO:+0000
TZNAME:UTC
DTSTART:20220101T000000
END:STANDARD
END:VTIMEZONE
BEGIN:VEVENT
DTSTART;TZID=UTC:20230401T140000
DTEND;TZID=UTC:20230401T160000
DTSTAMP:20260422T124117
CREATED:20230319T195033Z
LAST-MODIFIED:20230323T105242Z
UID:169734-1680357600-1680364800@menza.co.nz
SUMMARY:MEC AGM and KIWICORDER WORKSHOP
DESCRIPTION:2pm Music Education Canterbury AGM \n2:40 Afternoon tea \n3pm Workshop for the new Kiwicorder resource!! (BYO recorder!) \nAgenda \n  \nPlease RSVP here
URL:https://menza.co.nz/event/mec-agm-and-kiwicorder-workshop/
LOCATION:Chisnallwood intermediate\, 76 Breezes Road\, Christchurch\, 8061\, New Zealand
CATEGORIES:Canterbury
ATTACH;FMTTYPE=image/png:https://menza.co.nz/wp-content/uploads/2015/03/MEC-logo-1.png
END:VEVENT
BEGIN:VEVENT
DTSTART;TZID=UTC:20230420T193000
DTEND;TZID=UTC:20230420T210000
DTSTAMP:20260422T124117
CREATED:20230329T123109Z
LAST-MODIFIED:20230725T142239Z
UID:169750-1682019000-1682024400@menza.co.nz
SUMMARY:Te Ika a Māui Resource launch
DESCRIPTION:Kristin Browne introduces her fabulous new resource\, Te Ika a Māui via ZOOM. \nTe Ika a Māui is designed to be an immersive\, interactive and exploratory experience that can be developed over several or multiple lessons for children aged 2-7 years. The learning is experiential and the children will learn by doing. Te Ika a Māui features 6 short recorded songs\, in English and te reo Māori with an accompanying narrative. The songs are designed to be performed with minimal equipment although other instruments can be added. There is space for preschool and lower primary teachers to build upon the resource by creating opportunities to bring the songs out of the constructs of the narrative and become embedded into play. \nThe full resource can be downloaded here. \nClick here for the link to all the videos and tracks for this resource. \nClick here for the ZOOM powerpoint.
URL:https://menza.co.nz/event/te-ika-a-maui-resource-launch/
CATEGORIES:National
ATTACH;FMTTYPE=image/png:https://menza.co.nz/wp-content/uploads/2023/03/video-titles-10-e1680147960973.png
END:VEVENT
END:VCALENDAR