BEGIN:VCALENDAR
VERSION:2.0
PRODID:-//MENZA - ECPv6.15.20//NONSGML v1.0//EN
CALSCALE:GREGORIAN
METHOD:PUBLISH
X-WR-CALNAME:MENZA
X-ORIGINAL-URL:https://menza.co.nz
X-WR-CALDESC:Events for MENZA
REFRESH-INTERVAL;VALUE=DURATION:PT1H
X-Robots-Tag:noindex
X-PUBLISHED-TTL:PT1H
BEGIN:VTIMEZONE
TZID:UTC
BEGIN:STANDARD
TZOFFSETFROM:+0000
TZOFFSETTO:+0000
TZNAME:UTC
DTSTART:20230101T000000
END:STANDARD
END:VTIMEZONE
BEGIN:VEVENT
DTSTART;TZID=UTC:20240406T140000
DTEND;TZID=UTC:20240406T153000
DTSTAMP:20260422T030435
CREATED:20240228T153545Z
LAST-MODIFIED:20240228T153545Z
UID:170732-1712412000-1712417400@menza.co.nz
SUMMARY:MEC AGM
DESCRIPTION:We welcome you to attend Music Education’s annual brief AGM. \nIt’s a great chance to catch up with other music educators over a provided afternoon tea\, to hear updates from local music education providers and to see what MEC’s been up to. The AGM will only last around 40  minutes\, with the reminder of the time dedicated to networking and afternoon tea. \nPlease RSVP by filling in the AGM attendance form (Complete with links to the agenda and incoming reports).
URL:https://menza.co.nz/event/mec-agm-4/
LOCATION:Christchurch School of Music (CSM)\, 100 Fitzgerald Avenue\, Christchurch\, 8011\, New Zealand
CATEGORIES:Canterbury
ATTACH;FMTTYPE=image/png:https://menza.co.nz/wp-content/uploads/2015/03/MEC-logo-1.png
END:VEVENT
BEGIN:VEVENT
DTSTART;TZID=UTC:20240412T090000
DTEND;TZID=UTC:20240412T150000
DTSTAMP:20260422T030435
CREATED:20240228T053818Z
LAST-MODIFIED:20240228T053818Z
UID:170753-1712912400-1712934000@menza.co.nz
SUMMARY:Ableton Teacher PD workshop
DESCRIPTION:As part of a wider set of global events\, Ableton’s Education tour comes to Massey University in Wellington on Friday April 12 9am-3pm \nAs part of the NZ leg of this tour\, Ableton are running a day of teacher professional learning workshops  facilitated by Matt Ridgway (Ableton’s Education Specialist for Australia and New Zealand) and Martin Emo (NZ Ministry of Education). \nParticipants will: \n\nAccess Ableton Live Intro for their school for free via the Ableton for the Classroom initiative\nIdentify how using Ableton Live supports the integrations of digital technologies in their school\nExplore concrete strategies of how to engage young music-makers in their classroom\nUnderstand the ways in which music is created by digital music-makers\nLearn essential Ableton Live classroom tips and tricks from highly experienced educators\nAccess classroom resources and projects\nUnderstand how digital music-making practices link to Level 1 NCEA\n\nLocation: \nHihi (1D12)\, Block 1\, Massey University \nHihi (1D12) is a computer lab on the second floor of Block 1. \nBlock 1 is easily accessed from Entrance C on Wallace Street\, Mount Cook. \nThere’s public transport close by\, with the 3\, 18\, and 27 bus line running within 100m of the block. \nInfo on parking access TBC \nBooking: \nTickets for this event are free\, but require registration via the eventbrite link below.\n\nhttps://www.eventbrite.com/e/ableton-education-tour-professional-development-day-for-teachers-tickets-835485368227?aff=oddtdtcreator
URL:https://menza.co.nz/event/ableton-teacher-pd-workshop/
LOCATION:Massey University\, Wellington\, Wallace Street\, Wellington
CATEGORIES:Wellington
ATTACH;FMTTYPE=image/png:https://menza.co.nz/wp-content/uploads/2024/02/Ableton-Education-tour-image.png
END:VEVENT
BEGIN:VEVENT
DTSTART;TZID=UTC:20240412T180000
DTEND;TZID=UTC:20240414T123000
DTSTAMP:20260422T030435
CREATED:20240313T085456Z
LAST-MODIFIED:20240406T035129Z
UID:170879-1712944800-1713097800@menza.co.nz
SUMMARY:Tamaki Makaurau Auckland Music Education Wānanga ~ 12-14 April 2024
DESCRIPTION:                                                         Ma whero ma pango ka oti ai te mahi\n\n                      With red and black the work will be complete – its collaboration that will enable success. \nNau mai\, haere mai \nThis Music Education Wānanga will be held in Tamaki Makaurau Auckland Te Manukanuka o Hoturoa Marae from 12-14 April. Accommodation and food is included. \nKaupapa: The purpose of this wānanga is to further develop\, strengthen and embed Matauranga Māori and understanding – the who\, when\, why\, how to implement Te Ao Māori aspects into education\, to build cultural competencies\, composition and Te Tiriti Alignment. \nFacilitators: Kelly Kahukiwa – alignment with Te Tiriti\, Horomona Horo – Taonga Puoro & embedding the principles of Te Ao Māori and tikanga\, learning concepts of Tika\, Kawa & Pono (Ihi\, Wehi\, Wana)\, Wiremu Sarich – traditional Māori games\, whanaungatanga activities\, play in terms of brain development and to discern classroom energies. \nThe cost is $50 for MENZA members\, or $85 for non-MENZA members (this includes an individual membership). Please bring a koha for the Pōwhiri at 6pm on Friday 12 April. PLEASE REGISTER HERE TO BOOK YOUR PLACE.  Please also pay the fee to MENZA 38-9011-0410882-00 or ask for an invoice via admin@menza.co.nz. Thank you! \n\nLimited spaces left! Register now! \n\nFor further queries\, please contact: \nEmail: admin@menza.co.nz \n\nTravel subsidies are also available – click here to apply.\n\nPlease bring:\n\n\n\nKoha ~$20\nA compositional instrument that is valuable to you\, can be cultural\, western\, eastern\, indigenous etc.\nBlanket\, Pillow and Sheet\n\n\n\n\n\n\n\n\nHŌTAKA\n\n\nFriday \nPōwhiri 6pm \nLate Afternoon Tea \nSession 1 – Whanaungatanga – Wiremu \nBreak – Jamming & Tikanga  \nDinner – 7.30pm \nSession 2 – 8.30pm Connecting to the roots – Pepeha\, thinking Maori\, Whakapapa\, Whanaungatanga \nSplit into 3 groups Music Making – feedback \nHoro:  \nKelly:  \nWiremu:  \nNew NCEA Composition 1.4 External\nToitū te whenua \, whatungarongaro te tangata. \nMate atu he toa\, haere mai rā he toa \nTuakiritanga \nTIKA\nPONO\n\n\nSaturday\nKarakia/Tauparapara \nBreakfast-8am \nSession 3 9am- Matauranga Māori & Puoro  \nLunch 12.30pm  \nBreak – Jamming & tikanga \nSession 4 2pm – Composition & Te Ao Puoro (improvised music) \nNew NCEA – Understand Music in relation to Contexts 1.3 External \nSplit into 3 groups – feedback \nAfternoon Tea 3.30 \nSession 5 – 4.30pm Explore Barriers to Te Ao Maori \nDinner 6.30 \nBreak – Jamming and tikanga \nSession 6 8pm- Composition through storytelling – use of the Taiao \nNew NCEA – Using Music Skills in a Music Style – Internal 1.1 \nSplit into 3 groups Music Making – Feedback \nHoro:  \nKelly:  \nWiremu: \nJamming as a method of embedding learning through rhythms\, melodies\, composition \nWairuatanga\n\n\nSunday\nKarakia/Tauparapara – Oro ora \nBreakfast 8am \nSession 7 9-11am – takeaways – poroporoaki- resource development and sharing . \nCLEAN & PACK UP\nTransition through karakia\n\n\n\n  \n\n\nTravel Subsidies \n\nApplications for travel subsidies can be made here: https://forms.gle/fjot7V65Fwm1FKQo8
URL:https://menza.co.nz/event/tamaki-makaurau-auckland-music-education-wananga-12-14-april-2024-2/
CATEGORIES:Auckland and Northland,Bay of Plenty,Waikato and Bay of Plenty
ATTACH;FMTTYPE=image/jpeg:https://menza.co.nz/wp-content/uploads/2024/03/Horamona-Horo-1-scaled.jpg
END:VEVENT
END:VCALENDAR