BEGIN:VCALENDAR
VERSION:2.0
PRODID:-//MENZA - ECPv6.15.20//NONSGML v1.0//EN
CALSCALE:GREGORIAN
METHOD:PUBLISH
X-ORIGINAL-URL:https://menza.co.nz
X-WR-CALDESC:Events for MENZA
REFRESH-INTERVAL;VALUE=DURATION:PT1H
X-Robots-Tag:noindex
X-PUBLISHED-TTL:PT1H
BEGIN:VTIMEZONE
TZID:Pacific/Auckland
BEGIN:STANDARD
TZOFFSETFROM:+1300
TZOFFSETTO:+1200
TZNAME:NZST
DTSTART:20230401T140000
END:STANDARD
BEGIN:DAYLIGHT
TZOFFSETFROM:+1200
TZOFFSETTO:+1300
TZNAME:NZDT
DTSTART:20230923T140000
END:DAYLIGHT
BEGIN:STANDARD
TZOFFSETFROM:+1300
TZOFFSETTO:+1200
TZNAME:NZST
DTSTART:20240406T140000
END:STANDARD
BEGIN:DAYLIGHT
TZOFFSETFROM:+1200
TZOFFSETTO:+1300
TZNAME:NZDT
DTSTART:20240928T140000
END:DAYLIGHT
BEGIN:STANDARD
TZOFFSETFROM:+1300
TZOFFSETTO:+1200
TZNAME:NZST
DTSTART:20250405T140000
END:STANDARD
BEGIN:DAYLIGHT
TZOFFSETFROM:+1200
TZOFFSETTO:+1300
TZNAME:NZDT
DTSTART:20250927T140000
END:DAYLIGHT
END:VTIMEZONE
BEGIN:VEVENT
DTSTART;TZID=Pacific/Auckland:20240615T130000
DTEND;TZID=Pacific/Auckland:20240615T170000
DTSTAMP:20260422T054249
CREATED:20240418T215556Z
LAST-MODIFIED:20240529T110752Z
UID:171013-1718456400-1718470800@menza.co.nz
SUMMARY:He Waiata Whakataukī workshop with Sean O'Connor
DESCRIPTION:Enrich your music education\, singing and Te Reo with new songs from the wisdom of whakataukī – Māori proverbs. \nLearn round singing\, movement and instrumentation with Sean’s Waiata Whakataukī compositions – crafted for children’s voices and playability on ukulele\, guitar\, pitched percussion and orchestral instruments. \nAdd to your existing music teaching or build a whole new music programme around these songs\, resources and methods\, as creator Sean O’Connor has done in two schools. An immersive experiential workshop with detailed written and audio/video resource support during and after the workshop. \nFor all levels of musical expertise. \nSean O’Connor 2024 MEC poster
URL:https://menza.co.nz/event/he-waiata-whakatauki-workshop-with-sean-oconnor/
LOCATION:Christchurch School of Music (CSM)\, 100 Fitzgerald Avenue\, Christchurch\, 8011\, New Zealand
CATEGORIES:Canterbury
ATTACH;FMTTYPE=image/png:https://menza.co.nz/wp-content/uploads/2024/04/MEC-Sean-O-24.png
END:VEVENT
BEGIN:VEVENT
DTSTART;TZID=Pacific/Auckland:20240615T133000
DTEND;TZID=Pacific/Auckland:20240615T163000
DTSTAMP:20260422T054249
CREATED:20240520T040910Z
LAST-MODIFIED:20240607T011518Z
UID:171056-1718458200-1718469000@menza.co.nz
SUMMARY:MENZA 2024 AGM and Workshops
DESCRIPTION:1.30-2.30 Workshops \n2.30-3pm Afternoon tea \n3-4.30pm AGM \nWe would appreciate your RSVP so that we know how many people to expect and to organise the afternoon tea 🙂 \nWorkshop 1: NCEA 1.1 Use music skills in a music style Workshop \nIn this workshop\, we will unpack how to assess NCEA Music 1.1\, Use music skills in a music style\, and prepare students for the assessment. \nRSVP for workshop \nWorkshop 2: Taonga Puoro Workshop \nThis workshop will look at how to create Taonga Puoro using clay. The workshop will be facilitated by Rapua Timoti\, Trevania Walbaekken and Ben Lau. Suitable for Kaiako teaching at all levels.  \nRSVP for workshop \nAGM: Agenda \nZOOM link \n  \nProposed changes to MENZA \nDue to the Incorporated Societies Act 2022\, MENZA (Music Education New Zealand Aotearoa) has to update its Constitution. The Board has been working hard on this with the assistance of Maude and Miller and is asking the membership to adopt the new constitution at the next AGM. \nThe draft constitution was first presented to the membership at last year’s AGM\, and feedback was received. Another draft version was presented at the Special General Meeting in Oct 2023\, where more thorough feedback was sought. After consultation with the membership and advice from lawyers\, I will put forward the following motion: \nI propose that the MENZA membership adopt the new Constitution presented to the membership on the 15th of June\, 2024. \nPlease find a copy of the constitution to have a read-through. \nI would also like to propose a change to our membership fees. Unfortunately\, there are costs involved in running an organisation like MENZA. Although the board tries to seek funding from other external sources\, we also heavily rely on membership fees. The proposed changes are as follows: \nMENZA Membership Fees Review  \n\n\n\n\n\n\n\n\nMembership Type \n\n\n2023 (including GST) \n\n\n2024 (Including GST) \n\n\n\n\nIndividual \n\n\n$34.50 \n\n\n$35.00 \n\n\n\n\nStudent Teacher \n\n\n$0.00 \n\n\n$0.00 \n\n\n\n\nPre-Certified Teacher \n\n\n$0.00 \n\n\n$0.00 \n\n\n\n\nEarly Childhood / Kohanga Reo \n\n\n$34.50 \n\n\n$40.00 \n\n\n\n\nArea School \n\n\n$34.50 \n\n\n$40.00 \n\n\n\n\nPrimary / Intermediate / Kura Kaupapa \n\n\n$34.50 \n\n\n$50.00 \n\n\n\n\nSecondary / Kura Tuarua fewer than 800 \n\n\n$69.00 \n\n\n$100 \n\n\n\n\nSecondary / Kura Tuarua more than 800 \n\n\n$103.50 \n\n\n$150 \n\n\n\n\nLibrary \n\n\n$69.00 \n\n\n$100 \n\n\n\n\nInstitution – Tertiary \n\n\n$172.50 \n\n\n$150 \n\n\n\n\nBusiness \n\n\n$172.50 \n\n\n$150 \n\n\n\n\nReciprocal organisation \n\n\n$ 0.00 \n\n\n$0.00 \n\n\n\n\nDiscourse  \n\n\n\n\n\n\n\nNon-Members \n\n\n$15.00 per annum \n\n\n\n\n\n\n\n\n\n\n\nMembers \n\n\nUsers who have access to the platform \n\n\n\n\nIndividual \n\n\nSingle \n\n\n\n\nStudent Teacher \n\n\nSingle \n\n\n\n\nPre-Certified Teacher \n\n\nSingle \n\n\n\n\nEarly Childhood / Kohanga Reo \n\n\nUnlimited – with an institution email address \n\n\n\n\nArea School \n\n\nUnlimited – with an institution email address \n\n\n\n\nPrimary / Intermediate / Kura Kaupapa/ Secondary / Kura Tuarua \n\n\nUnlimited – with an institution email address \n\n\n\n\nLibrary \n\n\nTwo \n\n\n\n\nInstitution – Tertiary \n\n\nFive \n\n\n\n\nBusiness \n\n\nTwo \n\n\n\n\nReciprocal Organisation \n\n\nTwo \n\n\n\n\nAll subscriptions come with two free digital Tune Me In Magazines. MENZA will also add a processing fee for credit card payments. \nIf you have any questions regarding what is proposed with the constitution and the review of membership fees\, please do not hesitate to contact me via admin@menza.co.nz \nThere are many changes that are important to our organisation and our membership\, and attendance in person or through Zoom would be greatly appreciated. I look forward to seeing you at our AGM on June 15th\, 2024. \nWORKSHOPS 15 June 2024\, 1.30-2.30pm \nWorkshop 1: NCEA 1.1 Use music skills in a music style Workshop\nIn this workshop\, we will unpack how to assess NCEA Music 1.1\, Use music skills in a music style\, and prepare students for the assessment. \nWorkshop 2: Taonga Puoro Workshop\nThis workshop will look at how to create Taonga Puoro using clay. The workshop will be facilitated by Rapua Timoti\, Trevania Walbaekken and Ben Lau. Suitable for Kaiako teaching at all levels. \nRSVP here
URL:https://menza.co.nz/event/menza-2024-agm-and-workshops/
LOCATION:Marist College\, 31 Alberton Ave\, Auckland\, Mt Albert\, 1025\, New Zealand
CATEGORIES:Auckland and Northland,National
ATTACH;FMTTYPE=image/jpeg:https://menza.co.nz/wp-content/uploads/2023/10/MENZA-Confernce-23-image-and-logo.jpg
END:VEVENT
BEGIN:VEVENT
DTSTART;TZID=Pacific/Auckland:20240625T180000
DTEND;TZID=Pacific/Auckland:20240813T190000
DTSTAMP:20260422T054249
CREATED:20240430T232152Z
LAST-MODIFIED:20240625T205108Z
UID:171029-1719338400-1723575600@menza.co.nz
SUMMARY:MENZA NCEA Music Significant Learning Workshops: Delving into Te Ao Māori: Exploring Musical Histories and Tikanga
DESCRIPTION:Facilitators: Horomona Horo and Kelly Kahukiwa \nHosted by: MENZA and NEX \nEmbark on a more profound learning journey through a Te Ao Māori lens with Taonga Puoro practitioners Horomona Horo and Kelly Kahukiwa. This workshop offers a unique opportunity to explore the rich musical histories and tikanga (customs) inherent in Te Ao Māori. Participants will gain insight into key concepts such as ‘ihi’ (pride)\, ‘wehi’ (fear)\, and ‘wana’ (excitement) and deepen their understanding of traditional composition techniques and tikanga. Moreover\, the workshop will delve into essential Te Ao Māori concepts within Te Ao Puoro (the Māori musical world). \nThrough Zoom-facilitated kōrero\, each lasting 60 minutes\, participants will engage with two Significant Learning Areas (SLAs) per session. The overarching aim is to provide a comprehensive exploration of Te Ao Māori perspectives within the realm of music\, fostering understanding and appreciation among participants. \nClick here for the MIRO board with all the notes (updated each time) \nWorkshop 1: Tuesday 7th May\, 6pm. Recorded Session \n\nExplore the musical histories of their whakapapa – Pepeha\, Themed\, National/Tribe/Cultural Significance. *Taonga Puoro history\, birth of kapa haka\, whalers.\nExperience how music can communicate stories\, knowledges\, and ideas   \n\nWorkshop 2: Tuesday 14th May\, 6pm. Recorded Session \n\nExplore how identity can be expressed through music   \nUnderstand how music is a waka to explore diverse worldviews   \n\nWorkshop 3: Tuesday 21st May\, 6pm. Recorded Session \n\nUnderstand how diverse contexts inform creative musical output  \nDevelop an understanding of how music from te ao Māori is guided by tikanga  \n\nWorkshop 4: Tuesday 28th May\, 6pm. Recorded Session \n\nDevelop insights into how te ao Māori concepts such as ihi\, wehi\, and wana are experienced in Māori music contexts \nConsider how ihi\, wehi\, and wana may relate to personal music making \n\nWorkshop 5: Tuesday 4th June\, 6pm. Recorded Session \n\nExplore how music styles from different contexts are expressed in unique ways through combining and shaping music concepts  \nExperiment with music tools and concepts when composing or performing music\, for intended effects \n\nWorkshop 6: Tuesday 11th June\, 6pm. Recorded Session \n\nEngage in different ways of creating original music \nPractise aural skills and develop listening repertoire  \n\nWorkshop 7: Tuesday 18th June\, 6pm. Record Resource \n\nExplore technological skills for music-making   \nStrengthen instrumental or vocal skills through reflection\, practice\, and dedication \n\nWorkshop 8: Tuesday 25th June\, 6pm. Recorded Resource \n\nEngage in creating and performing music within a range of contexts and settings\nExplore visual representation styles and aural systems to preserve or pass music on.\n\nIf you accessed this series of wānanga in any way\, either online at the Zoom calls or watching it afterwards. We would greatly appreciate it if you completed the feedback form below. Feedback Form
URL:https://menza.co.nz/event/menza-ncea-music-significant-learning-workshops-delving-into-te-ao-maori-exploring-musical-histories-and-tikanga/
CATEGORIES:National
ATTACH;FMTTYPE=image/png:https://menza.co.nz/wp-content/uploads/2022/05/MENZA-Resource-template-e1659865718433.png
END:VEVENT
END:VCALENDAR