BEGIN:VCALENDAR
VERSION:2.0
PRODID:-//MENZA - ECPv6.15.20//NONSGML v1.0//EN
CALSCALE:GREGORIAN
METHOD:PUBLISH
X-WR-CALNAME:MENZA
X-ORIGINAL-URL:https://menza.co.nz
X-WR-CALDESC:Events for MENZA
REFRESH-INTERVAL;VALUE=DURATION:PT1H
X-Robots-Tag:noindex
X-PUBLISHED-TTL:PT1H
BEGIN:VTIMEZONE
TZID:Pacific/Auckland
BEGIN:STANDARD
TZOFFSETFROM:+1300
TZOFFSETTO:+1200
TZNAME:NZST
DTSTART:20230401T140000
END:STANDARD
BEGIN:DAYLIGHT
TZOFFSETFROM:+1200
TZOFFSETTO:+1300
TZNAME:NZDT
DTSTART:20230923T140000
END:DAYLIGHT
BEGIN:STANDARD
TZOFFSETFROM:+1300
TZOFFSETTO:+1200
TZNAME:NZST
DTSTART:20240406T140000
END:STANDARD
BEGIN:DAYLIGHT
TZOFFSETFROM:+1200
TZOFFSETTO:+1300
TZNAME:NZDT
DTSTART:20240928T140000
END:DAYLIGHT
BEGIN:STANDARD
TZOFFSETFROM:+1300
TZOFFSETTO:+1200
TZNAME:NZST
DTSTART:20250405T140000
END:STANDARD
BEGIN:DAYLIGHT
TZOFFSETFROM:+1200
TZOFFSETTO:+1300
TZNAME:NZDT
DTSTART:20250927T140000
END:DAYLIGHT
END:VTIMEZONE
BEGIN:VTIMEZONE
TZID:UTC
BEGIN:STANDARD
TZOFFSETFROM:+0000
TZOFFSETTO:+0000
TZNAME:UTC
DTSTART:20230101T000000
END:STANDARD
END:VTIMEZONE
BEGIN:VEVENT
DTSTART;TZID=Pacific/Auckland:20240625T180000
DTEND;TZID=Pacific/Auckland:20240813T190000
DTSTAMP:20260422T095121
CREATED:20240430T232152Z
LAST-MODIFIED:20240625T205108Z
UID:171029-1719338400-1723575600@menza.co.nz
SUMMARY:MENZA NCEA Music Significant Learning Workshops: Delving into Te Ao Māori: Exploring Musical Histories and Tikanga
DESCRIPTION:Facilitators: Horomona Horo and Kelly Kahukiwa \nHosted by: MENZA and NEX \nEmbark on a more profound learning journey through a Te Ao Māori lens with Taonga Puoro practitioners Horomona Horo and Kelly Kahukiwa. This workshop offers a unique opportunity to explore the rich musical histories and tikanga (customs) inherent in Te Ao Māori. Participants will gain insight into key concepts such as ‘ihi’ (pride)\, ‘wehi’ (fear)\, and ‘wana’ (excitement) and deepen their understanding of traditional composition techniques and tikanga. Moreover\, the workshop will delve into essential Te Ao Māori concepts within Te Ao Puoro (the Māori musical world). \nThrough Zoom-facilitated kōrero\, each lasting 60 minutes\, participants will engage with two Significant Learning Areas (SLAs) per session. The overarching aim is to provide a comprehensive exploration of Te Ao Māori perspectives within the realm of music\, fostering understanding and appreciation among participants. \nClick here for the MIRO board with all the notes (updated each time) \nWorkshop 1: Tuesday 7th May\, 6pm. Recorded Session \n\nExplore the musical histories of their whakapapa – Pepeha\, Themed\, National/Tribe/Cultural Significance. *Taonga Puoro history\, birth of kapa haka\, whalers.\nExperience how music can communicate stories\, knowledges\, and ideas   \n\nWorkshop 2: Tuesday 14th May\, 6pm. Recorded Session \n\nExplore how identity can be expressed through music   \nUnderstand how music is a waka to explore diverse worldviews   \n\nWorkshop 3: Tuesday 21st May\, 6pm. Recorded Session \n\nUnderstand how diverse contexts inform creative musical output  \nDevelop an understanding of how music from te ao Māori is guided by tikanga  \n\nWorkshop 4: Tuesday 28th May\, 6pm. Recorded Session \n\nDevelop insights into how te ao Māori concepts such as ihi\, wehi\, and wana are experienced in Māori music contexts \nConsider how ihi\, wehi\, and wana may relate to personal music making \n\nWorkshop 5: Tuesday 4th June\, 6pm. Recorded Session \n\nExplore how music styles from different contexts are expressed in unique ways through combining and shaping music concepts  \nExperiment with music tools and concepts when composing or performing music\, for intended effects \n\nWorkshop 6: Tuesday 11th June\, 6pm. Recorded Session \n\nEngage in different ways of creating original music \nPractise aural skills and develop listening repertoire  \n\nWorkshop 7: Tuesday 18th June\, 6pm. Record Resource \n\nExplore technological skills for music-making   \nStrengthen instrumental or vocal skills through reflection\, practice\, and dedication \n\nWorkshop 8: Tuesday 25th June\, 6pm. Recorded Resource \n\nEngage in creating and performing music within a range of contexts and settings\nExplore visual representation styles and aural systems to preserve or pass music on.\n\nIf you accessed this series of wānanga in any way\, either online at the Zoom calls or watching it afterwards. We would greatly appreciate it if you completed the feedback form below. Feedback Form
URL:https://menza.co.nz/event/menza-ncea-music-significant-learning-workshops-delving-into-te-ao-maori-exploring-musical-histories-and-tikanga/
CATEGORIES:National
ATTACH;FMTTYPE=image/png:https://menza.co.nz/wp-content/uploads/2022/05/MENZA-Resource-template-e1659865718433.png
END:VEVENT
BEGIN:VEVENT
DTSTART;VALUE=DATE:20240815
DTEND;VALUE=DATE:20240816
DTSTAMP:20260422T095121
CREATED:20240202T151107Z
LAST-MODIFIED:20240422T081359Z
UID:170592-1723680000-1723766399@menza.co.nz
SUMMARY:Strum Strike and Blow 2024
DESCRIPTION:  \nStrum Strike and Blow \nThursday August 15th\, 2024 \nStrum\, Strike and Blow is an exciting amalgamation of the ChCh Marimba Festival and ChCh Uke Fest which will feature over 1\,200  students playing marimbas\, ukuleles and recorders.  The Festival is run by Music Education Canterbury and Christchurch Civic Music Council and is in its 12th (and 11th Festival) year and is held in the Wolfbrook Arena (formerly Christchurch Arena). \nOnce schools have registered they are given access to the music which will generally involve 5 individual pieces for ukuleles\, recorders and marimba and a massed item for all three groups of instruments. \nThe music caters for all levels of experience and when performed live at the festival event\, is backed by a professional band. \nWe run workshops for teachers and have plenty of rehearsal material available. \nWe have a full rehearsal on the day between 9:30am-1:15pm at the arena for all participating schools with the accompanying band. \nSchools will have the opportunity to perform together in a 75 minute family-friendly concert on August 15th 2024 from 7pm-8:15pm. \nSchools can register for this festival through the registration page (click here).
URL:https://menza.co.nz/event/strum-strike-and-blow-2024/
LOCATION:Wolfbrook Arena\, 55 Jack Hinton Drive\, Addington\, Christchurch\, 8042\, New Zealand
CATEGORIES:Canterbury
ATTACH;FMTTYPE=image/jpeg:https://menza.co.nz/wp-content/uploads/2024/02/SSB-Logo-2024-with-year-jpg.jpg
END:VEVENT
END:VCALENDAR